BEGIN:VCALENDAR
VERSION:2.0
PRODID:-//Gigantium - ECPv6.15.16.1//NONSGML v1.0//EN
CALSCALE:GREGORIAN
METHOD:PUBLISH
X-ORIGINAL-URL:https://gigantium.dk
X-WR-CALDESC:Begivenheder for Gigantium
REFRESH-INTERVAL;VALUE=DURATION:PT1H
X-Robots-Tag:noindex
X-PUBLISHED-TTL:PT1H
BEGIN:VTIMEZONE
TZID:Europe/Copenhagen
BEGIN:DAYLIGHT
TZOFFSETFROM:+0100
TZOFFSETTO:+0200
TZNAME:CEST
DTSTART:20270328T010000
END:DAYLIGHT
BEGIN:STANDARD
TZOFFSETFROM:+0200
TZOFFSETTO:+0100
TZNAME:CET
DTSTART:20271031T010000
END:STANDARD
BEGIN:DAYLIGHT
TZOFFSETFROM:+0100
TZOFFSETTO:+0200
TZNAME:CEST
DTSTART:20280326T010000
END:DAYLIGHT
BEGIN:STANDARD
TZOFFSETFROM:+0200
TZOFFSETTO:+0100
TZNAME:CET
DTSTART:20281029T010000
END:STANDARD
BEGIN:DAYLIGHT
TZOFFSETFROM:+0100
TZOFFSETTO:+0200
TZNAME:CEST
DTSTART:20290325T010000
END:DAYLIGHT
BEGIN:STANDARD
TZOFFSETFROM:+0200
TZOFFSETTO:+0100
TZNAME:CET
DTSTART:20291028T010000
END:STANDARD
END:VTIMEZONE
BEGIN:VEVENT
DTSTART;TZID=Europe/Copenhagen:20280407T081000
DTEND;TZID=Europe/Copenhagen:20280407T085500
DTSTAMP:20260420T015527
CREATED:20251003T093032Z
LAST-MODIFIED:20260330T120830Z
UID:10015752-1838707800-1838710500@gigantium.dk
SUMMARY:Aquafit
DESCRIPTION:På dette hold får du sjov og effektiv motion\, som giver stærkere muskler\, bedre balance og en forbedret kondition. Der vil på holdet være et øget fokus på træning af lår\, mave\, ryg og bækkenbund.\nTræningen foregår i springbassinet\, og du vil blive iført et svømmebælte\, som støtter din ryg og sikre stabilitet i vandet. Under træningen indgår der forskellige træningsredskaber\, som bliver stillet til rådighed af instruktøren.\n\nHoldet afvikles hver fredag kl. 08.10-08.55.
URL:https://gigantium.dk/event/aquafit-4/2028-04-07/
LOCATION:Denmark
CATEGORIES:Svømmehal
END:VEVENT
BEGIN:VEVENT
DTSTART;TZID=Europe/Copenhagen:20280414T081000
DTEND;TZID=Europe/Copenhagen:20280414T085500
DTSTAMP:20260420T015527
CREATED:20251003T093032Z
LAST-MODIFIED:20260330T120830Z
UID:10015753-1839312600-1839315300@gigantium.dk
SUMMARY:Aquafit
DESCRIPTION:På dette hold får du sjov og effektiv motion\, som giver stærkere muskler\, bedre balance og en forbedret kondition. Der vil på holdet være et øget fokus på træning af lår\, mave\, ryg og bækkenbund.\nTræningen foregår i springbassinet\, og du vil blive iført et svømmebælte\, som støtter din ryg og sikre stabilitet i vandet. Under træningen indgår der forskellige træningsredskaber\, som bliver stillet til rådighed af instruktøren.\n\nHoldet afvikles hver fredag kl. 08.10-08.55.
URL:https://gigantium.dk/event/aquafit-4/2028-04-14/
LOCATION:Denmark
CATEGORIES:Svømmehal
END:VEVENT
BEGIN:VEVENT
DTSTART;TZID=Europe/Copenhagen:20280421T081000
DTEND;TZID=Europe/Copenhagen:20280421T085500
DTSTAMP:20260420T015527
CREATED:20251003T093032Z
LAST-MODIFIED:20260330T120830Z
UID:10015754-1839917400-1839920100@gigantium.dk
SUMMARY:Aquafit
DESCRIPTION:På dette hold får du sjov og effektiv motion\, som giver stærkere muskler\, bedre balance og en forbedret kondition. Der vil på holdet være et øget fokus på træning af lår\, mave\, ryg og bækkenbund.\nTræningen foregår i springbassinet\, og du vil blive iført et svømmebælte\, som støtter din ryg og sikre stabilitet i vandet. Under træningen indgår der forskellige træningsredskaber\, som bliver stillet til rådighed af instruktøren.\n\nHoldet afvikles hver fredag kl. 08.10-08.55.
URL:https://gigantium.dk/event/aquafit-4/2028-04-21/
LOCATION:Denmark
CATEGORIES:Svømmehal
END:VEVENT
BEGIN:VEVENT
DTSTART;TZID=Europe/Copenhagen:20280428T081000
DTEND;TZID=Europe/Copenhagen:20280428T085500
DTSTAMP:20260420T015527
CREATED:20251003T093032Z
LAST-MODIFIED:20260330T120830Z
UID:10015755-1840522200-1840524900@gigantium.dk
SUMMARY:Aquafit
DESCRIPTION:På dette hold får du sjov og effektiv motion\, som giver stærkere muskler\, bedre balance og en forbedret kondition. Der vil på holdet være et øget fokus på træning af lår\, mave\, ryg og bækkenbund.\nTræningen foregår i springbassinet\, og du vil blive iført et svømmebælte\, som støtter din ryg og sikre stabilitet i vandet. Under træningen indgår der forskellige træningsredskaber\, som bliver stillet til rådighed af instruktøren.\n\nHoldet afvikles hver fredag kl. 08.10-08.55.
URL:https://gigantium.dk/event/aquafit-4/2028-04-28/
LOCATION:Denmark
CATEGORIES:Svømmehal
END:VEVENT
END:VCALENDAR