BEGIN:VCALENDAR
VERSION:2.0
PRODID:-//Gigantium - ECPv6.15.16.1//NONSGML v1.0//EN
CALSCALE:GREGORIAN
METHOD:PUBLISH
X-ORIGINAL-URL:https://gigantium.dk
X-WR-CALDESC:Begivenheder for Gigantium
REFRESH-INTERVAL;VALUE=DURATION:PT1H
X-Robots-Tag:noindex
X-PUBLISHED-TTL:PT1H
BEGIN:VTIMEZONE
TZID:Europe/Copenhagen
BEGIN:DAYLIGHT
TZOFFSETFROM:+0100
TZOFFSETTO:+0200
TZNAME:CEST
DTSTART:20300331T010000
END:DAYLIGHT
BEGIN:STANDARD
TZOFFSETFROM:+0200
TZOFFSETTO:+0100
TZNAME:CET
DTSTART:20301027T010000
END:STANDARD
BEGIN:DAYLIGHT
TZOFFSETFROM:+0100
TZOFFSETTO:+0200
TZNAME:CEST
DTSTART:20310330T010000
END:DAYLIGHT
BEGIN:STANDARD
TZOFFSETFROM:+0200
TZOFFSETTO:+0100
TZNAME:CET
DTSTART:20311026T010000
END:STANDARD
BEGIN:DAYLIGHT
TZOFFSETFROM:+0100
TZOFFSETTO:+0200
TZNAME:CEST
DTSTART:20320328T010000
END:DAYLIGHT
BEGIN:STANDARD
TZOFFSETFROM:+0200
TZOFFSETTO:+0100
TZNAME:CET
DTSTART:20321031T010000
END:STANDARD
END:VTIMEZONE
BEGIN:VEVENT
DTSTART;TZID=Europe/Copenhagen:20310307T081000
DTEND;TZID=Europe/Copenhagen:20310307T085500
DTSTAMP:20260424T013348
CREATED:20251003T093032Z
LAST-MODIFIED:20260330T120830Z
UID:10024477-1930637400-1930640100@gigantium.dk
SUMMARY:Aquafit
DESCRIPTION:På dette hold får du sjov og effektiv motion\, som giver stærkere muskler\, bedre balance og en forbedret kondition. Der vil på holdet være et øget fokus på træning af lår\, mave\, ryg og bækkenbund.\nTræningen foregår i springbassinet\, og du vil blive iført et svømmebælte\, som støtter din ryg og sikre stabilitet i vandet. Under træningen indgår der forskellige træningsredskaber\, som bliver stillet til rådighed af instruktøren.\n\nHoldet afvikles hver fredag kl. 08.10-08.55.
URL:https://gigantium.dk/event/aquafit-4/2031-03-07/
LOCATION:Denmark
CATEGORIES:Svømmehal
END:VEVENT
BEGIN:VEVENT
DTSTART;TZID=Europe/Copenhagen:20310314T081000
DTEND;TZID=Europe/Copenhagen:20310314T085500
DTSTAMP:20260424T013348
CREATED:20251003T093032Z
LAST-MODIFIED:20260330T120830Z
UID:10024478-1931242200-1931244900@gigantium.dk
SUMMARY:Aquafit
DESCRIPTION:På dette hold får du sjov og effektiv motion\, som giver stærkere muskler\, bedre balance og en forbedret kondition. Der vil på holdet være et øget fokus på træning af lår\, mave\, ryg og bækkenbund.\nTræningen foregår i springbassinet\, og du vil blive iført et svømmebælte\, som støtter din ryg og sikre stabilitet i vandet. Under træningen indgår der forskellige træningsredskaber\, som bliver stillet til rådighed af instruktøren.\n\nHoldet afvikles hver fredag kl. 08.10-08.55.
URL:https://gigantium.dk/event/aquafit-4/2031-03-14/
LOCATION:Denmark
CATEGORIES:Svømmehal
END:VEVENT
BEGIN:VEVENT
DTSTART;TZID=Europe/Copenhagen:20310321T081000
DTEND;TZID=Europe/Copenhagen:20310321T085500
DTSTAMP:20260424T013348
CREATED:20251003T093032Z
LAST-MODIFIED:20260330T120830Z
UID:10024479-1931847000-1931849700@gigantium.dk
SUMMARY:Aquafit
DESCRIPTION:På dette hold får du sjov og effektiv motion\, som giver stærkere muskler\, bedre balance og en forbedret kondition. Der vil på holdet være et øget fokus på træning af lår\, mave\, ryg og bækkenbund.\nTræningen foregår i springbassinet\, og du vil blive iført et svømmebælte\, som støtter din ryg og sikre stabilitet i vandet. Under træningen indgår der forskellige træningsredskaber\, som bliver stillet til rådighed af instruktøren.\n\nHoldet afvikles hver fredag kl. 08.10-08.55.
URL:https://gigantium.dk/event/aquafit-4/2031-03-21/
LOCATION:Denmark
CATEGORIES:Svømmehal
END:VEVENT
BEGIN:VEVENT
DTSTART;TZID=Europe/Copenhagen:20310328T081000
DTEND;TZID=Europe/Copenhagen:20310328T085500
DTSTAMP:20260424T013348
CREATED:20251003T093032Z
LAST-MODIFIED:20260330T120830Z
UID:10024480-1932451800-1932454500@gigantium.dk
SUMMARY:Aquafit
DESCRIPTION:På dette hold får du sjov og effektiv motion\, som giver stærkere muskler\, bedre balance og en forbedret kondition. Der vil på holdet være et øget fokus på træning af lår\, mave\, ryg og bækkenbund.\nTræningen foregår i springbassinet\, og du vil blive iført et svømmebælte\, som støtter din ryg og sikre stabilitet i vandet. Under træningen indgår der forskellige træningsredskaber\, som bliver stillet til rådighed af instruktøren.\n\nHoldet afvikles hver fredag kl. 08.10-08.55.
URL:https://gigantium.dk/event/aquafit-4/2031-03-28/
LOCATION:Denmark
CATEGORIES:Svømmehal
END:VEVENT
END:VCALENDAR