BEGIN:VCALENDAR
VERSION:2.0
PRODID:-//Gigantium - ECPv6.15.16.1//NONSGML v1.0//EN
CALSCALE:GREGORIAN
METHOD:PUBLISH
X-WR-CALNAME:Gigantium
X-ORIGINAL-URL:https://gigantium.dk
X-WR-CALDESC:Begivenheder for Gigantium
REFRESH-INTERVAL;VALUE=DURATION:PT1H
X-Robots-Tag:noindex
X-PUBLISHED-TTL:PT1H
BEGIN:VTIMEZONE
TZID:Europe/Copenhagen
BEGIN:DAYLIGHT
TZOFFSETFROM:+0100
TZOFFSETTO:+0200
TZNAME:CEST
DTSTART:20280326T010000
END:DAYLIGHT
BEGIN:STANDARD
TZOFFSETFROM:+0200
TZOFFSETTO:+0100
TZNAME:CET
DTSTART:20281029T010000
END:STANDARD
BEGIN:DAYLIGHT
TZOFFSETFROM:+0100
TZOFFSETTO:+0200
TZNAME:CEST
DTSTART:20290325T010000
END:DAYLIGHT
BEGIN:STANDARD
TZOFFSETFROM:+0200
TZOFFSETTO:+0100
TZNAME:CET
DTSTART:20291028T010000
END:STANDARD
BEGIN:DAYLIGHT
TZOFFSETFROM:+0100
TZOFFSETTO:+0200
TZNAME:CEST
DTSTART:20300331T010000
END:DAYLIGHT
BEGIN:STANDARD
TZOFFSETFROM:+0200
TZOFFSETTO:+0100
TZNAME:CET
DTSTART:20301027T010000
END:STANDARD
END:VTIMEZONE
BEGIN:VEVENT
DTSTART;TZID=Europe/Copenhagen:20290702T070000
DTEND;TZID=Europe/Copenhagen:20290702T071200
DTSTAMP:20260423T090100
CREATED:20251001T073341Z
LAST-MODIFIED:20260330T120446Z
UID:10005340-1877670000-1877670720@gigantium.dk
SUMMARY:Saunagus
DESCRIPTION:Til saunagus hælder vores gusmester vand blandet med forskellige æteriske olier på stene i saunaovnen. På denne måde opstår en velduftende damp\, som bærer aromaerne af olierne. For at disse dampe kommer ud til alle deltagerne i rummet\, så svinger vores gusmester et håndklæde eller en vifte rundt. De forskellige olier og temperaturer\, som du bliver præsenteret for i løbet af sessionen\, har forskellige gavnlige effekter for kroppen. Alt dette vil vores gusmester fortælle mere om i løbet af guset.   \nVi afvikler saunagus hver anden time i vores åbningstid. Det koster ikke noget at deltage.  \nRetningslinjer for saunagus:   \n\nDu skal være klar ved saunaen fem minutter før start.\n\n\nDu skal sørge for at drikke rigeligt vand før og efter saunagus.\n\n\nHvis du skal i bassinerne efterfølgende\, så skal du skylle kroppen inden.\n\n\nDu skal have eget håndklæde med til at sidde på i vores saunaer.\n\n*Du bør ikke deltage i saunagus\, hvis du er gravid\, har epilepsi\, hjerteproblemer eller duft- og parfumeallergi.  \n 
URL:https://gigantium.dk/event/saunagus-2/2029-07-02/
LOCATION:Denmark
CATEGORIES:Svømmehal
END:VEVENT
BEGIN:VEVENT
DTSTART;TZID=Europe/Copenhagen:20290703T070000
DTEND;TZID=Europe/Copenhagen:20290703T071200
DTSTAMP:20260423T090100
CREATED:20251001T073341Z
LAST-MODIFIED:20260330T120446Z
UID:10005341-1877756400-1877757120@gigantium.dk
SUMMARY:Saunagus
DESCRIPTION:Til saunagus hælder vores gusmester vand blandet med forskellige æteriske olier på stene i saunaovnen. På denne måde opstår en velduftende damp\, som bærer aromaerne af olierne. For at disse dampe kommer ud til alle deltagerne i rummet\, så svinger vores gusmester et håndklæde eller en vifte rundt. De forskellige olier og temperaturer\, som du bliver præsenteret for i løbet af sessionen\, har forskellige gavnlige effekter for kroppen. Alt dette vil vores gusmester fortælle mere om i løbet af guset.   \nVi afvikler saunagus hver anden time i vores åbningstid. Det koster ikke noget at deltage.  \nRetningslinjer for saunagus:   \n\nDu skal være klar ved saunaen fem minutter før start.\n\n\nDu skal sørge for at drikke rigeligt vand før og efter saunagus.\n\n\nHvis du skal i bassinerne efterfølgende\, så skal du skylle kroppen inden.\n\n\nDu skal have eget håndklæde med til at sidde på i vores saunaer.\n\n*Du bør ikke deltage i saunagus\, hvis du er gravid\, har epilepsi\, hjerteproblemer eller duft- og parfumeallergi.  \n 
URL:https://gigantium.dk/event/saunagus-2/2029-07-03/
LOCATION:Denmark
CATEGORIES:Svømmehal
END:VEVENT
BEGIN:VEVENT
DTSTART;TZID=Europe/Copenhagen:20290704T070000
DTEND;TZID=Europe/Copenhagen:20290704T071200
DTSTAMP:20260423T090100
CREATED:20251001T073341Z
LAST-MODIFIED:20260330T120446Z
UID:10005342-1877842800-1877843520@gigantium.dk
SUMMARY:Saunagus
DESCRIPTION:Til saunagus hælder vores gusmester vand blandet med forskellige æteriske olier på stene i saunaovnen. På denne måde opstår en velduftende damp\, som bærer aromaerne af olierne. For at disse dampe kommer ud til alle deltagerne i rummet\, så svinger vores gusmester et håndklæde eller en vifte rundt. De forskellige olier og temperaturer\, som du bliver præsenteret for i løbet af sessionen\, har forskellige gavnlige effekter for kroppen. Alt dette vil vores gusmester fortælle mere om i løbet af guset.   \nVi afvikler saunagus hver anden time i vores åbningstid. Det koster ikke noget at deltage.  \nRetningslinjer for saunagus:   \n\nDu skal være klar ved saunaen fem minutter før start.\n\n\nDu skal sørge for at drikke rigeligt vand før og efter saunagus.\n\n\nHvis du skal i bassinerne efterfølgende\, så skal du skylle kroppen inden.\n\n\nDu skal have eget håndklæde med til at sidde på i vores saunaer.\n\n*Du bør ikke deltage i saunagus\, hvis du er gravid\, har epilepsi\, hjerteproblemer eller duft- og parfumeallergi.  \n 
URL:https://gigantium.dk/event/saunagus-2/2029-07-04/
LOCATION:Denmark
CATEGORIES:Svømmehal
END:VEVENT
BEGIN:VEVENT
DTSTART;TZID=Europe/Copenhagen:20290705T070000
DTEND;TZID=Europe/Copenhagen:20290705T071200
DTSTAMP:20260423T090100
CREATED:20251001T073341Z
LAST-MODIFIED:20260330T120446Z
UID:10005343-1877929200-1877929920@gigantium.dk
SUMMARY:Saunagus
DESCRIPTION:Til saunagus hælder vores gusmester vand blandet med forskellige æteriske olier på stene i saunaovnen. På denne måde opstår en velduftende damp\, som bærer aromaerne af olierne. For at disse dampe kommer ud til alle deltagerne i rummet\, så svinger vores gusmester et håndklæde eller en vifte rundt. De forskellige olier og temperaturer\, som du bliver præsenteret for i løbet af sessionen\, har forskellige gavnlige effekter for kroppen. Alt dette vil vores gusmester fortælle mere om i løbet af guset.   \nVi afvikler saunagus hver anden time i vores åbningstid. Det koster ikke noget at deltage.  \nRetningslinjer for saunagus:   \n\nDu skal være klar ved saunaen fem minutter før start.\n\n\nDu skal sørge for at drikke rigeligt vand før og efter saunagus.\n\n\nHvis du skal i bassinerne efterfølgende\, så skal du skylle kroppen inden.\n\n\nDu skal have eget håndklæde med til at sidde på i vores saunaer.\n\n*Du bør ikke deltage i saunagus\, hvis du er gravid\, har epilepsi\, hjerteproblemer eller duft- og parfumeallergi.  \n 
URL:https://gigantium.dk/event/saunagus-2/2029-07-05/
LOCATION:Denmark
CATEGORIES:Svømmehal
END:VEVENT
BEGIN:VEVENT
DTSTART;TZID=Europe/Copenhagen:20290709T070000
DTEND;TZID=Europe/Copenhagen:20290709T071200
DTSTAMP:20260423T090100
CREATED:20251001T073341Z
LAST-MODIFIED:20260330T120446Z
UID:10005344-1878274800-1878275520@gigantium.dk
SUMMARY:Saunagus
DESCRIPTION:Til saunagus hælder vores gusmester vand blandet med forskellige æteriske olier på stene i saunaovnen. På denne måde opstår en velduftende damp\, som bærer aromaerne af olierne. For at disse dampe kommer ud til alle deltagerne i rummet\, så svinger vores gusmester et håndklæde eller en vifte rundt. De forskellige olier og temperaturer\, som du bliver præsenteret for i løbet af sessionen\, har forskellige gavnlige effekter for kroppen. Alt dette vil vores gusmester fortælle mere om i løbet af guset.   \nVi afvikler saunagus hver anden time i vores åbningstid. Det koster ikke noget at deltage.  \nRetningslinjer for saunagus:   \n\nDu skal være klar ved saunaen fem minutter før start.\n\n\nDu skal sørge for at drikke rigeligt vand før og efter saunagus.\n\n\nHvis du skal i bassinerne efterfølgende\, så skal du skylle kroppen inden.\n\n\nDu skal have eget håndklæde med til at sidde på i vores saunaer.\n\n*Du bør ikke deltage i saunagus\, hvis du er gravid\, har epilepsi\, hjerteproblemer eller duft- og parfumeallergi.  \n 
URL:https://gigantium.dk/event/saunagus-2/2029-07-09/
LOCATION:Denmark
CATEGORIES:Svømmehal
END:VEVENT
BEGIN:VEVENT
DTSTART;TZID=Europe/Copenhagen:20290710T070000
DTEND;TZID=Europe/Copenhagen:20290710T071200
DTSTAMP:20260423T090100
CREATED:20251001T073341Z
LAST-MODIFIED:20260330T120446Z
UID:10005345-1878361200-1878361920@gigantium.dk
SUMMARY:Saunagus
DESCRIPTION:Til saunagus hælder vores gusmester vand blandet med forskellige æteriske olier på stene i saunaovnen. På denne måde opstår en velduftende damp\, som bærer aromaerne af olierne. For at disse dampe kommer ud til alle deltagerne i rummet\, så svinger vores gusmester et håndklæde eller en vifte rundt. De forskellige olier og temperaturer\, som du bliver præsenteret for i løbet af sessionen\, har forskellige gavnlige effekter for kroppen. Alt dette vil vores gusmester fortælle mere om i løbet af guset.   \nVi afvikler saunagus hver anden time i vores åbningstid. Det koster ikke noget at deltage.  \nRetningslinjer for saunagus:   \n\nDu skal være klar ved saunaen fem minutter før start.\n\n\nDu skal sørge for at drikke rigeligt vand før og efter saunagus.\n\n\nHvis du skal i bassinerne efterfølgende\, så skal du skylle kroppen inden.\n\n\nDu skal have eget håndklæde med til at sidde på i vores saunaer.\n\n*Du bør ikke deltage i saunagus\, hvis du er gravid\, har epilepsi\, hjerteproblemer eller duft- og parfumeallergi.  \n 
URL:https://gigantium.dk/event/saunagus-2/2029-07-10/
LOCATION:Denmark
CATEGORIES:Svømmehal
END:VEVENT
BEGIN:VEVENT
DTSTART;TZID=Europe/Copenhagen:20290711T070000
DTEND;TZID=Europe/Copenhagen:20290711T071200
DTSTAMP:20260423T090100
CREATED:20251001T073341Z
LAST-MODIFIED:20260330T120446Z
UID:10005346-1878447600-1878448320@gigantium.dk
SUMMARY:Saunagus
DESCRIPTION:Til saunagus hælder vores gusmester vand blandet med forskellige æteriske olier på stene i saunaovnen. På denne måde opstår en velduftende damp\, som bærer aromaerne af olierne. For at disse dampe kommer ud til alle deltagerne i rummet\, så svinger vores gusmester et håndklæde eller en vifte rundt. De forskellige olier og temperaturer\, som du bliver præsenteret for i løbet af sessionen\, har forskellige gavnlige effekter for kroppen. Alt dette vil vores gusmester fortælle mere om i løbet af guset.   \nVi afvikler saunagus hver anden time i vores åbningstid. Det koster ikke noget at deltage.  \nRetningslinjer for saunagus:   \n\nDu skal være klar ved saunaen fem minutter før start.\n\n\nDu skal sørge for at drikke rigeligt vand før og efter saunagus.\n\n\nHvis du skal i bassinerne efterfølgende\, så skal du skylle kroppen inden.\n\n\nDu skal have eget håndklæde med til at sidde på i vores saunaer.\n\n*Du bør ikke deltage i saunagus\, hvis du er gravid\, har epilepsi\, hjerteproblemer eller duft- og parfumeallergi.  \n 
URL:https://gigantium.dk/event/saunagus-2/2029-07-11/
LOCATION:Denmark
CATEGORIES:Svømmehal
END:VEVENT
BEGIN:VEVENT
DTSTART;TZID=Europe/Copenhagen:20290712T070000
DTEND;TZID=Europe/Copenhagen:20290712T071200
DTSTAMP:20260423T090100
CREATED:20251001T073341Z
LAST-MODIFIED:20260330T120446Z
UID:10005347-1878534000-1878534720@gigantium.dk
SUMMARY:Saunagus
DESCRIPTION:Til saunagus hælder vores gusmester vand blandet med forskellige æteriske olier på stene i saunaovnen. På denne måde opstår en velduftende damp\, som bærer aromaerne af olierne. For at disse dampe kommer ud til alle deltagerne i rummet\, så svinger vores gusmester et håndklæde eller en vifte rundt. De forskellige olier og temperaturer\, som du bliver præsenteret for i løbet af sessionen\, har forskellige gavnlige effekter for kroppen. Alt dette vil vores gusmester fortælle mere om i løbet af guset.   \nVi afvikler saunagus hver anden time i vores åbningstid. Det koster ikke noget at deltage.  \nRetningslinjer for saunagus:   \n\nDu skal være klar ved saunaen fem minutter før start.\n\n\nDu skal sørge for at drikke rigeligt vand før og efter saunagus.\n\n\nHvis du skal i bassinerne efterfølgende\, så skal du skylle kroppen inden.\n\n\nDu skal have eget håndklæde med til at sidde på i vores saunaer.\n\n*Du bør ikke deltage i saunagus\, hvis du er gravid\, har epilepsi\, hjerteproblemer eller duft- og parfumeallergi.  \n 
URL:https://gigantium.dk/event/saunagus-2/2029-07-12/
LOCATION:Denmark
CATEGORIES:Svømmehal
END:VEVENT
BEGIN:VEVENT
DTSTART;TZID=Europe/Copenhagen:20290716T070000
DTEND;TZID=Europe/Copenhagen:20290716T071200
DTSTAMP:20260423T090100
CREATED:20251001T073341Z
LAST-MODIFIED:20260330T120446Z
UID:10005348-1878879600-1878880320@gigantium.dk
SUMMARY:Saunagus
DESCRIPTION:Til saunagus hælder vores gusmester vand blandet med forskellige æteriske olier på stene i saunaovnen. På denne måde opstår en velduftende damp\, som bærer aromaerne af olierne. For at disse dampe kommer ud til alle deltagerne i rummet\, så svinger vores gusmester et håndklæde eller en vifte rundt. De forskellige olier og temperaturer\, som du bliver præsenteret for i løbet af sessionen\, har forskellige gavnlige effekter for kroppen. Alt dette vil vores gusmester fortælle mere om i løbet af guset.   \nVi afvikler saunagus hver anden time i vores åbningstid. Det koster ikke noget at deltage.  \nRetningslinjer for saunagus:   \n\nDu skal være klar ved saunaen fem minutter før start.\n\n\nDu skal sørge for at drikke rigeligt vand før og efter saunagus.\n\n\nHvis du skal i bassinerne efterfølgende\, så skal du skylle kroppen inden.\n\n\nDu skal have eget håndklæde med til at sidde på i vores saunaer.\n\n*Du bør ikke deltage i saunagus\, hvis du er gravid\, har epilepsi\, hjerteproblemer eller duft- og parfumeallergi.  \n 
URL:https://gigantium.dk/event/saunagus-2/2029-07-16/
LOCATION:Denmark
CATEGORIES:Svømmehal
END:VEVENT
BEGIN:VEVENT
DTSTART;TZID=Europe/Copenhagen:20290717T070000
DTEND;TZID=Europe/Copenhagen:20290717T071200
DTSTAMP:20260423T090100
CREATED:20251001T073341Z
LAST-MODIFIED:20260330T120446Z
UID:10005349-1878966000-1878966720@gigantium.dk
SUMMARY:Saunagus
DESCRIPTION:Til saunagus hælder vores gusmester vand blandet med forskellige æteriske olier på stene i saunaovnen. På denne måde opstår en velduftende damp\, som bærer aromaerne af olierne. For at disse dampe kommer ud til alle deltagerne i rummet\, så svinger vores gusmester et håndklæde eller en vifte rundt. De forskellige olier og temperaturer\, som du bliver præsenteret for i løbet af sessionen\, har forskellige gavnlige effekter for kroppen. Alt dette vil vores gusmester fortælle mere om i løbet af guset.   \nVi afvikler saunagus hver anden time i vores åbningstid. Det koster ikke noget at deltage.  \nRetningslinjer for saunagus:   \n\nDu skal være klar ved saunaen fem minutter før start.\n\n\nDu skal sørge for at drikke rigeligt vand før og efter saunagus.\n\n\nHvis du skal i bassinerne efterfølgende\, så skal du skylle kroppen inden.\n\n\nDu skal have eget håndklæde med til at sidde på i vores saunaer.\n\n*Du bør ikke deltage i saunagus\, hvis du er gravid\, har epilepsi\, hjerteproblemer eller duft- og parfumeallergi.  \n 
URL:https://gigantium.dk/event/saunagus-2/2029-07-17/
LOCATION:Denmark
CATEGORIES:Svømmehal
END:VEVENT
BEGIN:VEVENT
DTSTART;TZID=Europe/Copenhagen:20290718T070000
DTEND;TZID=Europe/Copenhagen:20290718T071200
DTSTAMP:20260423T090100
CREATED:20251001T073341Z
LAST-MODIFIED:20260330T120446Z
UID:10005350-1879052400-1879053120@gigantium.dk
SUMMARY:Saunagus
DESCRIPTION:Til saunagus hælder vores gusmester vand blandet med forskellige æteriske olier på stene i saunaovnen. På denne måde opstår en velduftende damp\, som bærer aromaerne af olierne. For at disse dampe kommer ud til alle deltagerne i rummet\, så svinger vores gusmester et håndklæde eller en vifte rundt. De forskellige olier og temperaturer\, som du bliver præsenteret for i løbet af sessionen\, har forskellige gavnlige effekter for kroppen. Alt dette vil vores gusmester fortælle mere om i løbet af guset.   \nVi afvikler saunagus hver anden time i vores åbningstid. Det koster ikke noget at deltage.  \nRetningslinjer for saunagus:   \n\nDu skal være klar ved saunaen fem minutter før start.\n\n\nDu skal sørge for at drikke rigeligt vand før og efter saunagus.\n\n\nHvis du skal i bassinerne efterfølgende\, så skal du skylle kroppen inden.\n\n\nDu skal have eget håndklæde med til at sidde på i vores saunaer.\n\n*Du bør ikke deltage i saunagus\, hvis du er gravid\, har epilepsi\, hjerteproblemer eller duft- og parfumeallergi.  \n 
URL:https://gigantium.dk/event/saunagus-2/2029-07-18/
LOCATION:Denmark
CATEGORIES:Svømmehal
END:VEVENT
BEGIN:VEVENT
DTSTART;TZID=Europe/Copenhagen:20290719T070000
DTEND;TZID=Europe/Copenhagen:20290719T071200
DTSTAMP:20260423T090100
CREATED:20251001T073341Z
LAST-MODIFIED:20260330T120446Z
UID:10005351-1879138800-1879139520@gigantium.dk
SUMMARY:Saunagus
DESCRIPTION:Til saunagus hælder vores gusmester vand blandet med forskellige æteriske olier på stene i saunaovnen. På denne måde opstår en velduftende damp\, som bærer aromaerne af olierne. For at disse dampe kommer ud til alle deltagerne i rummet\, så svinger vores gusmester et håndklæde eller en vifte rundt. De forskellige olier og temperaturer\, som du bliver præsenteret for i løbet af sessionen\, har forskellige gavnlige effekter for kroppen. Alt dette vil vores gusmester fortælle mere om i løbet af guset.   \nVi afvikler saunagus hver anden time i vores åbningstid. Det koster ikke noget at deltage.  \nRetningslinjer for saunagus:   \n\nDu skal være klar ved saunaen fem minutter før start.\n\n\nDu skal sørge for at drikke rigeligt vand før og efter saunagus.\n\n\nHvis du skal i bassinerne efterfølgende\, så skal du skylle kroppen inden.\n\n\nDu skal have eget håndklæde med til at sidde på i vores saunaer.\n\n*Du bør ikke deltage i saunagus\, hvis du er gravid\, har epilepsi\, hjerteproblemer eller duft- og parfumeallergi.  \n 
URL:https://gigantium.dk/event/saunagus-2/2029-07-19/
LOCATION:Denmark
CATEGORIES:Svømmehal
END:VEVENT
BEGIN:VEVENT
DTSTART;TZID=Europe/Copenhagen:20290723T070000
DTEND;TZID=Europe/Copenhagen:20290723T071200
DTSTAMP:20260423T090100
CREATED:20251001T073341Z
LAST-MODIFIED:20260330T120446Z
UID:10005352-1879484400-1879485120@gigantium.dk
SUMMARY:Saunagus
DESCRIPTION:Til saunagus hælder vores gusmester vand blandet med forskellige æteriske olier på stene i saunaovnen. På denne måde opstår en velduftende damp\, som bærer aromaerne af olierne. For at disse dampe kommer ud til alle deltagerne i rummet\, så svinger vores gusmester et håndklæde eller en vifte rundt. De forskellige olier og temperaturer\, som du bliver præsenteret for i løbet af sessionen\, har forskellige gavnlige effekter for kroppen. Alt dette vil vores gusmester fortælle mere om i løbet af guset.   \nVi afvikler saunagus hver anden time i vores åbningstid. Det koster ikke noget at deltage.  \nRetningslinjer for saunagus:   \n\nDu skal være klar ved saunaen fem minutter før start.\n\n\nDu skal sørge for at drikke rigeligt vand før og efter saunagus.\n\n\nHvis du skal i bassinerne efterfølgende\, så skal du skylle kroppen inden.\n\n\nDu skal have eget håndklæde med til at sidde på i vores saunaer.\n\n*Du bør ikke deltage i saunagus\, hvis du er gravid\, har epilepsi\, hjerteproblemer eller duft- og parfumeallergi.  \n 
URL:https://gigantium.dk/event/saunagus-2/2029-07-23/
LOCATION:Denmark
CATEGORIES:Svømmehal
END:VEVENT
BEGIN:VEVENT
DTSTART;TZID=Europe/Copenhagen:20290724T070000
DTEND;TZID=Europe/Copenhagen:20290724T071200
DTSTAMP:20260423T090100
CREATED:20251001T073341Z
LAST-MODIFIED:20260330T120446Z
UID:10005353-1879570800-1879571520@gigantium.dk
SUMMARY:Saunagus
DESCRIPTION:Til saunagus hælder vores gusmester vand blandet med forskellige æteriske olier på stene i saunaovnen. På denne måde opstår en velduftende damp\, som bærer aromaerne af olierne. For at disse dampe kommer ud til alle deltagerne i rummet\, så svinger vores gusmester et håndklæde eller en vifte rundt. De forskellige olier og temperaturer\, som du bliver præsenteret for i løbet af sessionen\, har forskellige gavnlige effekter for kroppen. Alt dette vil vores gusmester fortælle mere om i løbet af guset.   \nVi afvikler saunagus hver anden time i vores åbningstid. Det koster ikke noget at deltage.  \nRetningslinjer for saunagus:   \n\nDu skal være klar ved saunaen fem minutter før start.\n\n\nDu skal sørge for at drikke rigeligt vand før og efter saunagus.\n\n\nHvis du skal i bassinerne efterfølgende\, så skal du skylle kroppen inden.\n\n\nDu skal have eget håndklæde med til at sidde på i vores saunaer.\n\n*Du bør ikke deltage i saunagus\, hvis du er gravid\, har epilepsi\, hjerteproblemer eller duft- og parfumeallergi.  \n 
URL:https://gigantium.dk/event/saunagus-2/2029-07-24/
LOCATION:Denmark
CATEGORIES:Svømmehal
END:VEVENT
BEGIN:VEVENT
DTSTART;TZID=Europe/Copenhagen:20290725T070000
DTEND;TZID=Europe/Copenhagen:20290725T071200
DTSTAMP:20260423T090100
CREATED:20251001T073341Z
LAST-MODIFIED:20260330T120446Z
UID:10005354-1879657200-1879657920@gigantium.dk
SUMMARY:Saunagus
DESCRIPTION:Til saunagus hælder vores gusmester vand blandet med forskellige æteriske olier på stene i saunaovnen. På denne måde opstår en velduftende damp\, som bærer aromaerne af olierne. For at disse dampe kommer ud til alle deltagerne i rummet\, så svinger vores gusmester et håndklæde eller en vifte rundt. De forskellige olier og temperaturer\, som du bliver præsenteret for i løbet af sessionen\, har forskellige gavnlige effekter for kroppen. Alt dette vil vores gusmester fortælle mere om i løbet af guset.   \nVi afvikler saunagus hver anden time i vores åbningstid. Det koster ikke noget at deltage.  \nRetningslinjer for saunagus:   \n\nDu skal være klar ved saunaen fem minutter før start.\n\n\nDu skal sørge for at drikke rigeligt vand før og efter saunagus.\n\n\nHvis du skal i bassinerne efterfølgende\, så skal du skylle kroppen inden.\n\n\nDu skal have eget håndklæde med til at sidde på i vores saunaer.\n\n*Du bør ikke deltage i saunagus\, hvis du er gravid\, har epilepsi\, hjerteproblemer eller duft- og parfumeallergi.  \n 
URL:https://gigantium.dk/event/saunagus-2/2029-07-25/
LOCATION:Denmark
CATEGORIES:Svømmehal
END:VEVENT
BEGIN:VEVENT
DTSTART;TZID=Europe/Copenhagen:20290726T070000
DTEND;TZID=Europe/Copenhagen:20290726T071200
DTSTAMP:20260423T090100
CREATED:20251001T073341Z
LAST-MODIFIED:20260330T120446Z
UID:10005355-1879743600-1879744320@gigantium.dk
SUMMARY:Saunagus
DESCRIPTION:Til saunagus hælder vores gusmester vand blandet med forskellige æteriske olier på stene i saunaovnen. På denne måde opstår en velduftende damp\, som bærer aromaerne af olierne. For at disse dampe kommer ud til alle deltagerne i rummet\, så svinger vores gusmester et håndklæde eller en vifte rundt. De forskellige olier og temperaturer\, som du bliver præsenteret for i løbet af sessionen\, har forskellige gavnlige effekter for kroppen. Alt dette vil vores gusmester fortælle mere om i løbet af guset.   \nVi afvikler saunagus hver anden time i vores åbningstid. Det koster ikke noget at deltage.  \nRetningslinjer for saunagus:   \n\nDu skal være klar ved saunaen fem minutter før start.\n\n\nDu skal sørge for at drikke rigeligt vand før og efter saunagus.\n\n\nHvis du skal i bassinerne efterfølgende\, så skal du skylle kroppen inden.\n\n\nDu skal have eget håndklæde med til at sidde på i vores saunaer.\n\n*Du bør ikke deltage i saunagus\, hvis du er gravid\, har epilepsi\, hjerteproblemer eller duft- og parfumeallergi.  \n 
URL:https://gigantium.dk/event/saunagus-2/2029-07-26/
LOCATION:Denmark
CATEGORIES:Svømmehal
END:VEVENT
BEGIN:VEVENT
DTSTART;TZID=Europe/Copenhagen:20290730T070000
DTEND;TZID=Europe/Copenhagen:20290730T071200
DTSTAMP:20260423T090100
CREATED:20251001T073341Z
LAST-MODIFIED:20260330T120446Z
UID:10005356-1880089200-1880089920@gigantium.dk
SUMMARY:Saunagus
DESCRIPTION:Til saunagus hælder vores gusmester vand blandet med forskellige æteriske olier på stene i saunaovnen. På denne måde opstår en velduftende damp\, som bærer aromaerne af olierne. For at disse dampe kommer ud til alle deltagerne i rummet\, så svinger vores gusmester et håndklæde eller en vifte rundt. De forskellige olier og temperaturer\, som du bliver præsenteret for i løbet af sessionen\, har forskellige gavnlige effekter for kroppen. Alt dette vil vores gusmester fortælle mere om i løbet af guset.   \nVi afvikler saunagus hver anden time i vores åbningstid. Det koster ikke noget at deltage.  \nRetningslinjer for saunagus:   \n\nDu skal være klar ved saunaen fem minutter før start.\n\n\nDu skal sørge for at drikke rigeligt vand før og efter saunagus.\n\n\nHvis du skal i bassinerne efterfølgende\, så skal du skylle kroppen inden.\n\n\nDu skal have eget håndklæde med til at sidde på i vores saunaer.\n\n*Du bør ikke deltage i saunagus\, hvis du er gravid\, har epilepsi\, hjerteproblemer eller duft- og parfumeallergi.  \n 
URL:https://gigantium.dk/event/saunagus-2/2029-07-30/
LOCATION:Denmark
CATEGORIES:Svømmehal
END:VEVENT
BEGIN:VEVENT
DTSTART;TZID=Europe/Copenhagen:20290731T070000
DTEND;TZID=Europe/Copenhagen:20290731T071200
DTSTAMP:20260423T090100
CREATED:20251001T073341Z
LAST-MODIFIED:20260330T120446Z
UID:10005357-1880175600-1880176320@gigantium.dk
SUMMARY:Saunagus
DESCRIPTION:Til saunagus hælder vores gusmester vand blandet med forskellige æteriske olier på stene i saunaovnen. På denne måde opstår en velduftende damp\, som bærer aromaerne af olierne. For at disse dampe kommer ud til alle deltagerne i rummet\, så svinger vores gusmester et håndklæde eller en vifte rundt. De forskellige olier og temperaturer\, som du bliver præsenteret for i løbet af sessionen\, har forskellige gavnlige effekter for kroppen. Alt dette vil vores gusmester fortælle mere om i løbet af guset.   \nVi afvikler saunagus hver anden time i vores åbningstid. Det koster ikke noget at deltage.  \nRetningslinjer for saunagus:   \n\nDu skal være klar ved saunaen fem minutter før start.\n\n\nDu skal sørge for at drikke rigeligt vand før og efter saunagus.\n\n\nHvis du skal i bassinerne efterfølgende\, så skal du skylle kroppen inden.\n\n\nDu skal have eget håndklæde med til at sidde på i vores saunaer.\n\n*Du bør ikke deltage i saunagus\, hvis du er gravid\, har epilepsi\, hjerteproblemer eller duft- og parfumeallergi.  \n 
URL:https://gigantium.dk/event/saunagus-2/2029-07-31/
LOCATION:Denmark
CATEGORIES:Svømmehal
END:VEVENT
END:VCALENDAR