BEGIN:VCALENDAR
VERSION:2.0
PRODID:-//Gigantium - ECPv6.15.16.1//NONSGML v1.0//EN
CALSCALE:GREGORIAN
METHOD:PUBLISH
X-ORIGINAL-URL:https://gigantium.dk
X-WR-CALDESC:Begivenheder for Gigantium
REFRESH-INTERVAL;VALUE=DURATION:PT1H
X-Robots-Tag:noindex
X-PUBLISHED-TTL:PT1H
BEGIN:VTIMEZONE
TZID:Europe/Copenhagen
BEGIN:DAYLIGHT
TZOFFSETFROM:+0100
TZOFFSETTO:+0200
TZNAME:CEST
DTSTART:20290325T010000
END:DAYLIGHT
BEGIN:STANDARD
TZOFFSETFROM:+0200
TZOFFSETTO:+0100
TZNAME:CET
DTSTART:20291028T010000
END:STANDARD
BEGIN:DAYLIGHT
TZOFFSETFROM:+0100
TZOFFSETTO:+0200
TZNAME:CEST
DTSTART:20300331T010000
END:DAYLIGHT
BEGIN:STANDARD
TZOFFSETFROM:+0200
TZOFFSETTO:+0100
TZNAME:CET
DTSTART:20301027T010000
END:STANDARD
BEGIN:DAYLIGHT
TZOFFSETFROM:+0100
TZOFFSETTO:+0200
TZNAME:CEST
DTSTART:20310330T010000
END:DAYLIGHT
BEGIN:STANDARD
TZOFFSETFROM:+0200
TZOFFSETTO:+0100
TZNAME:CET
DTSTART:20311026T010000
END:STANDARD
END:VTIMEZONE
BEGIN:VEVENT
DTSTART;TZID=Europe/Copenhagen:20300402T070000
DTEND;TZID=Europe/Copenhagen:20300402T071200
DTSTAMP:20260423T210306
CREATED:20260423T080715Z
LAST-MODIFIED:20260423T080937Z
UID:10005497-1901343600-1901344320@gigantium.dk
SUMMARY:Saunagus
DESCRIPTION:Til saunagus hælder vores gusmester vand blandet med forskellige æteriske olier på stene i saunaovnen. På denne måde opstår en velduftende damp\, som bærer aromaerne af olierne. For at disse dampe kommer ud til alle deltagerne i rummet\, så svinger vores gusmester et håndklæde eller en vifte rundt. De forskellige olier og temperaturer\, som du bliver præsenteret for i løbet af sessionen\, har forskellige gavnlige effekter for kroppen. Alt dette vil vores gusmester fortælle mere om i løbet af guset.   \nVi afvikler saunagus hver anden time i vores åbningstid. Det koster ikke noget at deltage.  \nRetningslinjer for saunagus:   \n\nDu skal være klar ved saunaen fem minutter før start.\n\n\nDu skal sørge for at drikke rigeligt vand før og efter saunagus.\n\n\nHvis du skal i bassinerne efterfølgende\, så skal du skylle kroppen inden.\n\n\nDu skal have eget håndklæde med til at sidde på i vores saunaer.\n\n*Du bør ikke deltage i saunagus\, hvis du er gravid\, har epilepsi\, hjerteproblemer eller duft- og parfumeallergi.  \n 
URL:https://gigantium.dk/event/saunagus-2-2/2030-04-02/
LOCATION:Denmark
CATEGORIES:Svømmehal
END:VEVENT
BEGIN:VEVENT
DTSTART;TZID=Europe/Copenhagen:20300403T070000
DTEND;TZID=Europe/Copenhagen:20300403T071200
DTSTAMP:20260423T210306
CREATED:20260423T080715Z
LAST-MODIFIED:20260423T080937Z
UID:10005498-1901430000-1901430720@gigantium.dk
SUMMARY:Saunagus
DESCRIPTION:Til saunagus hælder vores gusmester vand blandet med forskellige æteriske olier på stene i saunaovnen. På denne måde opstår en velduftende damp\, som bærer aromaerne af olierne. For at disse dampe kommer ud til alle deltagerne i rummet\, så svinger vores gusmester et håndklæde eller en vifte rundt. De forskellige olier og temperaturer\, som du bliver præsenteret for i løbet af sessionen\, har forskellige gavnlige effekter for kroppen. Alt dette vil vores gusmester fortælle mere om i løbet af guset.   \nVi afvikler saunagus hver anden time i vores åbningstid. Det koster ikke noget at deltage.  \nRetningslinjer for saunagus:   \n\nDu skal være klar ved saunaen fem minutter før start.\n\n\nDu skal sørge for at drikke rigeligt vand før og efter saunagus.\n\n\nHvis du skal i bassinerne efterfølgende\, så skal du skylle kroppen inden.\n\n\nDu skal have eget håndklæde med til at sidde på i vores saunaer.\n\n*Du bør ikke deltage i saunagus\, hvis du er gravid\, har epilepsi\, hjerteproblemer eller duft- og parfumeallergi.  \n 
URL:https://gigantium.dk/event/saunagus-2-2/2030-04-03/
LOCATION:Denmark
CATEGORIES:Svømmehal
END:VEVENT
BEGIN:VEVENT
DTSTART;TZID=Europe/Copenhagen:20300404T070000
DTEND;TZID=Europe/Copenhagen:20300404T071200
DTSTAMP:20260423T210306
CREATED:20260423T080715Z
LAST-MODIFIED:20260423T080937Z
UID:10005499-1901516400-1901517120@gigantium.dk
SUMMARY:Saunagus
DESCRIPTION:Til saunagus hælder vores gusmester vand blandet med forskellige æteriske olier på stene i saunaovnen. På denne måde opstår en velduftende damp\, som bærer aromaerne af olierne. For at disse dampe kommer ud til alle deltagerne i rummet\, så svinger vores gusmester et håndklæde eller en vifte rundt. De forskellige olier og temperaturer\, som du bliver præsenteret for i løbet af sessionen\, har forskellige gavnlige effekter for kroppen. Alt dette vil vores gusmester fortælle mere om i løbet af guset.   \nVi afvikler saunagus hver anden time i vores åbningstid. Det koster ikke noget at deltage.  \nRetningslinjer for saunagus:   \n\nDu skal være klar ved saunaen fem minutter før start.\n\n\nDu skal sørge for at drikke rigeligt vand før og efter saunagus.\n\n\nHvis du skal i bassinerne efterfølgende\, så skal du skylle kroppen inden.\n\n\nDu skal have eget håndklæde med til at sidde på i vores saunaer.\n\n*Du bør ikke deltage i saunagus\, hvis du er gravid\, har epilepsi\, hjerteproblemer eller duft- og parfumeallergi.  \n 
URL:https://gigantium.dk/event/saunagus-2-2/2030-04-04/
LOCATION:Denmark
CATEGORIES:Svømmehal
END:VEVENT
BEGIN:VEVENT
DTSTART;TZID=Europe/Copenhagen:20300409T070000
DTEND;TZID=Europe/Copenhagen:20300409T071200
DTSTAMP:20260423T210306
CREATED:20260423T080715Z
LAST-MODIFIED:20260423T080937Z
UID:10005501-1901948400-1901949120@gigantium.dk
SUMMARY:Saunagus
DESCRIPTION:Til saunagus hælder vores gusmester vand blandet med forskellige æteriske olier på stene i saunaovnen. På denne måde opstår en velduftende damp\, som bærer aromaerne af olierne. For at disse dampe kommer ud til alle deltagerne i rummet\, så svinger vores gusmester et håndklæde eller en vifte rundt. De forskellige olier og temperaturer\, som du bliver præsenteret for i løbet af sessionen\, har forskellige gavnlige effekter for kroppen. Alt dette vil vores gusmester fortælle mere om i løbet af guset.   \nVi afvikler saunagus hver anden time i vores åbningstid. Det koster ikke noget at deltage.  \nRetningslinjer for saunagus:   \n\nDu skal være klar ved saunaen fem minutter før start.\n\n\nDu skal sørge for at drikke rigeligt vand før og efter saunagus.\n\n\nHvis du skal i bassinerne efterfølgende\, så skal du skylle kroppen inden.\n\n\nDu skal have eget håndklæde med til at sidde på i vores saunaer.\n\n*Du bør ikke deltage i saunagus\, hvis du er gravid\, har epilepsi\, hjerteproblemer eller duft- og parfumeallergi.  \n 
URL:https://gigantium.dk/event/saunagus-2-2/2030-04-09/
LOCATION:Denmark
CATEGORIES:Svømmehal
END:VEVENT
BEGIN:VEVENT
DTSTART;TZID=Europe/Copenhagen:20300410T070000
DTEND;TZID=Europe/Copenhagen:20300410T071200
DTSTAMP:20260423T210306
CREATED:20260423T080715Z
LAST-MODIFIED:20260423T080937Z
UID:10005502-1902034800-1902035520@gigantium.dk
SUMMARY:Saunagus
DESCRIPTION:Til saunagus hælder vores gusmester vand blandet med forskellige æteriske olier på stene i saunaovnen. På denne måde opstår en velduftende damp\, som bærer aromaerne af olierne. For at disse dampe kommer ud til alle deltagerne i rummet\, så svinger vores gusmester et håndklæde eller en vifte rundt. De forskellige olier og temperaturer\, som du bliver præsenteret for i løbet af sessionen\, har forskellige gavnlige effekter for kroppen. Alt dette vil vores gusmester fortælle mere om i løbet af guset.   \nVi afvikler saunagus hver anden time i vores åbningstid. Det koster ikke noget at deltage.  \nRetningslinjer for saunagus:   \n\nDu skal være klar ved saunaen fem minutter før start.\n\n\nDu skal sørge for at drikke rigeligt vand før og efter saunagus.\n\n\nHvis du skal i bassinerne efterfølgende\, så skal du skylle kroppen inden.\n\n\nDu skal have eget håndklæde med til at sidde på i vores saunaer.\n\n*Du bør ikke deltage i saunagus\, hvis du er gravid\, har epilepsi\, hjerteproblemer eller duft- og parfumeallergi.  \n 
URL:https://gigantium.dk/event/saunagus-2-2/2030-04-10/
LOCATION:Denmark
CATEGORIES:Svømmehal
END:VEVENT
BEGIN:VEVENT
DTSTART;TZID=Europe/Copenhagen:20300411T070000
DTEND;TZID=Europe/Copenhagen:20300411T071200
DTSTAMP:20260423T210306
CREATED:20260423T080715Z
LAST-MODIFIED:20260423T080937Z
UID:10005503-1902121200-1902121920@gigantium.dk
SUMMARY:Saunagus
DESCRIPTION:Til saunagus hælder vores gusmester vand blandet med forskellige æteriske olier på stene i saunaovnen. På denne måde opstår en velduftende damp\, som bærer aromaerne af olierne. For at disse dampe kommer ud til alle deltagerne i rummet\, så svinger vores gusmester et håndklæde eller en vifte rundt. De forskellige olier og temperaturer\, som du bliver præsenteret for i løbet af sessionen\, har forskellige gavnlige effekter for kroppen. Alt dette vil vores gusmester fortælle mere om i løbet af guset.   \nVi afvikler saunagus hver anden time i vores åbningstid. Det koster ikke noget at deltage.  \nRetningslinjer for saunagus:   \n\nDu skal være klar ved saunaen fem minutter før start.\n\n\nDu skal sørge for at drikke rigeligt vand før og efter saunagus.\n\n\nHvis du skal i bassinerne efterfølgende\, så skal du skylle kroppen inden.\n\n\nDu skal have eget håndklæde med til at sidde på i vores saunaer.\n\n*Du bør ikke deltage i saunagus\, hvis du er gravid\, har epilepsi\, hjerteproblemer eller duft- og parfumeallergi.  \n 
URL:https://gigantium.dk/event/saunagus-2-2/2030-04-11/
LOCATION:Denmark
CATEGORIES:Svømmehal
END:VEVENT
BEGIN:VEVENT
DTSTART;TZID=Europe/Copenhagen:20300416T070000
DTEND;TZID=Europe/Copenhagen:20300416T071200
DTSTAMP:20260423T210306
CREATED:20260423T080715Z
LAST-MODIFIED:20260423T080937Z
UID:10005505-1902553200-1902553920@gigantium.dk
SUMMARY:Saunagus
DESCRIPTION:Til saunagus hælder vores gusmester vand blandet med forskellige æteriske olier på stene i saunaovnen. På denne måde opstår en velduftende damp\, som bærer aromaerne af olierne. For at disse dampe kommer ud til alle deltagerne i rummet\, så svinger vores gusmester et håndklæde eller en vifte rundt. De forskellige olier og temperaturer\, som du bliver præsenteret for i løbet af sessionen\, har forskellige gavnlige effekter for kroppen. Alt dette vil vores gusmester fortælle mere om i løbet af guset.   \nVi afvikler saunagus hver anden time i vores åbningstid. Det koster ikke noget at deltage.  \nRetningslinjer for saunagus:   \n\nDu skal være klar ved saunaen fem minutter før start.\n\n\nDu skal sørge for at drikke rigeligt vand før og efter saunagus.\n\n\nHvis du skal i bassinerne efterfølgende\, så skal du skylle kroppen inden.\n\n\nDu skal have eget håndklæde med til at sidde på i vores saunaer.\n\n*Du bør ikke deltage i saunagus\, hvis du er gravid\, har epilepsi\, hjerteproblemer eller duft- og parfumeallergi.  \n 
URL:https://gigantium.dk/event/saunagus-2-2/2030-04-16/
LOCATION:Denmark
CATEGORIES:Svømmehal
END:VEVENT
BEGIN:VEVENT
DTSTART;TZID=Europe/Copenhagen:20300417T070000
DTEND;TZID=Europe/Copenhagen:20300417T071200
DTSTAMP:20260423T210306
CREATED:20260423T080715Z
LAST-MODIFIED:20260423T080937Z
UID:10005506-1902639600-1902640320@gigantium.dk
SUMMARY:Saunagus
DESCRIPTION:Til saunagus hælder vores gusmester vand blandet med forskellige æteriske olier på stene i saunaovnen. På denne måde opstår en velduftende damp\, som bærer aromaerne af olierne. For at disse dampe kommer ud til alle deltagerne i rummet\, så svinger vores gusmester et håndklæde eller en vifte rundt. De forskellige olier og temperaturer\, som du bliver præsenteret for i løbet af sessionen\, har forskellige gavnlige effekter for kroppen. Alt dette vil vores gusmester fortælle mere om i løbet af guset.   \nVi afvikler saunagus hver anden time i vores åbningstid. Det koster ikke noget at deltage.  \nRetningslinjer for saunagus:   \n\nDu skal være klar ved saunaen fem minutter før start.\n\n\nDu skal sørge for at drikke rigeligt vand før og efter saunagus.\n\n\nHvis du skal i bassinerne efterfølgende\, så skal du skylle kroppen inden.\n\n\nDu skal have eget håndklæde med til at sidde på i vores saunaer.\n\n*Du bør ikke deltage i saunagus\, hvis du er gravid\, har epilepsi\, hjerteproblemer eller duft- og parfumeallergi.  \n 
URL:https://gigantium.dk/event/saunagus-2-2/2030-04-17/
LOCATION:Denmark
CATEGORIES:Svømmehal
END:VEVENT
BEGIN:VEVENT
DTSTART;TZID=Europe/Copenhagen:20300418T070000
DTEND;TZID=Europe/Copenhagen:20300418T071200
DTSTAMP:20260423T210306
CREATED:20260423T080715Z
LAST-MODIFIED:20260423T080937Z
UID:10005507-1902726000-1902726720@gigantium.dk
SUMMARY:Saunagus
DESCRIPTION:Til saunagus hælder vores gusmester vand blandet med forskellige æteriske olier på stene i saunaovnen. På denne måde opstår en velduftende damp\, som bærer aromaerne af olierne. For at disse dampe kommer ud til alle deltagerne i rummet\, så svinger vores gusmester et håndklæde eller en vifte rundt. De forskellige olier og temperaturer\, som du bliver præsenteret for i løbet af sessionen\, har forskellige gavnlige effekter for kroppen. Alt dette vil vores gusmester fortælle mere om i løbet af guset.   \nVi afvikler saunagus hver anden time i vores åbningstid. Det koster ikke noget at deltage.  \nRetningslinjer for saunagus:   \n\nDu skal være klar ved saunaen fem minutter før start.\n\n\nDu skal sørge for at drikke rigeligt vand før og efter saunagus.\n\n\nHvis du skal i bassinerne efterfølgende\, så skal du skylle kroppen inden.\n\n\nDu skal have eget håndklæde med til at sidde på i vores saunaer.\n\n*Du bør ikke deltage i saunagus\, hvis du er gravid\, har epilepsi\, hjerteproblemer eller duft- og parfumeallergi.  \n 
URL:https://gigantium.dk/event/saunagus-2-2/2030-04-18/
LOCATION:Denmark
CATEGORIES:Svømmehal
END:VEVENT
BEGIN:VEVENT
DTSTART;TZID=Europe/Copenhagen:20300423T070000
DTEND;TZID=Europe/Copenhagen:20300423T071200
DTSTAMP:20260423T210306
CREATED:20260423T080715Z
LAST-MODIFIED:20260423T080937Z
UID:10005509-1903158000-1903158720@gigantium.dk
SUMMARY:Saunagus
DESCRIPTION:Til saunagus hælder vores gusmester vand blandet med forskellige æteriske olier på stene i saunaovnen. På denne måde opstår en velduftende damp\, som bærer aromaerne af olierne. For at disse dampe kommer ud til alle deltagerne i rummet\, så svinger vores gusmester et håndklæde eller en vifte rundt. De forskellige olier og temperaturer\, som du bliver præsenteret for i løbet af sessionen\, har forskellige gavnlige effekter for kroppen. Alt dette vil vores gusmester fortælle mere om i løbet af guset.   \nVi afvikler saunagus hver anden time i vores åbningstid. Det koster ikke noget at deltage.  \nRetningslinjer for saunagus:   \n\nDu skal være klar ved saunaen fem minutter før start.\n\n\nDu skal sørge for at drikke rigeligt vand før og efter saunagus.\n\n\nHvis du skal i bassinerne efterfølgende\, så skal du skylle kroppen inden.\n\n\nDu skal have eget håndklæde med til at sidde på i vores saunaer.\n\n*Du bør ikke deltage i saunagus\, hvis du er gravid\, har epilepsi\, hjerteproblemer eller duft- og parfumeallergi.  \n 
URL:https://gigantium.dk/event/saunagus-2-2/2030-04-23/
LOCATION:Denmark
CATEGORIES:Svømmehal
END:VEVENT
BEGIN:VEVENT
DTSTART;TZID=Europe/Copenhagen:20300424T070000
DTEND;TZID=Europe/Copenhagen:20300424T071200
DTSTAMP:20260423T210306
CREATED:20260423T080715Z
LAST-MODIFIED:20260423T080937Z
UID:10005510-1903244400-1903245120@gigantium.dk
SUMMARY:Saunagus
DESCRIPTION:Til saunagus hælder vores gusmester vand blandet med forskellige æteriske olier på stene i saunaovnen. På denne måde opstår en velduftende damp\, som bærer aromaerne af olierne. For at disse dampe kommer ud til alle deltagerne i rummet\, så svinger vores gusmester et håndklæde eller en vifte rundt. De forskellige olier og temperaturer\, som du bliver præsenteret for i løbet af sessionen\, har forskellige gavnlige effekter for kroppen. Alt dette vil vores gusmester fortælle mere om i løbet af guset.   \nVi afvikler saunagus hver anden time i vores åbningstid. Det koster ikke noget at deltage.  \nRetningslinjer for saunagus:   \n\nDu skal være klar ved saunaen fem minutter før start.\n\n\nDu skal sørge for at drikke rigeligt vand før og efter saunagus.\n\n\nHvis du skal i bassinerne efterfølgende\, så skal du skylle kroppen inden.\n\n\nDu skal have eget håndklæde med til at sidde på i vores saunaer.\n\n*Du bør ikke deltage i saunagus\, hvis du er gravid\, har epilepsi\, hjerteproblemer eller duft- og parfumeallergi.  \n 
URL:https://gigantium.dk/event/saunagus-2-2/2030-04-24/
LOCATION:Denmark
CATEGORIES:Svømmehal
END:VEVENT
BEGIN:VEVENT
DTSTART;TZID=Europe/Copenhagen:20300425T070000
DTEND;TZID=Europe/Copenhagen:20300425T071200
DTSTAMP:20260423T210306
CREATED:20260423T080715Z
LAST-MODIFIED:20260423T080937Z
UID:10005511-1903330800-1903331520@gigantium.dk
SUMMARY:Saunagus
DESCRIPTION:Til saunagus hælder vores gusmester vand blandet med forskellige æteriske olier på stene i saunaovnen. På denne måde opstår en velduftende damp\, som bærer aromaerne af olierne. For at disse dampe kommer ud til alle deltagerne i rummet\, så svinger vores gusmester et håndklæde eller en vifte rundt. De forskellige olier og temperaturer\, som du bliver præsenteret for i løbet af sessionen\, har forskellige gavnlige effekter for kroppen. Alt dette vil vores gusmester fortælle mere om i løbet af guset.   \nVi afvikler saunagus hver anden time i vores åbningstid. Det koster ikke noget at deltage.  \nRetningslinjer for saunagus:   \n\nDu skal være klar ved saunaen fem minutter før start.\n\n\nDu skal sørge for at drikke rigeligt vand før og efter saunagus.\n\n\nHvis du skal i bassinerne efterfølgende\, så skal du skylle kroppen inden.\n\n\nDu skal have eget håndklæde med til at sidde på i vores saunaer.\n\n*Du bør ikke deltage i saunagus\, hvis du er gravid\, har epilepsi\, hjerteproblemer eller duft- og parfumeallergi.  \n 
URL:https://gigantium.dk/event/saunagus-2-2/2030-04-25/
LOCATION:Denmark
CATEGORIES:Svømmehal
END:VEVENT
BEGIN:VEVENT
DTSTART;TZID=Europe/Copenhagen:20300430T070000
DTEND;TZID=Europe/Copenhagen:20300430T071200
DTSTAMP:20260423T210306
CREATED:20260423T080715Z
LAST-MODIFIED:20260423T080937Z
UID:10005513-1903762800-1903763520@gigantium.dk
SUMMARY:Saunagus
DESCRIPTION:Til saunagus hælder vores gusmester vand blandet med forskellige æteriske olier på stene i saunaovnen. På denne måde opstår en velduftende damp\, som bærer aromaerne af olierne. For at disse dampe kommer ud til alle deltagerne i rummet\, så svinger vores gusmester et håndklæde eller en vifte rundt. De forskellige olier og temperaturer\, som du bliver præsenteret for i løbet af sessionen\, har forskellige gavnlige effekter for kroppen. Alt dette vil vores gusmester fortælle mere om i løbet af guset.   \nVi afvikler saunagus hver anden time i vores åbningstid. Det koster ikke noget at deltage.  \nRetningslinjer for saunagus:   \n\nDu skal være klar ved saunaen fem minutter før start.\n\n\nDu skal sørge for at drikke rigeligt vand før og efter saunagus.\n\n\nHvis du skal i bassinerne efterfølgende\, så skal du skylle kroppen inden.\n\n\nDu skal have eget håndklæde med til at sidde på i vores saunaer.\n\n*Du bør ikke deltage i saunagus\, hvis du er gravid\, har epilepsi\, hjerteproblemer eller duft- og parfumeallergi.  \n 
URL:https://gigantium.dk/event/saunagus-2-2/2030-04-30/
LOCATION:Denmark
CATEGORIES:Svømmehal
END:VEVENT
END:VCALENDAR