BEGIN:VCALENDAR
VERSION:2.0
PRODID:-//Gigantium - ECPv6.15.16.1//NONSGML v1.0//EN
CALSCALE:GREGORIAN
METHOD:PUBLISH
X-ORIGINAL-URL:https://gigantium.dk
X-WR-CALDESC:Begivenheder for Gigantium
REFRESH-INTERVAL;VALUE=DURATION:PT1H
X-Robots-Tag:noindex
X-PUBLISHED-TTL:PT1H
BEGIN:VTIMEZONE
TZID:Europe/Copenhagen
BEGIN:DAYLIGHT
TZOFFSETFROM:+0100
TZOFFSETTO:+0200
TZNAME:CEST
DTSTART:20250330T010000
END:DAYLIGHT
BEGIN:STANDARD
TZOFFSETFROM:+0200
TZOFFSETTO:+0100
TZNAME:CET
DTSTART:20251026T010000
END:STANDARD
BEGIN:DAYLIGHT
TZOFFSETFROM:+0100
TZOFFSETTO:+0200
TZNAME:CEST
DTSTART:20260329T010000
END:DAYLIGHT
BEGIN:STANDARD
TZOFFSETFROM:+0200
TZOFFSETTO:+0100
TZNAME:CET
DTSTART:20261025T010000
END:STANDARD
BEGIN:DAYLIGHT
TZOFFSETFROM:+0100
TZOFFSETTO:+0200
TZNAME:CEST
DTSTART:20270328T010000
END:DAYLIGHT
BEGIN:STANDARD
TZOFFSETFROM:+0200
TZOFFSETTO:+0100
TZNAME:CET
DTSTART:20271031T010000
END:STANDARD
END:VTIMEZONE
BEGIN:VEVENT
DTSTART;TZID=Europe/Copenhagen:20260601T081000
DTEND;TZID=Europe/Copenhagen:20260601T085500
DTSTAMP:20260423T180755
CREATED:20260423T081750Z
LAST-MODIFIED:20260423T081952Z
UID:10024672-1780301400-1780304100@gigantium.dk
SUMMARY:Aquafit
DESCRIPTION:
URL:https://gigantium.dk/event/aquafit-2-2/2026-06-01/
LOCATION:Denmark
CATEGORIES:Svømmehal
END:VEVENT
BEGIN:VEVENT
DTSTART;TZID=Europe/Copenhagen:20260603T080000
DTEND;TZID=Europe/Copenhagen:20260603T084500
DTSTAMP:20260423T180755
CREATED:20260423T081436Z
LAST-MODIFIED:20260423T081436Z
UID:10025233-1780473600-1780476300@gigantium.dk
SUMMARY:Aquafit
DESCRIPTION:
URL:https://gigantium.dk/event/aquafit-5/2026-06-03/
LOCATION:Denmark
CATEGORIES:Svømmehal
END:VEVENT
BEGIN:VEVENT
DTSTART;TZID=Europe/Copenhagen:20260608T081000
DTEND;TZID=Europe/Copenhagen:20260608T085500
DTSTAMP:20260423T180755
CREATED:20260423T081750Z
LAST-MODIFIED:20260423T081952Z
UID:10024673-1780906200-1780908900@gigantium.dk
SUMMARY:Aquafit
DESCRIPTION:
URL:https://gigantium.dk/event/aquafit-2-2/2026-06-08/
LOCATION:Denmark
CATEGORIES:Svømmehal
END:VEVENT
BEGIN:VEVENT
DTSTART;TZID=Europe/Copenhagen:20260610T080000
DTEND;TZID=Europe/Copenhagen:20260610T084500
DTSTAMP:20260423T180755
CREATED:20260423T081436Z
LAST-MODIFIED:20260423T081436Z
UID:10025234-1781078400-1781081100@gigantium.dk
SUMMARY:Aquafit
DESCRIPTION:
URL:https://gigantium.dk/event/aquafit-5/2026-06-10/
LOCATION:Denmark
CATEGORIES:Svømmehal
END:VEVENT
BEGIN:VEVENT
DTSTART;TZID=Europe/Copenhagen:20260615T081000
DTEND;TZID=Europe/Copenhagen:20260615T085500
DTSTAMP:20260423T180755
CREATED:20260423T081750Z
LAST-MODIFIED:20260423T081952Z
UID:10024674-1781511000-1781513700@gigantium.dk
SUMMARY:Aquafit
DESCRIPTION:
URL:https://gigantium.dk/event/aquafit-2-2/2026-06-15/
LOCATION:Denmark
CATEGORIES:Svømmehal
END:VEVENT
BEGIN:VEVENT
DTSTART;TZID=Europe/Copenhagen:20260617T080000
DTEND;TZID=Europe/Copenhagen:20260617T084500
DTSTAMP:20260423T180755
CREATED:20260423T081436Z
LAST-MODIFIED:20260423T081436Z
UID:10025235-1781683200-1781685900@gigantium.dk
SUMMARY:Aquafit
DESCRIPTION:
URL:https://gigantium.dk/event/aquafit-5/2026-06-17/
LOCATION:Denmark
CATEGORIES:Svømmehal
END:VEVENT
BEGIN:VEVENT
DTSTART;TZID=Europe/Copenhagen:20260622T081000
DTEND;TZID=Europe/Copenhagen:20260622T085500
DTSTAMP:20260423T180755
CREATED:20260423T081750Z
LAST-MODIFIED:20260423T081952Z
UID:10024675-1782115800-1782118500@gigantium.dk
SUMMARY:Aquafit
DESCRIPTION:
URL:https://gigantium.dk/event/aquafit-2-2/2026-06-22/
LOCATION:Denmark
CATEGORIES:Svømmehal
END:VEVENT
BEGIN:VEVENT
DTSTART;TZID=Europe/Copenhagen:20260624T080000
DTEND;TZID=Europe/Copenhagen:20260624T084500
DTSTAMP:20260423T180755
CREATED:20260423T081436Z
LAST-MODIFIED:20260423T081436Z
UID:10025236-1782288000-1782290700@gigantium.dk
SUMMARY:Aquafit
DESCRIPTION:
URL:https://gigantium.dk/event/aquafit-5/2026-06-24/
LOCATION:Denmark
CATEGORIES:Svømmehal
END:VEVENT
BEGIN:VEVENT
DTSTART;TZID=Europe/Copenhagen:20260629T081000
DTEND;TZID=Europe/Copenhagen:20260629T085500
DTSTAMP:20260423T180755
CREATED:20260423T081750Z
LAST-MODIFIED:20260423T081952Z
UID:10024676-1782720600-1782723300@gigantium.dk
SUMMARY:Aquafit
DESCRIPTION:
URL:https://gigantium.dk/event/aquafit-2-2/2026-06-29/
LOCATION:Denmark
CATEGORIES:Svømmehal
END:VEVENT
END:VCALENDAR