BEGIN:VCALENDAR
VERSION:2.0
PRODID:-//Gigantium - ECPv6.15.16.1//NONSGML v1.0//EN
CALSCALE:GREGORIAN
METHOD:PUBLISH
X-WR-CALNAME:Gigantium
X-ORIGINAL-URL:https://gigantium.dk
X-WR-CALDESC:Begivenheder for Gigantium
REFRESH-INTERVAL;VALUE=DURATION:PT1H
X-Robots-Tag:noindex
X-PUBLISHED-TTL:PT1H
BEGIN:VTIMEZONE
TZID:Europe/Copenhagen
BEGIN:DAYLIGHT
TZOFFSETFROM:+0100
TZOFFSETTO:+0200
TZNAME:CEST
DTSTART:20250330T010000
END:DAYLIGHT
BEGIN:STANDARD
TZOFFSETFROM:+0200
TZOFFSETTO:+0100
TZNAME:CET
DTSTART:20251026T010000
END:STANDARD
BEGIN:DAYLIGHT
TZOFFSETFROM:+0100
TZOFFSETTO:+0200
TZNAME:CEST
DTSTART:20260329T010000
END:DAYLIGHT
BEGIN:STANDARD
TZOFFSETFROM:+0200
TZOFFSETTO:+0100
TZNAME:CET
DTSTART:20261025T010000
END:STANDARD
BEGIN:DAYLIGHT
TZOFFSETFROM:+0100
TZOFFSETTO:+0200
TZNAME:CEST
DTSTART:20270328T010000
END:DAYLIGHT
BEGIN:STANDARD
TZOFFSETFROM:+0200
TZOFFSETTO:+0100
TZNAME:CET
DTSTART:20271031T010000
END:STANDARD
END:VTIMEZONE
BEGIN:VEVENT
DTSTART;TZID=Europe/Copenhagen:20260902T080000
DTEND;TZID=Europe/Copenhagen:20260902T084500
DTSTAMP:20260423T222909
CREATED:20260423T081436Z
LAST-MODIFIED:20260423T081436Z
UID:10025246-1788336000-1788338700@gigantium.dk
SUMMARY:Aquafit
DESCRIPTION:
URL:https://gigantium.dk/event/aquafit-5/2026-09-02/
LOCATION:Denmark
CATEGORIES:Svømmehal
END:VEVENT
BEGIN:VEVENT
DTSTART;TZID=Europe/Copenhagen:20260907T081000
DTEND;TZID=Europe/Copenhagen:20260907T085500
DTSTAMP:20260423T222909
CREATED:20260423T081750Z
LAST-MODIFIED:20260423T081952Z
UID:10024686-1788768600-1788771300@gigantium.dk
SUMMARY:Aquafit
DESCRIPTION:
URL:https://gigantium.dk/event/aquafit-2-2/2026-09-07/
LOCATION:Denmark
CATEGORIES:Svømmehal
END:VEVENT
BEGIN:VEVENT
DTSTART;TZID=Europe/Copenhagen:20260909T080000
DTEND;TZID=Europe/Copenhagen:20260909T084500
DTSTAMP:20260423T222909
CREATED:20260423T081436Z
LAST-MODIFIED:20260423T081436Z
UID:10025247-1788940800-1788943500@gigantium.dk
SUMMARY:Aquafit
DESCRIPTION:
URL:https://gigantium.dk/event/aquafit-5/2026-09-09/
LOCATION:Denmark
CATEGORIES:Svømmehal
END:VEVENT
BEGIN:VEVENT
DTSTART;TZID=Europe/Copenhagen:20260914T081000
DTEND;TZID=Europe/Copenhagen:20260914T085500
DTSTAMP:20260423T222909
CREATED:20260423T081750Z
LAST-MODIFIED:20260423T081952Z
UID:10024687-1789373400-1789376100@gigantium.dk
SUMMARY:Aquafit
DESCRIPTION:
URL:https://gigantium.dk/event/aquafit-2-2/2026-09-14/
LOCATION:Denmark
CATEGORIES:Svømmehal
END:VEVENT
BEGIN:VEVENT
DTSTART;TZID=Europe/Copenhagen:20260916T080000
DTEND;TZID=Europe/Copenhagen:20260916T084500
DTSTAMP:20260423T222909
CREATED:20260423T081436Z
LAST-MODIFIED:20260423T081436Z
UID:10025248-1789545600-1789548300@gigantium.dk
SUMMARY:Aquafit
DESCRIPTION:
URL:https://gigantium.dk/event/aquafit-5/2026-09-16/
LOCATION:Denmark
CATEGORIES:Svømmehal
END:VEVENT
BEGIN:VEVENT
DTSTART;TZID=Europe/Copenhagen:20260921T081000
DTEND;TZID=Europe/Copenhagen:20260921T085500
DTSTAMP:20260423T222909
CREATED:20260423T081750Z
LAST-MODIFIED:20260423T081952Z
UID:10024688-1789978200-1789980900@gigantium.dk
SUMMARY:Aquafit
DESCRIPTION:
URL:https://gigantium.dk/event/aquafit-2-2/2026-09-21/
LOCATION:Denmark
CATEGORIES:Svømmehal
END:VEVENT
BEGIN:VEVENT
DTSTART;TZID=Europe/Copenhagen:20260923T080000
DTEND;TZID=Europe/Copenhagen:20260923T084500
DTSTAMP:20260423T222909
CREATED:20260423T081436Z
LAST-MODIFIED:20260423T081436Z
UID:10025249-1790150400-1790153100@gigantium.dk
SUMMARY:Aquafit
DESCRIPTION:
URL:https://gigantium.dk/event/aquafit-5/2026-09-23/
LOCATION:Denmark
CATEGORIES:Svømmehal
END:VEVENT
BEGIN:VEVENT
DTSTART;TZID=Europe/Copenhagen:20260928T081000
DTEND;TZID=Europe/Copenhagen:20260928T085500
DTSTAMP:20260423T222909
CREATED:20260423T081750Z
LAST-MODIFIED:20260423T081952Z
UID:10024689-1790583000-1790585700@gigantium.dk
SUMMARY:Aquafit
DESCRIPTION:
URL:https://gigantium.dk/event/aquafit-2-2/2026-09-28/
LOCATION:Denmark
CATEGORIES:Svømmehal
END:VEVENT
BEGIN:VEVENT
DTSTART;TZID=Europe/Copenhagen:20260930T080000
DTEND;TZID=Europe/Copenhagen:20260930T084500
DTSTAMP:20260423T222909
CREATED:20260423T081436Z
LAST-MODIFIED:20260423T081436Z
UID:10025250-1790755200-1790757900@gigantium.dk
SUMMARY:Aquafit
DESCRIPTION:
URL:https://gigantium.dk/event/aquafit-5/2026-09-30/
LOCATION:Denmark
CATEGORIES:Svømmehal
END:VEVENT
END:VCALENDAR