BEGIN:VCALENDAR
VERSION:2.0
PRODID:-//Gigantium - ECPv6.15.16.1//NONSGML v1.0//EN
CALSCALE:GREGORIAN
METHOD:PUBLISH
X-ORIGINAL-URL:https://gigantium.dk
X-WR-CALDESC:Begivenheder for Gigantium
REFRESH-INTERVAL;VALUE=DURATION:PT1H
X-Robots-Tag:noindex
X-PUBLISHED-TTL:PT1H
BEGIN:VTIMEZONE
TZID:Europe/Copenhagen
BEGIN:DAYLIGHT
TZOFFSETFROM:+0100
TZOFFSETTO:+0200
TZNAME:CEST
DTSTART:20260329T010000
END:DAYLIGHT
BEGIN:STANDARD
TZOFFSETFROM:+0200
TZOFFSETTO:+0100
TZNAME:CET
DTSTART:20261025T010000
END:STANDARD
BEGIN:DAYLIGHT
TZOFFSETFROM:+0100
TZOFFSETTO:+0200
TZNAME:CEST
DTSTART:20270328T010000
END:DAYLIGHT
BEGIN:STANDARD
TZOFFSETFROM:+0200
TZOFFSETTO:+0100
TZNAME:CET
DTSTART:20271031T010000
END:STANDARD
BEGIN:DAYLIGHT
TZOFFSETFROM:+0100
TZOFFSETTO:+0200
TZNAME:CEST
DTSTART:20280326T010000
END:DAYLIGHT
BEGIN:STANDARD
TZOFFSETFROM:+0200
TZOFFSETTO:+0100
TZNAME:CET
DTSTART:20281029T010000
END:STANDARD
END:VTIMEZONE
BEGIN:VEVENT
DTSTART;TZID=Europe/Copenhagen:20270802T081000
DTEND;TZID=Europe/Copenhagen:20270802T085500
DTSTAMP:20260424T134505
CREATED:20260423T081750Z
LAST-MODIFIED:20260423T081952Z
UID:10024733-1817194200-1817196900@gigantium.dk
SUMMARY:Aquafit
DESCRIPTION:
URL:https://gigantium.dk/event/aquafit-2-2/2027-08-02/
LOCATION:Denmark
CATEGORIES:Svømmehal
END:VEVENT
BEGIN:VEVENT
DTSTART;TZID=Europe/Copenhagen:20270804T080000
DTEND;TZID=Europe/Copenhagen:20270804T084500
DTSTAMP:20260424T134505
CREATED:20260423T081436Z
LAST-MODIFIED:20260423T081436Z
UID:10025294-1817366400-1817369100@gigantium.dk
SUMMARY:Aquafit
DESCRIPTION:
URL:https://gigantium.dk/event/aquafit-5/2027-08-04/
LOCATION:Denmark
CATEGORIES:Svømmehal
END:VEVENT
BEGIN:VEVENT
DTSTART;TZID=Europe/Copenhagen:20270809T081000
DTEND;TZID=Europe/Copenhagen:20270809T085500
DTSTAMP:20260424T134505
CREATED:20260423T081750Z
LAST-MODIFIED:20260423T081952Z
UID:10024734-1817799000-1817801700@gigantium.dk
SUMMARY:Aquafit
DESCRIPTION:
URL:https://gigantium.dk/event/aquafit-2-2/2027-08-09/
LOCATION:Denmark
CATEGORIES:Svømmehal
END:VEVENT
BEGIN:VEVENT
DTSTART;TZID=Europe/Copenhagen:20270811T080000
DTEND;TZID=Europe/Copenhagen:20270811T084500
DTSTAMP:20260424T134505
CREATED:20260423T081436Z
LAST-MODIFIED:20260423T081436Z
UID:10025295-1817971200-1817973900@gigantium.dk
SUMMARY:Aquafit
DESCRIPTION:
URL:https://gigantium.dk/event/aquafit-5/2027-08-11/
LOCATION:Denmark
CATEGORIES:Svømmehal
END:VEVENT
BEGIN:VEVENT
DTSTART;TZID=Europe/Copenhagen:20270816T081000
DTEND;TZID=Europe/Copenhagen:20270816T085500
DTSTAMP:20260424T134505
CREATED:20260423T081750Z
LAST-MODIFIED:20260423T081952Z
UID:10024735-1818403800-1818406500@gigantium.dk
SUMMARY:Aquafit
DESCRIPTION:
URL:https://gigantium.dk/event/aquafit-2-2/2027-08-16/
LOCATION:Denmark
CATEGORIES:Svømmehal
END:VEVENT
BEGIN:VEVENT
DTSTART;TZID=Europe/Copenhagen:20270818T080000
DTEND;TZID=Europe/Copenhagen:20270818T084500
DTSTAMP:20260424T134505
CREATED:20260423T081436Z
LAST-MODIFIED:20260423T081436Z
UID:10025296-1818576000-1818578700@gigantium.dk
SUMMARY:Aquafit
DESCRIPTION:
URL:https://gigantium.dk/event/aquafit-5/2027-08-18/
LOCATION:Denmark
CATEGORIES:Svømmehal
END:VEVENT
BEGIN:VEVENT
DTSTART;TZID=Europe/Copenhagen:20270823T081000
DTEND;TZID=Europe/Copenhagen:20270823T085500
DTSTAMP:20260424T134505
CREATED:20260423T081750Z
LAST-MODIFIED:20260423T081952Z
UID:10024736-1819008600-1819011300@gigantium.dk
SUMMARY:Aquafit
DESCRIPTION:
URL:https://gigantium.dk/event/aquafit-2-2/2027-08-23/
LOCATION:Denmark
CATEGORIES:Svømmehal
END:VEVENT
BEGIN:VEVENT
DTSTART;TZID=Europe/Copenhagen:20270825T080000
DTEND;TZID=Europe/Copenhagen:20270825T084500
DTSTAMP:20260424T134505
CREATED:20260423T081436Z
LAST-MODIFIED:20260423T081436Z
UID:10025297-1819180800-1819183500@gigantium.dk
SUMMARY:Aquafit
DESCRIPTION:
URL:https://gigantium.dk/event/aquafit-5/2027-08-25/
LOCATION:Denmark
CATEGORIES:Svømmehal
END:VEVENT
BEGIN:VEVENT
DTSTART;TZID=Europe/Copenhagen:20270830T081000
DTEND;TZID=Europe/Copenhagen:20270830T085500
DTSTAMP:20260424T134505
CREATED:20260423T081750Z
LAST-MODIFIED:20260423T081952Z
UID:10024737-1819613400-1819616100@gigantium.dk
SUMMARY:Aquafit
DESCRIPTION:
URL:https://gigantium.dk/event/aquafit-2-2/2027-08-30/
LOCATION:Denmark
CATEGORIES:Svømmehal
END:VEVENT
END:VCALENDAR