BEGIN:VCALENDAR
VERSION:2.0
PRODID:-//Gigantium - ECPv6.15.16.1//NONSGML v1.0//EN
CALSCALE:GREGORIAN
METHOD:PUBLISH
X-ORIGINAL-URL:https://gigantium.dk
X-WR-CALDESC:Begivenheder for Gigantium
REFRESH-INTERVAL;VALUE=DURATION:PT1H
X-Robots-Tag:noindex
X-PUBLISHED-TTL:PT1H
BEGIN:VTIMEZONE
TZID:Europe/Copenhagen
BEGIN:DAYLIGHT
TZOFFSETFROM:+0100
TZOFFSETTO:+0200
TZNAME:CEST
DTSTART:20270328T010000
END:DAYLIGHT
BEGIN:STANDARD
TZOFFSETFROM:+0200
TZOFFSETTO:+0100
TZNAME:CET
DTSTART:20271031T010000
END:STANDARD
BEGIN:DAYLIGHT
TZOFFSETFROM:+0100
TZOFFSETTO:+0200
TZNAME:CEST
DTSTART:20280326T010000
END:DAYLIGHT
BEGIN:STANDARD
TZOFFSETFROM:+0200
TZOFFSETTO:+0100
TZNAME:CET
DTSTART:20281029T010000
END:STANDARD
BEGIN:DAYLIGHT
TZOFFSETFROM:+0100
TZOFFSETTO:+0200
TZNAME:CEST
DTSTART:20290325T010000
END:DAYLIGHT
BEGIN:STANDARD
TZOFFSETFROM:+0200
TZOFFSETTO:+0100
TZNAME:CET
DTSTART:20291028T010000
END:STANDARD
END:VTIMEZONE
BEGIN:VEVENT
DTSTART;TZID=Europe/Copenhagen:20280103T081000
DTEND;TZID=Europe/Copenhagen:20280103T085500
DTSTAMP:20260424T203243
CREATED:20260423T081750Z
LAST-MODIFIED:20260423T081952Z
UID:10024755-1830499800-1830502500@gigantium.dk
SUMMARY:Aquafit
DESCRIPTION:
URL:https://gigantium.dk/event/aquafit-2-2/2028-01-03/
LOCATION:Denmark
CATEGORIES:Svømmehal
END:VEVENT
BEGIN:VEVENT
DTSTART;TZID=Europe/Copenhagen:20280105T080000
DTEND;TZID=Europe/Copenhagen:20280105T084500
DTSTAMP:20260424T203243
CREATED:20260423T081436Z
LAST-MODIFIED:20260423T081436Z
UID:10025316-1830672000-1830674700@gigantium.dk
SUMMARY:Aquafit
DESCRIPTION:
URL:https://gigantium.dk/event/aquafit-5/2028-01-05/
LOCATION:Denmark
CATEGORIES:Svømmehal
END:VEVENT
BEGIN:VEVENT
DTSTART;TZID=Europe/Copenhagen:20280110T081000
DTEND;TZID=Europe/Copenhagen:20280110T085500
DTSTAMP:20260424T203243
CREATED:20260423T081750Z
LAST-MODIFIED:20260423T081952Z
UID:10024756-1831104600-1831107300@gigantium.dk
SUMMARY:Aquafit
DESCRIPTION:
URL:https://gigantium.dk/event/aquafit-2-2/2028-01-10/
LOCATION:Denmark
CATEGORIES:Svømmehal
END:VEVENT
BEGIN:VEVENT
DTSTART;TZID=Europe/Copenhagen:20280112T080000
DTEND;TZID=Europe/Copenhagen:20280112T084500
DTSTAMP:20260424T203243
CREATED:20260423T081436Z
LAST-MODIFIED:20260423T081436Z
UID:10025317-1831276800-1831279500@gigantium.dk
SUMMARY:Aquafit
DESCRIPTION:
URL:https://gigantium.dk/event/aquafit-5/2028-01-12/
LOCATION:Denmark
CATEGORIES:Svømmehal
END:VEVENT
BEGIN:VEVENT
DTSTART;TZID=Europe/Copenhagen:20280117T081000
DTEND;TZID=Europe/Copenhagen:20280117T085500
DTSTAMP:20260424T203243
CREATED:20260423T081750Z
LAST-MODIFIED:20260423T081952Z
UID:10024757-1831709400-1831712100@gigantium.dk
SUMMARY:Aquafit
DESCRIPTION:
URL:https://gigantium.dk/event/aquafit-2-2/2028-01-17/
LOCATION:Denmark
CATEGORIES:Svømmehal
END:VEVENT
BEGIN:VEVENT
DTSTART;TZID=Europe/Copenhagen:20280119T080000
DTEND;TZID=Europe/Copenhagen:20280119T084500
DTSTAMP:20260424T203243
CREATED:20260423T081436Z
LAST-MODIFIED:20260423T081436Z
UID:10025318-1831881600-1831884300@gigantium.dk
SUMMARY:Aquafit
DESCRIPTION:
URL:https://gigantium.dk/event/aquafit-5/2028-01-19/
LOCATION:Denmark
CATEGORIES:Svømmehal
END:VEVENT
BEGIN:VEVENT
DTSTART;TZID=Europe/Copenhagen:20280124T081000
DTEND;TZID=Europe/Copenhagen:20280124T085500
DTSTAMP:20260424T203243
CREATED:20260423T081750Z
LAST-MODIFIED:20260423T081952Z
UID:10024758-1832314200-1832316900@gigantium.dk
SUMMARY:Aquafit
DESCRIPTION:
URL:https://gigantium.dk/event/aquafit-2-2/2028-01-24/
LOCATION:Denmark
CATEGORIES:Svømmehal
END:VEVENT
BEGIN:VEVENT
DTSTART;TZID=Europe/Copenhagen:20280126T080000
DTEND;TZID=Europe/Copenhagen:20280126T084500
DTSTAMP:20260424T203243
CREATED:20260423T081436Z
LAST-MODIFIED:20260423T081436Z
UID:10025319-1832486400-1832489100@gigantium.dk
SUMMARY:Aquafit
DESCRIPTION:
URL:https://gigantium.dk/event/aquafit-5/2028-01-26/
LOCATION:Denmark
CATEGORIES:Svømmehal
END:VEVENT
BEGIN:VEVENT
DTSTART;TZID=Europe/Copenhagen:20280131T081000
DTEND;TZID=Europe/Copenhagen:20280131T085500
DTSTAMP:20260424T203243
CREATED:20260423T081750Z
LAST-MODIFIED:20260423T081952Z
UID:10024759-1832919000-1832921700@gigantium.dk
SUMMARY:Aquafit
DESCRIPTION:
URL:https://gigantium.dk/event/aquafit-2-2/2028-01-31/
LOCATION:Denmark
CATEGORIES:Svømmehal
END:VEVENT
END:VCALENDAR