BEGIN:VCALENDAR
VERSION:2.0
PRODID:-//Gigantium - ECPv6.15.16.1//NONSGML v1.0//EN
CALSCALE:GREGORIAN
METHOD:PUBLISH
X-ORIGINAL-URL:https://gigantium.dk
X-WR-CALDESC:Begivenheder for Gigantium
REFRESH-INTERVAL;VALUE=DURATION:PT1H
X-Robots-Tag:noindex
X-PUBLISHED-TTL:PT1H
BEGIN:VTIMEZONE
TZID:Europe/Copenhagen
BEGIN:DAYLIGHT
TZOFFSETFROM:+0100
TZOFFSETTO:+0200
TZNAME:CEST
DTSTART:20270328T010000
END:DAYLIGHT
BEGIN:STANDARD
TZOFFSETFROM:+0200
TZOFFSETTO:+0100
TZNAME:CET
DTSTART:20271031T010000
END:STANDARD
BEGIN:DAYLIGHT
TZOFFSETFROM:+0100
TZOFFSETTO:+0200
TZNAME:CEST
DTSTART:20280326T010000
END:DAYLIGHT
BEGIN:STANDARD
TZOFFSETFROM:+0200
TZOFFSETTO:+0100
TZNAME:CET
DTSTART:20281029T010000
END:STANDARD
BEGIN:DAYLIGHT
TZOFFSETFROM:+0100
TZOFFSETTO:+0200
TZNAME:CEST
DTSTART:20290325T010000
END:DAYLIGHT
BEGIN:STANDARD
TZOFFSETFROM:+0200
TZOFFSETTO:+0100
TZNAME:CET
DTSTART:20291028T010000
END:STANDARD
END:VTIMEZONE
BEGIN:VEVENT
DTSTART;TZID=Europe/Copenhagen:20280403T081000
DTEND;TZID=Europe/Copenhagen:20280403T085500
DTSTAMP:20260425T004615
CREATED:20260423T081750Z
LAST-MODIFIED:20260423T081952Z
UID:10024768-1838362200-1838364900@gigantium.dk
SUMMARY:Aquafit
DESCRIPTION:
URL:https://gigantium.dk/event/aquafit-2-2/2028-04-03/
LOCATION:Denmark
CATEGORIES:Svømmehal
END:VEVENT
BEGIN:VEVENT
DTSTART;TZID=Europe/Copenhagen:20280405T080000
DTEND;TZID=Europe/Copenhagen:20280405T084500
DTSTAMP:20260425T004615
CREATED:20260423T081436Z
LAST-MODIFIED:20260423T081436Z
UID:10025329-1838534400-1838537100@gigantium.dk
SUMMARY:Aquafit
DESCRIPTION:
URL:https://gigantium.dk/event/aquafit-5/2028-04-05/
LOCATION:Denmark
CATEGORIES:Svømmehal
END:VEVENT
BEGIN:VEVENT
DTSTART;TZID=Europe/Copenhagen:20280410T081000
DTEND;TZID=Europe/Copenhagen:20280410T085500
DTSTAMP:20260425T004615
CREATED:20260423T081750Z
LAST-MODIFIED:20260423T081952Z
UID:10024769-1838967000-1838969700@gigantium.dk
SUMMARY:Aquafit
DESCRIPTION:
URL:https://gigantium.dk/event/aquafit-2-2/2028-04-10/
LOCATION:Denmark
CATEGORIES:Svømmehal
END:VEVENT
BEGIN:VEVENT
DTSTART;TZID=Europe/Copenhagen:20280412T080000
DTEND;TZID=Europe/Copenhagen:20280412T084500
DTSTAMP:20260425T004615
CREATED:20260423T081436Z
LAST-MODIFIED:20260423T081436Z
UID:10025330-1839139200-1839141900@gigantium.dk
SUMMARY:Aquafit
DESCRIPTION:
URL:https://gigantium.dk/event/aquafit-5/2028-04-12/
LOCATION:Denmark
CATEGORIES:Svømmehal
END:VEVENT
BEGIN:VEVENT
DTSTART;TZID=Europe/Copenhagen:20280417T081000
DTEND;TZID=Europe/Copenhagen:20280417T085500
DTSTAMP:20260425T004615
CREATED:20260423T081750Z
LAST-MODIFIED:20260423T081952Z
UID:10024770-1839571800-1839574500@gigantium.dk
SUMMARY:Aquafit
DESCRIPTION:
URL:https://gigantium.dk/event/aquafit-2-2/2028-04-17/
LOCATION:Denmark
CATEGORIES:Svømmehal
END:VEVENT
BEGIN:VEVENT
DTSTART;TZID=Europe/Copenhagen:20280419T080000
DTEND;TZID=Europe/Copenhagen:20280419T084500
DTSTAMP:20260425T004615
CREATED:20260423T081436Z
LAST-MODIFIED:20260423T081436Z
UID:10025331-1839744000-1839746700@gigantium.dk
SUMMARY:Aquafit
DESCRIPTION:
URL:https://gigantium.dk/event/aquafit-5/2028-04-19/
LOCATION:Denmark
CATEGORIES:Svømmehal
END:VEVENT
BEGIN:VEVENT
DTSTART;TZID=Europe/Copenhagen:20280424T081000
DTEND;TZID=Europe/Copenhagen:20280424T085500
DTSTAMP:20260425T004615
CREATED:20260423T081750Z
LAST-MODIFIED:20260423T081952Z
UID:10024771-1840176600-1840179300@gigantium.dk
SUMMARY:Aquafit
DESCRIPTION:
URL:https://gigantium.dk/event/aquafit-2-2/2028-04-24/
LOCATION:Denmark
CATEGORIES:Svømmehal
END:VEVENT
BEGIN:VEVENT
DTSTART;TZID=Europe/Copenhagen:20280426T080000
DTEND;TZID=Europe/Copenhagen:20280426T084500
DTSTAMP:20260425T004615
CREATED:20260423T081436Z
LAST-MODIFIED:20260423T081436Z
UID:10025332-1840348800-1840351500@gigantium.dk
SUMMARY:Aquafit
DESCRIPTION:
URL:https://gigantium.dk/event/aquafit-5/2028-04-26/
LOCATION:Denmark
CATEGORIES:Svømmehal
END:VEVENT
END:VCALENDAR