BEGIN:VCALENDAR
VERSION:2.0
PRODID:-//Gigantium - ECPv6.15.16.1//NONSGML v1.0//EN
CALSCALE:GREGORIAN
METHOD:PUBLISH
X-WR-CALNAME:Gigantium
X-ORIGINAL-URL:https://gigantium.dk
X-WR-CALDESC:Begivenheder for Gigantium
REFRESH-INTERVAL;VALUE=DURATION:PT1H
X-Robots-Tag:noindex
X-PUBLISHED-TTL:PT1H
BEGIN:VTIMEZONE
TZID:Europe/Copenhagen
BEGIN:DAYLIGHT
TZOFFSETFROM:+0100
TZOFFSETTO:+0200
TZNAME:CEST
DTSTART:20280326T010000
END:DAYLIGHT
BEGIN:STANDARD
TZOFFSETFROM:+0200
TZOFFSETTO:+0100
TZNAME:CET
DTSTART:20281029T010000
END:STANDARD
BEGIN:DAYLIGHT
TZOFFSETFROM:+0100
TZOFFSETTO:+0200
TZNAME:CEST
DTSTART:20290325T010000
END:DAYLIGHT
BEGIN:STANDARD
TZOFFSETFROM:+0200
TZOFFSETTO:+0100
TZNAME:CET
DTSTART:20291028T010000
END:STANDARD
BEGIN:DAYLIGHT
TZOFFSETFROM:+0100
TZOFFSETTO:+0200
TZNAME:CEST
DTSTART:20300331T010000
END:DAYLIGHT
BEGIN:STANDARD
TZOFFSETFROM:+0200
TZOFFSETTO:+0100
TZNAME:CET
DTSTART:20301027T010000
END:STANDARD
END:VTIMEZONE
BEGIN:VEVENT
DTSTART;TZID=Europe/Copenhagen:20290305T081000
DTEND;TZID=Europe/Copenhagen:20290305T085500
DTSTAMP:20260425T163034
CREATED:20260423T081750Z
LAST-MODIFIED:20260423T081952Z
UID:10024816-1867392600-1867395300@gigantium.dk
SUMMARY:Aquafit
DESCRIPTION:
URL:https://gigantium.dk/event/aquafit-2-2/2029-03-05/
LOCATION:Denmark
CATEGORIES:Svømmehal
END:VEVENT
BEGIN:VEVENT
DTSTART;TZID=Europe/Copenhagen:20290307T080000
DTEND;TZID=Europe/Copenhagen:20290307T084500
DTSTAMP:20260425T163034
CREATED:20260423T081436Z
LAST-MODIFIED:20260423T081436Z
UID:10025377-1867564800-1867567500@gigantium.dk
SUMMARY:Aquafit
DESCRIPTION:
URL:https://gigantium.dk/event/aquafit-5/2029-03-07/
LOCATION:Denmark
CATEGORIES:Svømmehal
END:VEVENT
BEGIN:VEVENT
DTSTART;TZID=Europe/Copenhagen:20290312T081000
DTEND;TZID=Europe/Copenhagen:20290312T085500
DTSTAMP:20260425T163034
CREATED:20260423T081750Z
LAST-MODIFIED:20260423T081952Z
UID:10024817-1867997400-1868000100@gigantium.dk
SUMMARY:Aquafit
DESCRIPTION:
URL:https://gigantium.dk/event/aquafit-2-2/2029-03-12/
LOCATION:Denmark
CATEGORIES:Svømmehal
END:VEVENT
BEGIN:VEVENT
DTSTART;TZID=Europe/Copenhagen:20290314T080000
DTEND;TZID=Europe/Copenhagen:20290314T084500
DTSTAMP:20260425T163034
CREATED:20260423T081436Z
LAST-MODIFIED:20260423T081436Z
UID:10025378-1868169600-1868172300@gigantium.dk
SUMMARY:Aquafit
DESCRIPTION:
URL:https://gigantium.dk/event/aquafit-5/2029-03-14/
LOCATION:Denmark
CATEGORIES:Svømmehal
END:VEVENT
BEGIN:VEVENT
DTSTART;TZID=Europe/Copenhagen:20290319T081000
DTEND;TZID=Europe/Copenhagen:20290319T085500
DTSTAMP:20260425T163034
CREATED:20260423T081750Z
LAST-MODIFIED:20260423T081952Z
UID:10024818-1868602200-1868604900@gigantium.dk
SUMMARY:Aquafit
DESCRIPTION:
URL:https://gigantium.dk/event/aquafit-2-2/2029-03-19/
LOCATION:Denmark
CATEGORIES:Svømmehal
END:VEVENT
BEGIN:VEVENT
DTSTART;TZID=Europe/Copenhagen:20290321T080000
DTEND;TZID=Europe/Copenhagen:20290321T084500
DTSTAMP:20260425T163034
CREATED:20260423T081436Z
LAST-MODIFIED:20260423T081436Z
UID:10025379-1868774400-1868777100@gigantium.dk
SUMMARY:Aquafit
DESCRIPTION:
URL:https://gigantium.dk/event/aquafit-5/2029-03-21/
LOCATION:Denmark
CATEGORIES:Svømmehal
END:VEVENT
BEGIN:VEVENT
DTSTART;TZID=Europe/Copenhagen:20290326T081000
DTEND;TZID=Europe/Copenhagen:20290326T085500
DTSTAMP:20260425T163034
CREATED:20260423T081750Z
LAST-MODIFIED:20260423T081952Z
UID:10024819-1869207000-1869209700@gigantium.dk
SUMMARY:Aquafit
DESCRIPTION:
URL:https://gigantium.dk/event/aquafit-2-2/2029-03-26/
LOCATION:Denmark
CATEGORIES:Svømmehal
END:VEVENT
BEGIN:VEVENT
DTSTART;TZID=Europe/Copenhagen:20290328T080000
DTEND;TZID=Europe/Copenhagen:20290328T084500
DTSTAMP:20260425T163034
CREATED:20260423T081436Z
LAST-MODIFIED:20260423T081436Z
UID:10025380-1869379200-1869381900@gigantium.dk
SUMMARY:Aquafit
DESCRIPTION:
URL:https://gigantium.dk/event/aquafit-5/2029-03-28/
LOCATION:Denmark
CATEGORIES:Svømmehal
END:VEVENT
END:VCALENDAR