BEGIN:VCALENDAR
VERSION:2.0
PRODID:-//Gigantium - ECPv6.15.16.1//NONSGML v1.0//EN
CALSCALE:GREGORIAN
METHOD:PUBLISH
X-ORIGINAL-URL:https://gigantium.dk
X-WR-CALDESC:Begivenheder for Gigantium
REFRESH-INTERVAL;VALUE=DURATION:PT1H
X-Robots-Tag:noindex
X-PUBLISHED-TTL:PT1H
BEGIN:VTIMEZONE
TZID:Europe/Copenhagen
BEGIN:DAYLIGHT
TZOFFSETFROM:+0100
TZOFFSETTO:+0200
TZNAME:CEST
DTSTART:20280326T010000
END:DAYLIGHT
BEGIN:STANDARD
TZOFFSETFROM:+0200
TZOFFSETTO:+0100
TZNAME:CET
DTSTART:20281029T010000
END:STANDARD
BEGIN:DAYLIGHT
TZOFFSETFROM:+0100
TZOFFSETTO:+0200
TZNAME:CEST
DTSTART:20290325T010000
END:DAYLIGHT
BEGIN:STANDARD
TZOFFSETFROM:+0200
TZOFFSETTO:+0100
TZNAME:CET
DTSTART:20291028T010000
END:STANDARD
BEGIN:DAYLIGHT
TZOFFSETFROM:+0100
TZOFFSETTO:+0200
TZNAME:CEST
DTSTART:20300331T010000
END:DAYLIGHT
BEGIN:STANDARD
TZOFFSETFROM:+0200
TZOFFSETTO:+0100
TZNAME:CET
DTSTART:20301027T010000
END:STANDARD
END:VTIMEZONE
BEGIN:VEVENT
DTSTART;TZID=Europe/Copenhagen:20290402T081000
DTEND;TZID=Europe/Copenhagen:20290402T085500
DTSTAMP:20260425T180223
CREATED:20260423T081750Z
LAST-MODIFIED:20260423T081952Z
UID:10024820-1869811800-1869814500@gigantium.dk
SUMMARY:Aquafit
DESCRIPTION:
URL:https://gigantium.dk/event/aquafit-2-2/2029-04-02/
LOCATION:Denmark
CATEGORIES:Svømmehal
END:VEVENT
BEGIN:VEVENT
DTSTART;TZID=Europe/Copenhagen:20290404T080000
DTEND;TZID=Europe/Copenhagen:20290404T084500
DTSTAMP:20260425T180223
CREATED:20260423T081436Z
LAST-MODIFIED:20260423T081436Z
UID:10025381-1869984000-1869986700@gigantium.dk
SUMMARY:Aquafit
DESCRIPTION:
URL:https://gigantium.dk/event/aquafit-5/2029-04-04/
LOCATION:Denmark
CATEGORIES:Svømmehal
END:VEVENT
BEGIN:VEVENT
DTSTART;TZID=Europe/Copenhagen:20290409T081000
DTEND;TZID=Europe/Copenhagen:20290409T085500
DTSTAMP:20260425T180223
CREATED:20260423T081750Z
LAST-MODIFIED:20260423T081952Z
UID:10024821-1870416600-1870419300@gigantium.dk
SUMMARY:Aquafit
DESCRIPTION:
URL:https://gigantium.dk/event/aquafit-2-2/2029-04-09/
LOCATION:Denmark
CATEGORIES:Svømmehal
END:VEVENT
BEGIN:VEVENT
DTSTART;TZID=Europe/Copenhagen:20290411T080000
DTEND;TZID=Europe/Copenhagen:20290411T084500
DTSTAMP:20260425T180223
CREATED:20260423T081436Z
LAST-MODIFIED:20260423T081436Z
UID:10025382-1870588800-1870591500@gigantium.dk
SUMMARY:Aquafit
DESCRIPTION:
URL:https://gigantium.dk/event/aquafit-5/2029-04-11/
LOCATION:Denmark
CATEGORIES:Svømmehal
END:VEVENT
BEGIN:VEVENT
DTSTART;TZID=Europe/Copenhagen:20290416T081000
DTEND;TZID=Europe/Copenhagen:20290416T085500
DTSTAMP:20260425T180223
CREATED:20260423T081750Z
LAST-MODIFIED:20260423T081952Z
UID:10024822-1871021400-1871024100@gigantium.dk
SUMMARY:Aquafit
DESCRIPTION:
URL:https://gigantium.dk/event/aquafit-2-2/2029-04-16/
LOCATION:Denmark
CATEGORIES:Svømmehal
END:VEVENT
BEGIN:VEVENT
DTSTART;TZID=Europe/Copenhagen:20290418T080000
DTEND;TZID=Europe/Copenhagen:20290418T084500
DTSTAMP:20260425T180223
CREATED:20260423T081436Z
LAST-MODIFIED:20260423T081436Z
UID:10025383-1871193600-1871196300@gigantium.dk
SUMMARY:Aquafit
DESCRIPTION:
URL:https://gigantium.dk/event/aquafit-5/2029-04-18/
LOCATION:Denmark
CATEGORIES:Svømmehal
END:VEVENT
BEGIN:VEVENT
DTSTART;TZID=Europe/Copenhagen:20290423T081000
DTEND;TZID=Europe/Copenhagen:20290423T085500
DTSTAMP:20260425T180223
CREATED:20260423T081750Z
LAST-MODIFIED:20260423T081952Z
UID:10024823-1871626200-1871628900@gigantium.dk
SUMMARY:Aquafit
DESCRIPTION:
URL:https://gigantium.dk/event/aquafit-2-2/2029-04-23/
LOCATION:Denmark
CATEGORIES:Svømmehal
END:VEVENT
BEGIN:VEVENT
DTSTART;TZID=Europe/Copenhagen:20290425T080000
DTEND;TZID=Europe/Copenhagen:20290425T084500
DTSTAMP:20260425T180223
CREATED:20260423T081436Z
LAST-MODIFIED:20260423T081436Z
UID:10025384-1871798400-1871801100@gigantium.dk
SUMMARY:Aquafit
DESCRIPTION:
URL:https://gigantium.dk/event/aquafit-5/2029-04-25/
LOCATION:Denmark
CATEGORIES:Svømmehal
END:VEVENT
BEGIN:VEVENT
DTSTART;TZID=Europe/Copenhagen:20290430T081000
DTEND;TZID=Europe/Copenhagen:20290430T085500
DTSTAMP:20260425T180223
CREATED:20260423T081750Z
LAST-MODIFIED:20260423T081952Z
UID:10024824-1872231000-1872233700@gigantium.dk
SUMMARY:Aquafit
DESCRIPTION:
URL:https://gigantium.dk/event/aquafit-2-2/2029-04-30/
LOCATION:Denmark
CATEGORIES:Svømmehal
END:VEVENT
END:VCALENDAR