BEGIN:VCALENDAR
VERSION:2.0
PRODID:-//Gigantium - ECPv6.15.16.1//NONSGML v1.0//EN
CALSCALE:GREGORIAN
METHOD:PUBLISH
X-WR-CALNAME:Gigantium
X-ORIGINAL-URL:https://gigantium.dk
X-WR-CALDESC:Begivenheder for Gigantium
REFRESH-INTERVAL;VALUE=DURATION:PT1H
X-Robots-Tag:noindex
X-PUBLISHED-TTL:PT1H
BEGIN:VTIMEZONE
TZID:Europe/Copenhagen
BEGIN:DAYLIGHT
TZOFFSETFROM:+0100
TZOFFSETTO:+0200
TZNAME:CEST
DTSTART:20280326T010000
END:DAYLIGHT
BEGIN:STANDARD
TZOFFSETFROM:+0200
TZOFFSETTO:+0100
TZNAME:CET
DTSTART:20281029T010000
END:STANDARD
BEGIN:DAYLIGHT
TZOFFSETFROM:+0100
TZOFFSETTO:+0200
TZNAME:CEST
DTSTART:20290325T010000
END:DAYLIGHT
BEGIN:STANDARD
TZOFFSETFROM:+0200
TZOFFSETTO:+0100
TZNAME:CET
DTSTART:20291028T010000
END:STANDARD
BEGIN:DAYLIGHT
TZOFFSETFROM:+0100
TZOFFSETTO:+0200
TZNAME:CEST
DTSTART:20300331T010000
END:DAYLIGHT
BEGIN:STANDARD
TZOFFSETFROM:+0200
TZOFFSETTO:+0100
TZNAME:CET
DTSTART:20301027T010000
END:STANDARD
END:VTIMEZONE
BEGIN:VEVENT
DTSTART;TZID=Europe/Copenhagen:20290604T081000
DTEND;TZID=Europe/Copenhagen:20290604T085500
DTSTAMP:20260425T211709
CREATED:20260423T081750Z
LAST-MODIFIED:20260423T081952Z
UID:10024829-1875255000-1875257700@gigantium.dk
SUMMARY:Aquafit
DESCRIPTION:
URL:https://gigantium.dk/event/aquafit-2-2/2029-06-04/
LOCATION:Denmark
CATEGORIES:Svømmehal
END:VEVENT
BEGIN:VEVENT
DTSTART;TZID=Europe/Copenhagen:20290606T080000
DTEND;TZID=Europe/Copenhagen:20290606T084500
DTSTAMP:20260425T211709
CREATED:20260423T081436Z
LAST-MODIFIED:20260423T081436Z
UID:10025390-1875427200-1875429900@gigantium.dk
SUMMARY:Aquafit
DESCRIPTION:
URL:https://gigantium.dk/event/aquafit-5/2029-06-06/
LOCATION:Denmark
CATEGORIES:Svømmehal
END:VEVENT
BEGIN:VEVENT
DTSTART;TZID=Europe/Copenhagen:20290611T081000
DTEND;TZID=Europe/Copenhagen:20290611T085500
DTSTAMP:20260425T211709
CREATED:20260423T081750Z
LAST-MODIFIED:20260423T081952Z
UID:10024830-1875859800-1875862500@gigantium.dk
SUMMARY:Aquafit
DESCRIPTION:
URL:https://gigantium.dk/event/aquafit-2-2/2029-06-11/
LOCATION:Denmark
CATEGORIES:Svømmehal
END:VEVENT
BEGIN:VEVENT
DTSTART;TZID=Europe/Copenhagen:20290613T080000
DTEND;TZID=Europe/Copenhagen:20290613T084500
DTSTAMP:20260425T211709
CREATED:20260423T081436Z
LAST-MODIFIED:20260423T081436Z
UID:10025391-1876032000-1876034700@gigantium.dk
SUMMARY:Aquafit
DESCRIPTION:
URL:https://gigantium.dk/event/aquafit-5/2029-06-13/
LOCATION:Denmark
CATEGORIES:Svømmehal
END:VEVENT
BEGIN:VEVENT
DTSTART;TZID=Europe/Copenhagen:20290618T081000
DTEND;TZID=Europe/Copenhagen:20290618T085500
DTSTAMP:20260425T211709
CREATED:20260423T081750Z
LAST-MODIFIED:20260423T081952Z
UID:10024831-1876464600-1876467300@gigantium.dk
SUMMARY:Aquafit
DESCRIPTION:
URL:https://gigantium.dk/event/aquafit-2-2/2029-06-18/
LOCATION:Denmark
CATEGORIES:Svømmehal
END:VEVENT
BEGIN:VEVENT
DTSTART;TZID=Europe/Copenhagen:20290620T080000
DTEND;TZID=Europe/Copenhagen:20290620T084500
DTSTAMP:20260425T211709
CREATED:20260423T081436Z
LAST-MODIFIED:20260423T081436Z
UID:10025392-1876636800-1876639500@gigantium.dk
SUMMARY:Aquafit
DESCRIPTION:
URL:https://gigantium.dk/event/aquafit-5/2029-06-20/
LOCATION:Denmark
CATEGORIES:Svømmehal
END:VEVENT
BEGIN:VEVENT
DTSTART;TZID=Europe/Copenhagen:20290625T081000
DTEND;TZID=Europe/Copenhagen:20290625T085500
DTSTAMP:20260425T211709
CREATED:20260423T081750Z
LAST-MODIFIED:20260423T081952Z
UID:10024832-1877069400-1877072100@gigantium.dk
SUMMARY:Aquafit
DESCRIPTION:
URL:https://gigantium.dk/event/aquafit-2-2/2029-06-25/
LOCATION:Denmark
CATEGORIES:Svømmehal
END:VEVENT
BEGIN:VEVENT
DTSTART;TZID=Europe/Copenhagen:20290627T080000
DTEND;TZID=Europe/Copenhagen:20290627T084500
DTSTAMP:20260425T211709
CREATED:20260423T081436Z
LAST-MODIFIED:20260423T081436Z
UID:10025393-1877241600-1877244300@gigantium.dk
SUMMARY:Aquafit
DESCRIPTION:
URL:https://gigantium.dk/event/aquafit-5/2029-06-27/
LOCATION:Denmark
CATEGORIES:Svømmehal
END:VEVENT
END:VCALENDAR