BEGIN:VCALENDAR
VERSION:2.0
PRODID:-//Gigantium - ECPv6.15.16.1//NONSGML v1.0//EN
CALSCALE:GREGORIAN
METHOD:PUBLISH
X-WR-CALNAME:Gigantium
X-ORIGINAL-URL:https://gigantium.dk
X-WR-CALDESC:Begivenheder for Gigantium
REFRESH-INTERVAL;VALUE=DURATION:PT1H
X-Robots-Tag:noindex
X-PUBLISHED-TTL:PT1H
BEGIN:VTIMEZONE
TZID:Europe/Copenhagen
BEGIN:DAYLIGHT
TZOFFSETFROM:+0100
TZOFFSETTO:+0200
TZNAME:CEST
DTSTART:20280326T010000
END:DAYLIGHT
BEGIN:STANDARD
TZOFFSETFROM:+0200
TZOFFSETTO:+0100
TZNAME:CET
DTSTART:20281029T010000
END:STANDARD
BEGIN:DAYLIGHT
TZOFFSETFROM:+0100
TZOFFSETTO:+0200
TZNAME:CEST
DTSTART:20290325T010000
END:DAYLIGHT
BEGIN:STANDARD
TZOFFSETFROM:+0200
TZOFFSETTO:+0100
TZNAME:CET
DTSTART:20291028T010000
END:STANDARD
BEGIN:DAYLIGHT
TZOFFSETFROM:+0100
TZOFFSETTO:+0200
TZNAME:CEST
DTSTART:20300331T010000
END:DAYLIGHT
BEGIN:STANDARD
TZOFFSETFROM:+0200
TZOFFSETTO:+0100
TZNAME:CET
DTSTART:20301027T010000
END:STANDARD
END:VTIMEZONE
BEGIN:VEVENT
DTSTART;TZID=Europe/Copenhagen:20290702T081000
DTEND;TZID=Europe/Copenhagen:20290702T085500
DTSTAMP:20260425T225007
CREATED:20260423T081750Z
LAST-MODIFIED:20260423T081952Z
UID:10024833-1877674200-1877676900@gigantium.dk
SUMMARY:Aquafit
DESCRIPTION:
URL:https://gigantium.dk/event/aquafit-2-2/2029-07-02/
LOCATION:Denmark
CATEGORIES:Svømmehal
END:VEVENT
BEGIN:VEVENT
DTSTART;TZID=Europe/Copenhagen:20290704T080000
DTEND;TZID=Europe/Copenhagen:20290704T084500
DTSTAMP:20260425T225007
CREATED:20260423T081436Z
LAST-MODIFIED:20260423T081436Z
UID:10025394-1877846400-1877849100@gigantium.dk
SUMMARY:Aquafit
DESCRIPTION:
URL:https://gigantium.dk/event/aquafit-5/2029-07-04/
LOCATION:Denmark
CATEGORIES:Svømmehal
END:VEVENT
BEGIN:VEVENT
DTSTART;TZID=Europe/Copenhagen:20290709T081000
DTEND;TZID=Europe/Copenhagen:20290709T085500
DTSTAMP:20260425T225007
CREATED:20260423T081750Z
LAST-MODIFIED:20260423T081952Z
UID:10024834-1878279000-1878281700@gigantium.dk
SUMMARY:Aquafit
DESCRIPTION:
URL:https://gigantium.dk/event/aquafit-2-2/2029-07-09/
LOCATION:Denmark
CATEGORIES:Svømmehal
END:VEVENT
BEGIN:VEVENT
DTSTART;TZID=Europe/Copenhagen:20290711T080000
DTEND;TZID=Europe/Copenhagen:20290711T084500
DTSTAMP:20260425T225007
CREATED:20260423T081436Z
LAST-MODIFIED:20260423T081436Z
UID:10025395-1878451200-1878453900@gigantium.dk
SUMMARY:Aquafit
DESCRIPTION:
URL:https://gigantium.dk/event/aquafit-5/2029-07-11/
LOCATION:Denmark
CATEGORIES:Svømmehal
END:VEVENT
BEGIN:VEVENT
DTSTART;TZID=Europe/Copenhagen:20290716T081000
DTEND;TZID=Europe/Copenhagen:20290716T085500
DTSTAMP:20260425T225007
CREATED:20260423T081750Z
LAST-MODIFIED:20260423T081952Z
UID:10024835-1878883800-1878886500@gigantium.dk
SUMMARY:Aquafit
DESCRIPTION:
URL:https://gigantium.dk/event/aquafit-2-2/2029-07-16/
LOCATION:Denmark
CATEGORIES:Svømmehal
END:VEVENT
BEGIN:VEVENT
DTSTART;TZID=Europe/Copenhagen:20290718T080000
DTEND;TZID=Europe/Copenhagen:20290718T084500
DTSTAMP:20260425T225007
CREATED:20260423T081436Z
LAST-MODIFIED:20260423T081436Z
UID:10025396-1879056000-1879058700@gigantium.dk
SUMMARY:Aquafit
DESCRIPTION:
URL:https://gigantium.dk/event/aquafit-5/2029-07-18/
LOCATION:Denmark
CATEGORIES:Svømmehal
END:VEVENT
BEGIN:VEVENT
DTSTART;TZID=Europe/Copenhagen:20290723T081000
DTEND;TZID=Europe/Copenhagen:20290723T085500
DTSTAMP:20260425T225007
CREATED:20260423T081750Z
LAST-MODIFIED:20260423T081952Z
UID:10024836-1879488600-1879491300@gigantium.dk
SUMMARY:Aquafit
DESCRIPTION:
URL:https://gigantium.dk/event/aquafit-2-2/2029-07-23/
LOCATION:Denmark
CATEGORIES:Svømmehal
END:VEVENT
BEGIN:VEVENT
DTSTART;TZID=Europe/Copenhagen:20290725T080000
DTEND;TZID=Europe/Copenhagen:20290725T084500
DTSTAMP:20260425T225007
CREATED:20260423T081436Z
LAST-MODIFIED:20260423T081436Z
UID:10025397-1879660800-1879663500@gigantium.dk
SUMMARY:Aquafit
DESCRIPTION:
URL:https://gigantium.dk/event/aquafit-5/2029-07-25/
LOCATION:Denmark
CATEGORIES:Svømmehal
END:VEVENT
BEGIN:VEVENT
DTSTART;TZID=Europe/Copenhagen:20290730T081000
DTEND;TZID=Europe/Copenhagen:20290730T085500
DTSTAMP:20260425T225007
CREATED:20260423T081750Z
LAST-MODIFIED:20260423T081952Z
UID:10024837-1880093400-1880096100@gigantium.dk
SUMMARY:Aquafit
DESCRIPTION:
URL:https://gigantium.dk/event/aquafit-2-2/2029-07-30/
LOCATION:Denmark
CATEGORIES:Svømmehal
END:VEVENT
END:VCALENDAR