BEGIN:VCALENDAR
VERSION:2.0
PRODID:-//Gigantium - ECPv6.15.16.1//NONSGML v1.0//EN
CALSCALE:GREGORIAN
METHOD:PUBLISH
X-WR-CALNAME:Gigantium
X-ORIGINAL-URL:https://gigantium.dk
X-WR-CALDESC:Begivenheder for Gigantium
REFRESH-INTERVAL;VALUE=DURATION:PT1H
X-Robots-Tag:noindex
X-PUBLISHED-TTL:PT1H
BEGIN:VTIMEZONE
TZID:Europe/Copenhagen
BEGIN:DAYLIGHT
TZOFFSETFROM:+0100
TZOFFSETTO:+0200
TZNAME:CEST
DTSTART:20280326T010000
END:DAYLIGHT
BEGIN:STANDARD
TZOFFSETFROM:+0200
TZOFFSETTO:+0100
TZNAME:CET
DTSTART:20281029T010000
END:STANDARD
BEGIN:DAYLIGHT
TZOFFSETFROM:+0100
TZOFFSETTO:+0200
TZNAME:CEST
DTSTART:20290325T010000
END:DAYLIGHT
BEGIN:STANDARD
TZOFFSETFROM:+0200
TZOFFSETTO:+0100
TZNAME:CET
DTSTART:20291028T010000
END:STANDARD
BEGIN:DAYLIGHT
TZOFFSETFROM:+0100
TZOFFSETTO:+0200
TZNAME:CEST
DTSTART:20300331T010000
END:DAYLIGHT
BEGIN:STANDARD
TZOFFSETFROM:+0200
TZOFFSETTO:+0100
TZNAME:CET
DTSTART:20301027T010000
END:STANDARD
END:VTIMEZONE
BEGIN:VEVENT
DTSTART;TZID=Europe/Copenhagen:20290801T080000
DTEND;TZID=Europe/Copenhagen:20290801T084500
DTSTAMP:20260426T001121
CREATED:20260423T081436Z
LAST-MODIFIED:20260423T081436Z
UID:10025398-1880265600-1880268300@gigantium.dk
SUMMARY:Aquafit
DESCRIPTION:
URL:https://gigantium.dk/event/aquafit-5/2029-08-01/
LOCATION:Denmark
CATEGORIES:Svømmehal
END:VEVENT
BEGIN:VEVENT
DTSTART;TZID=Europe/Copenhagen:20290806T081000
DTEND;TZID=Europe/Copenhagen:20290806T085500
DTSTAMP:20260426T001121
CREATED:20260423T081750Z
LAST-MODIFIED:20260423T081952Z
UID:10024838-1880698200-1880700900@gigantium.dk
SUMMARY:Aquafit
DESCRIPTION:
URL:https://gigantium.dk/event/aquafit-2-2/2029-08-06/
LOCATION:Denmark
CATEGORIES:Svømmehal
END:VEVENT
BEGIN:VEVENT
DTSTART;TZID=Europe/Copenhagen:20290808T080000
DTEND;TZID=Europe/Copenhagen:20290808T084500
DTSTAMP:20260426T001121
CREATED:20260423T081436Z
LAST-MODIFIED:20260423T081436Z
UID:10025399-1880870400-1880873100@gigantium.dk
SUMMARY:Aquafit
DESCRIPTION:
URL:https://gigantium.dk/event/aquafit-5/2029-08-08/
LOCATION:Denmark
CATEGORIES:Svømmehal
END:VEVENT
BEGIN:VEVENT
DTSTART;TZID=Europe/Copenhagen:20290813T081000
DTEND;TZID=Europe/Copenhagen:20290813T085500
DTSTAMP:20260426T001121
CREATED:20260423T081750Z
LAST-MODIFIED:20260423T081952Z
UID:10024839-1881303000-1881305700@gigantium.dk
SUMMARY:Aquafit
DESCRIPTION:
URL:https://gigantium.dk/event/aquafit-2-2/2029-08-13/
LOCATION:Denmark
CATEGORIES:Svømmehal
END:VEVENT
BEGIN:VEVENT
DTSTART;TZID=Europe/Copenhagen:20290815T080000
DTEND;TZID=Europe/Copenhagen:20290815T084500
DTSTAMP:20260426T001121
CREATED:20260423T081436Z
LAST-MODIFIED:20260423T081436Z
UID:10025400-1881475200-1881477900@gigantium.dk
SUMMARY:Aquafit
DESCRIPTION:
URL:https://gigantium.dk/event/aquafit-5/2029-08-15/
LOCATION:Denmark
CATEGORIES:Svømmehal
END:VEVENT
BEGIN:VEVENT
DTSTART;TZID=Europe/Copenhagen:20290820T081000
DTEND;TZID=Europe/Copenhagen:20290820T085500
DTSTAMP:20260426T001121
CREATED:20260423T081750Z
LAST-MODIFIED:20260423T081952Z
UID:10024840-1881907800-1881910500@gigantium.dk
SUMMARY:Aquafit
DESCRIPTION:
URL:https://gigantium.dk/event/aquafit-2-2/2029-08-20/
LOCATION:Denmark
CATEGORIES:Svømmehal
END:VEVENT
BEGIN:VEVENT
DTSTART;TZID=Europe/Copenhagen:20290822T080000
DTEND;TZID=Europe/Copenhagen:20290822T084500
DTSTAMP:20260426T001121
CREATED:20260423T081436Z
LAST-MODIFIED:20260423T081436Z
UID:10025401-1882080000-1882082700@gigantium.dk
SUMMARY:Aquafit
DESCRIPTION:
URL:https://gigantium.dk/event/aquafit-5/2029-08-22/
LOCATION:Denmark
CATEGORIES:Svømmehal
END:VEVENT
BEGIN:VEVENT
DTSTART;TZID=Europe/Copenhagen:20290827T081000
DTEND;TZID=Europe/Copenhagen:20290827T085500
DTSTAMP:20260426T001121
CREATED:20260423T081750Z
LAST-MODIFIED:20260423T081952Z
UID:10024841-1882512600-1882515300@gigantium.dk
SUMMARY:Aquafit
DESCRIPTION:
URL:https://gigantium.dk/event/aquafit-2-2/2029-08-27/
LOCATION:Denmark
CATEGORIES:Svømmehal
END:VEVENT
BEGIN:VEVENT
DTSTART;TZID=Europe/Copenhagen:20290829T080000
DTEND;TZID=Europe/Copenhagen:20290829T084500
DTSTAMP:20260426T001121
CREATED:20260423T081436Z
LAST-MODIFIED:20260423T081436Z
UID:10025402-1882684800-1882687500@gigantium.dk
SUMMARY:Aquafit
DESCRIPTION:
URL:https://gigantium.dk/event/aquafit-5/2029-08-29/
LOCATION:Denmark
CATEGORIES:Svømmehal
END:VEVENT
END:VCALENDAR