BEGIN:VCALENDAR
VERSION:2.0
PRODID:-//Gigantium - ECPv6.15.16.1//NONSGML v1.0//EN
CALSCALE:GREGORIAN
METHOD:PUBLISH
X-WR-CALNAME:Gigantium
X-ORIGINAL-URL:https://gigantium.dk
X-WR-CALDESC:Begivenheder for Gigantium
REFRESH-INTERVAL;VALUE=DURATION:PT1H
X-Robots-Tag:noindex
X-PUBLISHED-TTL:PT1H
BEGIN:VTIMEZONE
TZID:Europe/Copenhagen
BEGIN:DAYLIGHT
TZOFFSETFROM:+0100
TZOFFSETTO:+0200
TZNAME:CEST
DTSTART:20250330T010000
END:DAYLIGHT
BEGIN:STANDARD
TZOFFSETFROM:+0200
TZOFFSETTO:+0100
TZNAME:CET
DTSTART:20251026T010000
END:STANDARD
BEGIN:DAYLIGHT
TZOFFSETFROM:+0100
TZOFFSETTO:+0200
TZNAME:CEST
DTSTART:20260329T010000
END:DAYLIGHT
BEGIN:STANDARD
TZOFFSETFROM:+0200
TZOFFSETTO:+0100
TZNAME:CET
DTSTART:20261025T010000
END:STANDARD
BEGIN:DAYLIGHT
TZOFFSETFROM:+0100
TZOFFSETTO:+0200
TZNAME:CEST
DTSTART:20270328T010000
END:DAYLIGHT
BEGIN:STANDARD
TZOFFSETFROM:+0200
TZOFFSETTO:+0100
TZNAME:CET
DTSTART:20271031T010000
END:STANDARD
END:VTIMEZONE
BEGIN:VEVENT
DTSTART;TZID=Europe/Copenhagen:20260804T183000
DTEND;TZID=Europe/Copenhagen:20260804T200000
DTSTAMP:20260419T233214
CREATED:20250919T064020Z
LAST-MODIFIED:20251218T074925Z
UID:10003948-1785868200-1785873600@gigantium.dk
SUMMARY:Wellnessgus
DESCRIPTION:Til wellnessgus bliver der skruet ekstra op for varmen i vores wellnessafdeling med hele tre omgange af saunagus.  \nFor at deltage skal du have en billet til vores wellnessafdeling\, samt en tillægsbillet til 25 kroner\, som du køber på dagen i Café Gigantium.   \nDu skal være minimum 18 år for at deltage. Til wellnessgus er der plads til 50 personer\, og pladserne bliver fordelt ud fra først til mølle-princippet.    \nRetningslinjer for saunagus:   \n\nVær klar ved saunaen fem minutter før start. \n\n\nSørg for at drikke rigeligt vand før og efter saunagus.  \n\n\nHvis du skal i bassinerne efterfølgende\, så skal du skylle kroppen inden. \n\n\nMedbring eget håndklæde til at sidde på i vores saunaer. \n\n*Du bør ikke deltage i saunagus\, hvis du er gravid\, har epilepsi\, hjerteproblemer eller duft- og parfumeallergi.   \nVi afholder wellnessgus om tirsdagen fra kl. 18:30 til 20:00\, og om torsdagen fra kl. 17:30 til 19:00. 
URL:https://gigantium.dk/event/wellnessgus/2026-08-04/
LOCATION:Denmark
CATEGORIES:Wellness
END:VEVENT
BEGIN:VEVENT
DTSTART;TZID=Europe/Copenhagen:20260811T183000
DTEND;TZID=Europe/Copenhagen:20260811T200000
DTSTAMP:20260419T233214
CREATED:20250919T064020Z
LAST-MODIFIED:20251218T074925Z
UID:10003949-1786473000-1786478400@gigantium.dk
SUMMARY:Wellnessgus
DESCRIPTION:Til wellnessgus bliver der skruet ekstra op for varmen i vores wellnessafdeling med hele tre omgange af saunagus.  \nFor at deltage skal du have en billet til vores wellnessafdeling\, samt en tillægsbillet til 25 kroner\, som du køber på dagen i Café Gigantium.   \nDu skal være minimum 18 år for at deltage. Til wellnessgus er der plads til 50 personer\, og pladserne bliver fordelt ud fra først til mølle-princippet.    \nRetningslinjer for saunagus:   \n\nVær klar ved saunaen fem minutter før start. \n\n\nSørg for at drikke rigeligt vand før og efter saunagus.  \n\n\nHvis du skal i bassinerne efterfølgende\, så skal du skylle kroppen inden. \n\n\nMedbring eget håndklæde til at sidde på i vores saunaer. \n\n*Du bør ikke deltage i saunagus\, hvis du er gravid\, har epilepsi\, hjerteproblemer eller duft- og parfumeallergi.   \nVi afholder wellnessgus om tirsdagen fra kl. 18:30 til 20:00\, og om torsdagen fra kl. 17:30 til 19:00. 
URL:https://gigantium.dk/event/wellnessgus/2026-08-11/
LOCATION:Denmark
CATEGORIES:Wellness
END:VEVENT
BEGIN:VEVENT
DTSTART;TZID=Europe/Copenhagen:20260818T183000
DTEND;TZID=Europe/Copenhagen:20260818T200000
DTSTAMP:20260419T233214
CREATED:20250919T064020Z
LAST-MODIFIED:20251218T074925Z
UID:10003950-1787077800-1787083200@gigantium.dk
SUMMARY:Wellnessgus
DESCRIPTION:Til wellnessgus bliver der skruet ekstra op for varmen i vores wellnessafdeling med hele tre omgange af saunagus.  \nFor at deltage skal du have en billet til vores wellnessafdeling\, samt en tillægsbillet til 25 kroner\, som du køber på dagen i Café Gigantium.   \nDu skal være minimum 18 år for at deltage. Til wellnessgus er der plads til 50 personer\, og pladserne bliver fordelt ud fra først til mølle-princippet.    \nRetningslinjer for saunagus:   \n\nVær klar ved saunaen fem minutter før start. \n\n\nSørg for at drikke rigeligt vand før og efter saunagus.  \n\n\nHvis du skal i bassinerne efterfølgende\, så skal du skylle kroppen inden. \n\n\nMedbring eget håndklæde til at sidde på i vores saunaer. \n\n*Du bør ikke deltage i saunagus\, hvis du er gravid\, har epilepsi\, hjerteproblemer eller duft- og parfumeallergi.   \nVi afholder wellnessgus om tirsdagen fra kl. 18:30 til 20:00\, og om torsdagen fra kl. 17:30 til 19:00. 
URL:https://gigantium.dk/event/wellnessgus/2026-08-18/
LOCATION:Denmark
CATEGORIES:Wellness
END:VEVENT
BEGIN:VEVENT
DTSTART;TZID=Europe/Copenhagen:20260825T183000
DTEND;TZID=Europe/Copenhagen:20260825T200000
DTSTAMP:20260419T233214
CREATED:20250919T064020Z
LAST-MODIFIED:20251218T074925Z
UID:10003951-1787682600-1787688000@gigantium.dk
SUMMARY:Wellnessgus
DESCRIPTION:Til wellnessgus bliver der skruet ekstra op for varmen i vores wellnessafdeling med hele tre omgange af saunagus.  \nFor at deltage skal du have en billet til vores wellnessafdeling\, samt en tillægsbillet til 25 kroner\, som du køber på dagen i Café Gigantium.   \nDu skal være minimum 18 år for at deltage. Til wellnessgus er der plads til 50 personer\, og pladserne bliver fordelt ud fra først til mølle-princippet.    \nRetningslinjer for saunagus:   \n\nVær klar ved saunaen fem minutter før start. \n\n\nSørg for at drikke rigeligt vand før og efter saunagus.  \n\n\nHvis du skal i bassinerne efterfølgende\, så skal du skylle kroppen inden. \n\n\nMedbring eget håndklæde til at sidde på i vores saunaer. \n\n*Du bør ikke deltage i saunagus\, hvis du er gravid\, har epilepsi\, hjerteproblemer eller duft- og parfumeallergi.   \nVi afholder wellnessgus om tirsdagen fra kl. 18:30 til 20:00\, og om torsdagen fra kl. 17:30 til 19:00. 
URL:https://gigantium.dk/event/wellnessgus/2026-08-25/
LOCATION:Denmark
CATEGORIES:Wellness
END:VEVENT
END:VCALENDAR