BEGIN:VCALENDAR
VERSION:2.0
PRODID:-//Gigantium - ECPv6.15.16.1//NONSGML v1.0//EN
CALSCALE:GREGORIAN
METHOD:PUBLISH
X-WR-CALNAME:Gigantium
X-ORIGINAL-URL:https://gigantium.dk
X-WR-CALDESC:Begivenheder for Gigantium
REFRESH-INTERVAL;VALUE=DURATION:PT1H
X-Robots-Tag:noindex
X-PUBLISHED-TTL:PT1H
BEGIN:VTIMEZONE
TZID:Europe/Copenhagen
BEGIN:DAYLIGHT
TZOFFSETFROM:+0100
TZOFFSETTO:+0200
TZNAME:CEST
DTSTART:20290325T010000
END:DAYLIGHT
BEGIN:STANDARD
TZOFFSETFROM:+0200
TZOFFSETTO:+0100
TZNAME:CET
DTSTART:20291028T010000
END:STANDARD
BEGIN:DAYLIGHT
TZOFFSETFROM:+0100
TZOFFSETTO:+0200
TZNAME:CEST
DTSTART:20300331T010000
END:DAYLIGHT
BEGIN:STANDARD
TZOFFSETFROM:+0200
TZOFFSETTO:+0100
TZNAME:CET
DTSTART:20301027T010000
END:STANDARD
BEGIN:DAYLIGHT
TZOFFSETFROM:+0100
TZOFFSETTO:+0200
TZNAME:CEST
DTSTART:20310330T010000
END:DAYLIGHT
BEGIN:STANDARD
TZOFFSETFROM:+0200
TZOFFSETTO:+0100
TZNAME:CET
DTSTART:20311026T010000
END:STANDARD
END:VTIMEZONE
BEGIN:VEVENT
DTSTART;TZID=Europe/Copenhagen:20300201T170000
DTEND;TZID=Europe/Copenhagen:20300201T171200
DTSTAMP:20260423T174146
CREATED:20251001T075021Z
LAST-MODIFIED:20260330T120509Z
UID:10012633-1896195600-1896196320@gigantium.dk
SUMMARY:Saunagus
DESCRIPTION:Til saunagus hælder vores gusmester vand blandet med forskellige æteriske olier på stene i saunaovnen. På denne måde opstår en velduftende damp\, som bærer aromaerne af olierne. For at disse dampe kommer ud til alle deltagerne i rummet\, så svinger vores gusmester et håndklæde eller en vifte rundt. De forskellige olier og temperaturer\, som du bliver præsenteret for i løbet af sessionen\, har forskellige gavnlige effekter for kroppen. Alt dette vil vores gusmester fortælle mere om i løbet af guset.   \nVi afvikler saunagus hver anden time i vores åbningstid. Det koster ikke noget at deltage.  \nRetningslinjer for saunagus:   \n\nDu skal være klar ved saunaen fem minutter før start.\n\n\nDu skal sørge for at drikke rigeligt vand før og efter saunagus.\n\n\nHvis du skal i bassinerne efterfølgende\, så skal du skylle kroppen inden.\n\n\nDu skal have eget håndklæde med til at sidde på i vores saunaer.\n\n*Du bør ikke deltage i saunagus\, hvis du er gravid\, har epilepsi\, hjerteproblemer eller duft- og parfumeallergi.  \n 
URL:https://gigantium.dk/event/saunagus-6/2030-02-01/
LOCATION:Denmark
CATEGORIES:Wellness
END:VEVENT
BEGIN:VEVENT
DTSTART;TZID=Europe/Copenhagen:20300204T170000
DTEND;TZID=Europe/Copenhagen:20300204T171200
DTSTAMP:20260423T174146
CREATED:20251001T075021Z
LAST-MODIFIED:20260330T120509Z
UID:10012634-1896454800-1896455520@gigantium.dk
SUMMARY:Saunagus
DESCRIPTION:Til saunagus hælder vores gusmester vand blandet med forskellige æteriske olier på stene i saunaovnen. På denne måde opstår en velduftende damp\, som bærer aromaerne af olierne. For at disse dampe kommer ud til alle deltagerne i rummet\, så svinger vores gusmester et håndklæde eller en vifte rundt. De forskellige olier og temperaturer\, som du bliver præsenteret for i løbet af sessionen\, har forskellige gavnlige effekter for kroppen. Alt dette vil vores gusmester fortælle mere om i løbet af guset.   \nVi afvikler saunagus hver anden time i vores åbningstid. Det koster ikke noget at deltage.  \nRetningslinjer for saunagus:   \n\nDu skal være klar ved saunaen fem minutter før start.\n\n\nDu skal sørge for at drikke rigeligt vand før og efter saunagus.\n\n\nHvis du skal i bassinerne efterfølgende\, så skal du skylle kroppen inden.\n\n\nDu skal have eget håndklæde med til at sidde på i vores saunaer.\n\n*Du bør ikke deltage i saunagus\, hvis du er gravid\, har epilepsi\, hjerteproblemer eller duft- og parfumeallergi.  \n 
URL:https://gigantium.dk/event/saunagus-6/2030-02-04/
LOCATION:Denmark
CATEGORIES:Wellness
END:VEVENT
BEGIN:VEVENT
DTSTART;TZID=Europe/Copenhagen:20300205T170000
DTEND;TZID=Europe/Copenhagen:20300205T171200
DTSTAMP:20260423T174146
CREATED:20251001T075021Z
LAST-MODIFIED:20260330T120509Z
UID:10012635-1896541200-1896541920@gigantium.dk
SUMMARY:Saunagus
DESCRIPTION:Til saunagus hælder vores gusmester vand blandet med forskellige æteriske olier på stene i saunaovnen. På denne måde opstår en velduftende damp\, som bærer aromaerne af olierne. For at disse dampe kommer ud til alle deltagerne i rummet\, så svinger vores gusmester et håndklæde eller en vifte rundt. De forskellige olier og temperaturer\, som du bliver præsenteret for i løbet af sessionen\, har forskellige gavnlige effekter for kroppen. Alt dette vil vores gusmester fortælle mere om i løbet af guset.   \nVi afvikler saunagus hver anden time i vores åbningstid. Det koster ikke noget at deltage.  \nRetningslinjer for saunagus:   \n\nDu skal være klar ved saunaen fem minutter før start.\n\n\nDu skal sørge for at drikke rigeligt vand før og efter saunagus.\n\n\nHvis du skal i bassinerne efterfølgende\, så skal du skylle kroppen inden.\n\n\nDu skal have eget håndklæde med til at sidde på i vores saunaer.\n\n*Du bør ikke deltage i saunagus\, hvis du er gravid\, har epilepsi\, hjerteproblemer eller duft- og parfumeallergi.  \n 
URL:https://gigantium.dk/event/saunagus-6/2030-02-05/
LOCATION:Denmark
CATEGORIES:Wellness
END:VEVENT
BEGIN:VEVENT
DTSTART;TZID=Europe/Copenhagen:20300206T170000
DTEND;TZID=Europe/Copenhagen:20300206T171200
DTSTAMP:20260423T174146
CREATED:20251001T075021Z
LAST-MODIFIED:20260330T120509Z
UID:10012636-1896627600-1896628320@gigantium.dk
SUMMARY:Saunagus
DESCRIPTION:Til saunagus hælder vores gusmester vand blandet med forskellige æteriske olier på stene i saunaovnen. På denne måde opstår en velduftende damp\, som bærer aromaerne af olierne. For at disse dampe kommer ud til alle deltagerne i rummet\, så svinger vores gusmester et håndklæde eller en vifte rundt. De forskellige olier og temperaturer\, som du bliver præsenteret for i løbet af sessionen\, har forskellige gavnlige effekter for kroppen. Alt dette vil vores gusmester fortælle mere om i løbet af guset.   \nVi afvikler saunagus hver anden time i vores åbningstid. Det koster ikke noget at deltage.  \nRetningslinjer for saunagus:   \n\nDu skal være klar ved saunaen fem minutter før start.\n\n\nDu skal sørge for at drikke rigeligt vand før og efter saunagus.\n\n\nHvis du skal i bassinerne efterfølgende\, så skal du skylle kroppen inden.\n\n\nDu skal have eget håndklæde med til at sidde på i vores saunaer.\n\n*Du bør ikke deltage i saunagus\, hvis du er gravid\, har epilepsi\, hjerteproblemer eller duft- og parfumeallergi.  \n 
URL:https://gigantium.dk/event/saunagus-6/2030-02-06/
LOCATION:Denmark
CATEGORIES:Wellness
END:VEVENT
BEGIN:VEVENT
DTSTART;TZID=Europe/Copenhagen:20300207T170000
DTEND;TZID=Europe/Copenhagen:20300207T171200
DTSTAMP:20260423T174146
CREATED:20251001T075021Z
LAST-MODIFIED:20260330T120509Z
UID:10012637-1896714000-1896714720@gigantium.dk
SUMMARY:Saunagus
DESCRIPTION:Til saunagus hælder vores gusmester vand blandet med forskellige æteriske olier på stene i saunaovnen. På denne måde opstår en velduftende damp\, som bærer aromaerne af olierne. For at disse dampe kommer ud til alle deltagerne i rummet\, så svinger vores gusmester et håndklæde eller en vifte rundt. De forskellige olier og temperaturer\, som du bliver præsenteret for i løbet af sessionen\, har forskellige gavnlige effekter for kroppen. Alt dette vil vores gusmester fortælle mere om i løbet af guset.   \nVi afvikler saunagus hver anden time i vores åbningstid. Det koster ikke noget at deltage.  \nRetningslinjer for saunagus:   \n\nDu skal være klar ved saunaen fem minutter før start.\n\n\nDu skal sørge for at drikke rigeligt vand før og efter saunagus.\n\n\nHvis du skal i bassinerne efterfølgende\, så skal du skylle kroppen inden.\n\n\nDu skal have eget håndklæde med til at sidde på i vores saunaer.\n\n*Du bør ikke deltage i saunagus\, hvis du er gravid\, har epilepsi\, hjerteproblemer eller duft- og parfumeallergi.  \n 
URL:https://gigantium.dk/event/saunagus-6/2030-02-07/
LOCATION:Denmark
CATEGORIES:Wellness
END:VEVENT
BEGIN:VEVENT
DTSTART;TZID=Europe/Copenhagen:20300208T170000
DTEND;TZID=Europe/Copenhagen:20300208T171200
DTSTAMP:20260423T174146
CREATED:20251001T075021Z
LAST-MODIFIED:20260330T120509Z
UID:10012638-1896800400-1896801120@gigantium.dk
SUMMARY:Saunagus
DESCRIPTION:Til saunagus hælder vores gusmester vand blandet med forskellige æteriske olier på stene i saunaovnen. På denne måde opstår en velduftende damp\, som bærer aromaerne af olierne. For at disse dampe kommer ud til alle deltagerne i rummet\, så svinger vores gusmester et håndklæde eller en vifte rundt. De forskellige olier og temperaturer\, som du bliver præsenteret for i løbet af sessionen\, har forskellige gavnlige effekter for kroppen. Alt dette vil vores gusmester fortælle mere om i løbet af guset.   \nVi afvikler saunagus hver anden time i vores åbningstid. Det koster ikke noget at deltage.  \nRetningslinjer for saunagus:   \n\nDu skal være klar ved saunaen fem minutter før start.\n\n\nDu skal sørge for at drikke rigeligt vand før og efter saunagus.\n\n\nHvis du skal i bassinerne efterfølgende\, så skal du skylle kroppen inden.\n\n\nDu skal have eget håndklæde med til at sidde på i vores saunaer.\n\n*Du bør ikke deltage i saunagus\, hvis du er gravid\, har epilepsi\, hjerteproblemer eller duft- og parfumeallergi.  \n 
URL:https://gigantium.dk/event/saunagus-6/2030-02-08/
LOCATION:Denmark
CATEGORIES:Wellness
END:VEVENT
BEGIN:VEVENT
DTSTART;TZID=Europe/Copenhagen:20300211T170000
DTEND;TZID=Europe/Copenhagen:20300211T171200
DTSTAMP:20260423T174146
CREATED:20251001T075021Z
LAST-MODIFIED:20260330T120509Z
UID:10012639-1897059600-1897060320@gigantium.dk
SUMMARY:Saunagus
DESCRIPTION:Til saunagus hælder vores gusmester vand blandet med forskellige æteriske olier på stene i saunaovnen. På denne måde opstår en velduftende damp\, som bærer aromaerne af olierne. For at disse dampe kommer ud til alle deltagerne i rummet\, så svinger vores gusmester et håndklæde eller en vifte rundt. De forskellige olier og temperaturer\, som du bliver præsenteret for i løbet af sessionen\, har forskellige gavnlige effekter for kroppen. Alt dette vil vores gusmester fortælle mere om i løbet af guset.   \nVi afvikler saunagus hver anden time i vores åbningstid. Det koster ikke noget at deltage.  \nRetningslinjer for saunagus:   \n\nDu skal være klar ved saunaen fem minutter før start.\n\n\nDu skal sørge for at drikke rigeligt vand før og efter saunagus.\n\n\nHvis du skal i bassinerne efterfølgende\, så skal du skylle kroppen inden.\n\n\nDu skal have eget håndklæde med til at sidde på i vores saunaer.\n\n*Du bør ikke deltage i saunagus\, hvis du er gravid\, har epilepsi\, hjerteproblemer eller duft- og parfumeallergi.  \n 
URL:https://gigantium.dk/event/saunagus-6/2030-02-11/
LOCATION:Denmark
CATEGORIES:Wellness
END:VEVENT
BEGIN:VEVENT
DTSTART;TZID=Europe/Copenhagen:20300212T170000
DTEND;TZID=Europe/Copenhagen:20300212T171200
DTSTAMP:20260423T174146
CREATED:20251001T075021Z
LAST-MODIFIED:20260330T120509Z
UID:10012640-1897146000-1897146720@gigantium.dk
SUMMARY:Saunagus
DESCRIPTION:Til saunagus hælder vores gusmester vand blandet med forskellige æteriske olier på stene i saunaovnen. På denne måde opstår en velduftende damp\, som bærer aromaerne af olierne. For at disse dampe kommer ud til alle deltagerne i rummet\, så svinger vores gusmester et håndklæde eller en vifte rundt. De forskellige olier og temperaturer\, som du bliver præsenteret for i løbet af sessionen\, har forskellige gavnlige effekter for kroppen. Alt dette vil vores gusmester fortælle mere om i løbet af guset.   \nVi afvikler saunagus hver anden time i vores åbningstid. Det koster ikke noget at deltage.  \nRetningslinjer for saunagus:   \n\nDu skal være klar ved saunaen fem minutter før start.\n\n\nDu skal sørge for at drikke rigeligt vand før og efter saunagus.\n\n\nHvis du skal i bassinerne efterfølgende\, så skal du skylle kroppen inden.\n\n\nDu skal have eget håndklæde med til at sidde på i vores saunaer.\n\n*Du bør ikke deltage i saunagus\, hvis du er gravid\, har epilepsi\, hjerteproblemer eller duft- og parfumeallergi.  \n 
URL:https://gigantium.dk/event/saunagus-6/2030-02-12/
LOCATION:Denmark
CATEGORIES:Wellness
END:VEVENT
BEGIN:VEVENT
DTSTART;TZID=Europe/Copenhagen:20300213T170000
DTEND;TZID=Europe/Copenhagen:20300213T171200
DTSTAMP:20260423T174146
CREATED:20251001T075021Z
LAST-MODIFIED:20260330T120509Z
UID:10012641-1897232400-1897233120@gigantium.dk
SUMMARY:Saunagus
DESCRIPTION:Til saunagus hælder vores gusmester vand blandet med forskellige æteriske olier på stene i saunaovnen. På denne måde opstår en velduftende damp\, som bærer aromaerne af olierne. For at disse dampe kommer ud til alle deltagerne i rummet\, så svinger vores gusmester et håndklæde eller en vifte rundt. De forskellige olier og temperaturer\, som du bliver præsenteret for i løbet af sessionen\, har forskellige gavnlige effekter for kroppen. Alt dette vil vores gusmester fortælle mere om i løbet af guset.   \nVi afvikler saunagus hver anden time i vores åbningstid. Det koster ikke noget at deltage.  \nRetningslinjer for saunagus:   \n\nDu skal være klar ved saunaen fem minutter før start.\n\n\nDu skal sørge for at drikke rigeligt vand før og efter saunagus.\n\n\nHvis du skal i bassinerne efterfølgende\, så skal du skylle kroppen inden.\n\n\nDu skal have eget håndklæde med til at sidde på i vores saunaer.\n\n*Du bør ikke deltage i saunagus\, hvis du er gravid\, har epilepsi\, hjerteproblemer eller duft- og parfumeallergi.  \n 
URL:https://gigantium.dk/event/saunagus-6/2030-02-13/
LOCATION:Denmark
CATEGORIES:Wellness
END:VEVENT
BEGIN:VEVENT
DTSTART;TZID=Europe/Copenhagen:20300214T170000
DTEND;TZID=Europe/Copenhagen:20300214T171200
DTSTAMP:20260423T174146
CREATED:20251001T075021Z
LAST-MODIFIED:20260330T120509Z
UID:10012642-1897318800-1897319520@gigantium.dk
SUMMARY:Saunagus
DESCRIPTION:Til saunagus hælder vores gusmester vand blandet med forskellige æteriske olier på stene i saunaovnen. På denne måde opstår en velduftende damp\, som bærer aromaerne af olierne. For at disse dampe kommer ud til alle deltagerne i rummet\, så svinger vores gusmester et håndklæde eller en vifte rundt. De forskellige olier og temperaturer\, som du bliver præsenteret for i løbet af sessionen\, har forskellige gavnlige effekter for kroppen. Alt dette vil vores gusmester fortælle mere om i løbet af guset.   \nVi afvikler saunagus hver anden time i vores åbningstid. Det koster ikke noget at deltage.  \nRetningslinjer for saunagus:   \n\nDu skal være klar ved saunaen fem minutter før start.\n\n\nDu skal sørge for at drikke rigeligt vand før og efter saunagus.\n\n\nHvis du skal i bassinerne efterfølgende\, så skal du skylle kroppen inden.\n\n\nDu skal have eget håndklæde med til at sidde på i vores saunaer.\n\n*Du bør ikke deltage i saunagus\, hvis du er gravid\, har epilepsi\, hjerteproblemer eller duft- og parfumeallergi.  \n 
URL:https://gigantium.dk/event/saunagus-6/2030-02-14/
LOCATION:Denmark
CATEGORIES:Wellness
END:VEVENT
BEGIN:VEVENT
DTSTART;TZID=Europe/Copenhagen:20300215T170000
DTEND;TZID=Europe/Copenhagen:20300215T171200
DTSTAMP:20260423T174146
CREATED:20251001T075021Z
LAST-MODIFIED:20260330T120509Z
UID:10012643-1897405200-1897405920@gigantium.dk
SUMMARY:Saunagus
DESCRIPTION:Til saunagus hælder vores gusmester vand blandet med forskellige æteriske olier på stene i saunaovnen. På denne måde opstår en velduftende damp\, som bærer aromaerne af olierne. For at disse dampe kommer ud til alle deltagerne i rummet\, så svinger vores gusmester et håndklæde eller en vifte rundt. De forskellige olier og temperaturer\, som du bliver præsenteret for i løbet af sessionen\, har forskellige gavnlige effekter for kroppen. Alt dette vil vores gusmester fortælle mere om i løbet af guset.   \nVi afvikler saunagus hver anden time i vores åbningstid. Det koster ikke noget at deltage.  \nRetningslinjer for saunagus:   \n\nDu skal være klar ved saunaen fem minutter før start.\n\n\nDu skal sørge for at drikke rigeligt vand før og efter saunagus.\n\n\nHvis du skal i bassinerne efterfølgende\, så skal du skylle kroppen inden.\n\n\nDu skal have eget håndklæde med til at sidde på i vores saunaer.\n\n*Du bør ikke deltage i saunagus\, hvis du er gravid\, har epilepsi\, hjerteproblemer eller duft- og parfumeallergi.  \n 
URL:https://gigantium.dk/event/saunagus-6/2030-02-15/
LOCATION:Denmark
CATEGORIES:Wellness
END:VEVENT
BEGIN:VEVENT
DTSTART;TZID=Europe/Copenhagen:20300218T170000
DTEND;TZID=Europe/Copenhagen:20300218T171200
DTSTAMP:20260423T174146
CREATED:20251001T075021Z
LAST-MODIFIED:20260330T120509Z
UID:10012644-1897664400-1897665120@gigantium.dk
SUMMARY:Saunagus
DESCRIPTION:Til saunagus hælder vores gusmester vand blandet med forskellige æteriske olier på stene i saunaovnen. På denne måde opstår en velduftende damp\, som bærer aromaerne af olierne. For at disse dampe kommer ud til alle deltagerne i rummet\, så svinger vores gusmester et håndklæde eller en vifte rundt. De forskellige olier og temperaturer\, som du bliver præsenteret for i løbet af sessionen\, har forskellige gavnlige effekter for kroppen. Alt dette vil vores gusmester fortælle mere om i løbet af guset.   \nVi afvikler saunagus hver anden time i vores åbningstid. Det koster ikke noget at deltage.  \nRetningslinjer for saunagus:   \n\nDu skal være klar ved saunaen fem minutter før start.\n\n\nDu skal sørge for at drikke rigeligt vand før og efter saunagus.\n\n\nHvis du skal i bassinerne efterfølgende\, så skal du skylle kroppen inden.\n\n\nDu skal have eget håndklæde med til at sidde på i vores saunaer.\n\n*Du bør ikke deltage i saunagus\, hvis du er gravid\, har epilepsi\, hjerteproblemer eller duft- og parfumeallergi.  \n 
URL:https://gigantium.dk/event/saunagus-6/2030-02-18/
LOCATION:Denmark
CATEGORIES:Wellness
END:VEVENT
BEGIN:VEVENT
DTSTART;TZID=Europe/Copenhagen:20300219T170000
DTEND;TZID=Europe/Copenhagen:20300219T171200
DTSTAMP:20260423T174146
CREATED:20251001T075021Z
LAST-MODIFIED:20260330T120509Z
UID:10012645-1897750800-1897751520@gigantium.dk
SUMMARY:Saunagus
DESCRIPTION:Til saunagus hælder vores gusmester vand blandet med forskellige æteriske olier på stene i saunaovnen. På denne måde opstår en velduftende damp\, som bærer aromaerne af olierne. For at disse dampe kommer ud til alle deltagerne i rummet\, så svinger vores gusmester et håndklæde eller en vifte rundt. De forskellige olier og temperaturer\, som du bliver præsenteret for i løbet af sessionen\, har forskellige gavnlige effekter for kroppen. Alt dette vil vores gusmester fortælle mere om i løbet af guset.   \nVi afvikler saunagus hver anden time i vores åbningstid. Det koster ikke noget at deltage.  \nRetningslinjer for saunagus:   \n\nDu skal være klar ved saunaen fem minutter før start.\n\n\nDu skal sørge for at drikke rigeligt vand før og efter saunagus.\n\n\nHvis du skal i bassinerne efterfølgende\, så skal du skylle kroppen inden.\n\n\nDu skal have eget håndklæde med til at sidde på i vores saunaer.\n\n*Du bør ikke deltage i saunagus\, hvis du er gravid\, har epilepsi\, hjerteproblemer eller duft- og parfumeallergi.  \n 
URL:https://gigantium.dk/event/saunagus-6/2030-02-19/
LOCATION:Denmark
CATEGORIES:Wellness
END:VEVENT
BEGIN:VEVENT
DTSTART;TZID=Europe/Copenhagen:20300220T170000
DTEND;TZID=Europe/Copenhagen:20300220T171200
DTSTAMP:20260423T174146
CREATED:20251001T075021Z
LAST-MODIFIED:20260330T120509Z
UID:10012646-1897837200-1897837920@gigantium.dk
SUMMARY:Saunagus
DESCRIPTION:Til saunagus hælder vores gusmester vand blandet med forskellige æteriske olier på stene i saunaovnen. På denne måde opstår en velduftende damp\, som bærer aromaerne af olierne. For at disse dampe kommer ud til alle deltagerne i rummet\, så svinger vores gusmester et håndklæde eller en vifte rundt. De forskellige olier og temperaturer\, som du bliver præsenteret for i løbet af sessionen\, har forskellige gavnlige effekter for kroppen. Alt dette vil vores gusmester fortælle mere om i løbet af guset.   \nVi afvikler saunagus hver anden time i vores åbningstid. Det koster ikke noget at deltage.  \nRetningslinjer for saunagus:   \n\nDu skal være klar ved saunaen fem minutter før start.\n\n\nDu skal sørge for at drikke rigeligt vand før og efter saunagus.\n\n\nHvis du skal i bassinerne efterfølgende\, så skal du skylle kroppen inden.\n\n\nDu skal have eget håndklæde med til at sidde på i vores saunaer.\n\n*Du bør ikke deltage i saunagus\, hvis du er gravid\, har epilepsi\, hjerteproblemer eller duft- og parfumeallergi.  \n 
URL:https://gigantium.dk/event/saunagus-6/2030-02-20/
LOCATION:Denmark
CATEGORIES:Wellness
END:VEVENT
BEGIN:VEVENT
DTSTART;TZID=Europe/Copenhagen:20300221T170000
DTEND;TZID=Europe/Copenhagen:20300221T171200
DTSTAMP:20260423T174146
CREATED:20251001T075021Z
LAST-MODIFIED:20260330T120509Z
UID:10012647-1897923600-1897924320@gigantium.dk
SUMMARY:Saunagus
DESCRIPTION:Til saunagus hælder vores gusmester vand blandet med forskellige æteriske olier på stene i saunaovnen. På denne måde opstår en velduftende damp\, som bærer aromaerne af olierne. For at disse dampe kommer ud til alle deltagerne i rummet\, så svinger vores gusmester et håndklæde eller en vifte rundt. De forskellige olier og temperaturer\, som du bliver præsenteret for i løbet af sessionen\, har forskellige gavnlige effekter for kroppen. Alt dette vil vores gusmester fortælle mere om i løbet af guset.   \nVi afvikler saunagus hver anden time i vores åbningstid. Det koster ikke noget at deltage.  \nRetningslinjer for saunagus:   \n\nDu skal være klar ved saunaen fem minutter før start.\n\n\nDu skal sørge for at drikke rigeligt vand før og efter saunagus.\n\n\nHvis du skal i bassinerne efterfølgende\, så skal du skylle kroppen inden.\n\n\nDu skal have eget håndklæde med til at sidde på i vores saunaer.\n\n*Du bør ikke deltage i saunagus\, hvis du er gravid\, har epilepsi\, hjerteproblemer eller duft- og parfumeallergi.  \n 
URL:https://gigantium.dk/event/saunagus-6/2030-02-21/
LOCATION:Denmark
CATEGORIES:Wellness
END:VEVENT
BEGIN:VEVENT
DTSTART;TZID=Europe/Copenhagen:20300222T170000
DTEND;TZID=Europe/Copenhagen:20300222T171200
DTSTAMP:20260423T174146
CREATED:20251001T075021Z
LAST-MODIFIED:20260330T120509Z
UID:10012648-1898010000-1898010720@gigantium.dk
SUMMARY:Saunagus
DESCRIPTION:Til saunagus hælder vores gusmester vand blandet med forskellige æteriske olier på stene i saunaovnen. På denne måde opstår en velduftende damp\, som bærer aromaerne af olierne. For at disse dampe kommer ud til alle deltagerne i rummet\, så svinger vores gusmester et håndklæde eller en vifte rundt. De forskellige olier og temperaturer\, som du bliver præsenteret for i løbet af sessionen\, har forskellige gavnlige effekter for kroppen. Alt dette vil vores gusmester fortælle mere om i løbet af guset.   \nVi afvikler saunagus hver anden time i vores åbningstid. Det koster ikke noget at deltage.  \nRetningslinjer for saunagus:   \n\nDu skal være klar ved saunaen fem minutter før start.\n\n\nDu skal sørge for at drikke rigeligt vand før og efter saunagus.\n\n\nHvis du skal i bassinerne efterfølgende\, så skal du skylle kroppen inden.\n\n\nDu skal have eget håndklæde med til at sidde på i vores saunaer.\n\n*Du bør ikke deltage i saunagus\, hvis du er gravid\, har epilepsi\, hjerteproblemer eller duft- og parfumeallergi.  \n 
URL:https://gigantium.dk/event/saunagus-6/2030-02-22/
LOCATION:Denmark
CATEGORIES:Wellness
END:VEVENT
BEGIN:VEVENT
DTSTART;TZID=Europe/Copenhagen:20300225T170000
DTEND;TZID=Europe/Copenhagen:20300225T171200
DTSTAMP:20260423T174146
CREATED:20251001T075021Z
LAST-MODIFIED:20260330T120509Z
UID:10012649-1898269200-1898269920@gigantium.dk
SUMMARY:Saunagus
DESCRIPTION:Til saunagus hælder vores gusmester vand blandet med forskellige æteriske olier på stene i saunaovnen. På denne måde opstår en velduftende damp\, som bærer aromaerne af olierne. For at disse dampe kommer ud til alle deltagerne i rummet\, så svinger vores gusmester et håndklæde eller en vifte rundt. De forskellige olier og temperaturer\, som du bliver præsenteret for i løbet af sessionen\, har forskellige gavnlige effekter for kroppen. Alt dette vil vores gusmester fortælle mere om i løbet af guset.   \nVi afvikler saunagus hver anden time i vores åbningstid. Det koster ikke noget at deltage.  \nRetningslinjer for saunagus:   \n\nDu skal være klar ved saunaen fem minutter før start.\n\n\nDu skal sørge for at drikke rigeligt vand før og efter saunagus.\n\n\nHvis du skal i bassinerne efterfølgende\, så skal du skylle kroppen inden.\n\n\nDu skal have eget håndklæde med til at sidde på i vores saunaer.\n\n*Du bør ikke deltage i saunagus\, hvis du er gravid\, har epilepsi\, hjerteproblemer eller duft- og parfumeallergi.  \n 
URL:https://gigantium.dk/event/saunagus-6/2030-02-25/
LOCATION:Denmark
CATEGORIES:Wellness
END:VEVENT
BEGIN:VEVENT
DTSTART;TZID=Europe/Copenhagen:20300226T170000
DTEND;TZID=Europe/Copenhagen:20300226T171200
DTSTAMP:20260423T174146
CREATED:20251001T075021Z
LAST-MODIFIED:20260330T120509Z
UID:10012650-1898355600-1898356320@gigantium.dk
SUMMARY:Saunagus
DESCRIPTION:Til saunagus hælder vores gusmester vand blandet med forskellige æteriske olier på stene i saunaovnen. På denne måde opstår en velduftende damp\, som bærer aromaerne af olierne. For at disse dampe kommer ud til alle deltagerne i rummet\, så svinger vores gusmester et håndklæde eller en vifte rundt. De forskellige olier og temperaturer\, som du bliver præsenteret for i løbet af sessionen\, har forskellige gavnlige effekter for kroppen. Alt dette vil vores gusmester fortælle mere om i løbet af guset.   \nVi afvikler saunagus hver anden time i vores åbningstid. Det koster ikke noget at deltage.  \nRetningslinjer for saunagus:   \n\nDu skal være klar ved saunaen fem minutter før start.\n\n\nDu skal sørge for at drikke rigeligt vand før og efter saunagus.\n\n\nHvis du skal i bassinerne efterfølgende\, så skal du skylle kroppen inden.\n\n\nDu skal have eget håndklæde med til at sidde på i vores saunaer.\n\n*Du bør ikke deltage i saunagus\, hvis du er gravid\, har epilepsi\, hjerteproblemer eller duft- og parfumeallergi.  \n 
URL:https://gigantium.dk/event/saunagus-6/2030-02-26/
LOCATION:Denmark
CATEGORIES:Wellness
END:VEVENT
BEGIN:VEVENT
DTSTART;TZID=Europe/Copenhagen:20300227T170000
DTEND;TZID=Europe/Copenhagen:20300227T171200
DTSTAMP:20260423T174146
CREATED:20251001T075021Z
LAST-MODIFIED:20260330T120509Z
UID:10012651-1898442000-1898442720@gigantium.dk
SUMMARY:Saunagus
DESCRIPTION:Til saunagus hælder vores gusmester vand blandet med forskellige æteriske olier på stene i saunaovnen. På denne måde opstår en velduftende damp\, som bærer aromaerne af olierne. For at disse dampe kommer ud til alle deltagerne i rummet\, så svinger vores gusmester et håndklæde eller en vifte rundt. De forskellige olier og temperaturer\, som du bliver præsenteret for i løbet af sessionen\, har forskellige gavnlige effekter for kroppen. Alt dette vil vores gusmester fortælle mere om i løbet af guset.   \nVi afvikler saunagus hver anden time i vores åbningstid. Det koster ikke noget at deltage.  \nRetningslinjer for saunagus:   \n\nDu skal være klar ved saunaen fem minutter før start.\n\n\nDu skal sørge for at drikke rigeligt vand før og efter saunagus.\n\n\nHvis du skal i bassinerne efterfølgende\, så skal du skylle kroppen inden.\n\n\nDu skal have eget håndklæde med til at sidde på i vores saunaer.\n\n*Du bør ikke deltage i saunagus\, hvis du er gravid\, har epilepsi\, hjerteproblemer eller duft- og parfumeallergi.  \n 
URL:https://gigantium.dk/event/saunagus-6/2030-02-27/
LOCATION:Denmark
CATEGORIES:Wellness
END:VEVENT
BEGIN:VEVENT
DTSTART;TZID=Europe/Copenhagen:20300228T170000
DTEND;TZID=Europe/Copenhagen:20300228T171200
DTSTAMP:20260423T174146
CREATED:20251001T075021Z
LAST-MODIFIED:20260330T120509Z
UID:10012652-1898528400-1898529120@gigantium.dk
SUMMARY:Saunagus
DESCRIPTION:Til saunagus hælder vores gusmester vand blandet med forskellige æteriske olier på stene i saunaovnen. På denne måde opstår en velduftende damp\, som bærer aromaerne af olierne. For at disse dampe kommer ud til alle deltagerne i rummet\, så svinger vores gusmester et håndklæde eller en vifte rundt. De forskellige olier og temperaturer\, som du bliver præsenteret for i løbet af sessionen\, har forskellige gavnlige effekter for kroppen. Alt dette vil vores gusmester fortælle mere om i løbet af guset.   \nVi afvikler saunagus hver anden time i vores åbningstid. Det koster ikke noget at deltage.  \nRetningslinjer for saunagus:   \n\nDu skal være klar ved saunaen fem minutter før start.\n\n\nDu skal sørge for at drikke rigeligt vand før og efter saunagus.\n\n\nHvis du skal i bassinerne efterfølgende\, så skal du skylle kroppen inden.\n\n\nDu skal have eget håndklæde med til at sidde på i vores saunaer.\n\n*Du bør ikke deltage i saunagus\, hvis du er gravid\, har epilepsi\, hjerteproblemer eller duft- og parfumeallergi.  \n 
URL:https://gigantium.dk/event/saunagus-6/2030-02-28/
LOCATION:Denmark
CATEGORIES:Wellness
END:VEVENT
END:VCALENDAR