BEGIN:VCALENDAR
VERSION:2.0
PRODID:-//Gigantium - ECPv6.15.16.1//NONSGML v1.0//EN
CALSCALE:GREGORIAN
METHOD:PUBLISH
X-ORIGINAL-URL:https://gigantium.dk
X-WR-CALDESC:Begivenheder for Gigantium
REFRESH-INTERVAL;VALUE=DURATION:PT1H
X-Robots-Tag:noindex
X-PUBLISHED-TTL:PT1H
BEGIN:VTIMEZONE
TZID:Europe/Copenhagen
BEGIN:DAYLIGHT
TZOFFSETFROM:+0100
TZOFFSETTO:+0200
TZNAME:CEST
DTSTART:20260329T010000
END:DAYLIGHT
BEGIN:STANDARD
TZOFFSETFROM:+0200
TZOFFSETTO:+0100
TZNAME:CET
DTSTART:20261025T010000
END:STANDARD
BEGIN:DAYLIGHT
TZOFFSETFROM:+0100
TZOFFSETTO:+0200
TZNAME:CEST
DTSTART:20270328T010000
END:DAYLIGHT
BEGIN:STANDARD
TZOFFSETFROM:+0200
TZOFFSETTO:+0100
TZNAME:CET
DTSTART:20271031T010000
END:STANDARD
BEGIN:DAYLIGHT
TZOFFSETFROM:+0100
TZOFFSETTO:+0200
TZNAME:CEST
DTSTART:20280326T010000
END:DAYLIGHT
BEGIN:STANDARD
TZOFFSETFROM:+0200
TZOFFSETTO:+0100
TZNAME:CET
DTSTART:20281029T010000
END:STANDARD
END:VTIMEZONE
BEGIN:VEVENT
DTSTART;TZID=Europe/Copenhagen:20270301T070000
DTEND;TZID=Europe/Copenhagen:20270301T071200
DTSTAMP:20260419T190523
CREATED:20251001T073341Z
LAST-MODIFIED:20260330T120446Z
UID:10004852-1803884400-1803885120@gigantium.dk
SUMMARY:Saunagus
DESCRIPTION:Til saunagus hælder vores gusmester vand blandet med forskellige æteriske olier på stene i saunaovnen. På denne måde opstår en velduftende damp\, som bærer aromaerne af olierne. For at disse dampe kommer ud til alle deltagerne i rummet\, så svinger vores gusmester et håndklæde eller en vifte rundt. De forskellige olier og temperaturer\, som du bliver præsenteret for i løbet af sessionen\, har forskellige gavnlige effekter for kroppen. Alt dette vil vores gusmester fortælle mere om i løbet af guset.   \nVi afvikler saunagus hver anden time i vores åbningstid. Det koster ikke noget at deltage.  \nRetningslinjer for saunagus:   \n\nDu skal være klar ved saunaen fem minutter før start.\n\n\nDu skal sørge for at drikke rigeligt vand før og efter saunagus.\n\n\nHvis du skal i bassinerne efterfølgende\, så skal du skylle kroppen inden.\n\n\nDu skal have eget håndklæde med til at sidde på i vores saunaer.\n\n*Du bør ikke deltage i saunagus\, hvis du er gravid\, har epilepsi\, hjerteproblemer eller duft- og parfumeallergi.  \n 
URL:https://gigantium.dk/event/saunagus-2/2027-03-01/
LOCATION:Denmark
CATEGORIES:Svømmehal
END:VEVENT
BEGIN:VEVENT
DTSTART;TZID=Europe/Copenhagen:20270302T070000
DTEND;TZID=Europe/Copenhagen:20270302T071200
DTSTAMP:20260419T190523
CREATED:20251001T073341Z
LAST-MODIFIED:20260330T120446Z
UID:10004853-1803970800-1803971520@gigantium.dk
SUMMARY:Saunagus
DESCRIPTION:Til saunagus hælder vores gusmester vand blandet med forskellige æteriske olier på stene i saunaovnen. På denne måde opstår en velduftende damp\, som bærer aromaerne af olierne. For at disse dampe kommer ud til alle deltagerne i rummet\, så svinger vores gusmester et håndklæde eller en vifte rundt. De forskellige olier og temperaturer\, som du bliver præsenteret for i løbet af sessionen\, har forskellige gavnlige effekter for kroppen. Alt dette vil vores gusmester fortælle mere om i løbet af guset.   \nVi afvikler saunagus hver anden time i vores åbningstid. Det koster ikke noget at deltage.  \nRetningslinjer for saunagus:   \n\nDu skal være klar ved saunaen fem minutter før start.\n\n\nDu skal sørge for at drikke rigeligt vand før og efter saunagus.\n\n\nHvis du skal i bassinerne efterfølgende\, så skal du skylle kroppen inden.\n\n\nDu skal have eget håndklæde med til at sidde på i vores saunaer.\n\n*Du bør ikke deltage i saunagus\, hvis du er gravid\, har epilepsi\, hjerteproblemer eller duft- og parfumeallergi.  \n 
URL:https://gigantium.dk/event/saunagus-2/2027-03-02/
LOCATION:Denmark
CATEGORIES:Svømmehal
END:VEVENT
BEGIN:VEVENT
DTSTART;TZID=Europe/Copenhagen:20270303T070000
DTEND;TZID=Europe/Copenhagen:20270303T071200
DTSTAMP:20260419T190523
CREATED:20251001T073341Z
LAST-MODIFIED:20260330T120446Z
UID:10004854-1804057200-1804057920@gigantium.dk
SUMMARY:Saunagus
DESCRIPTION:Til saunagus hælder vores gusmester vand blandet med forskellige æteriske olier på stene i saunaovnen. På denne måde opstår en velduftende damp\, som bærer aromaerne af olierne. For at disse dampe kommer ud til alle deltagerne i rummet\, så svinger vores gusmester et håndklæde eller en vifte rundt. De forskellige olier og temperaturer\, som du bliver præsenteret for i løbet af sessionen\, har forskellige gavnlige effekter for kroppen. Alt dette vil vores gusmester fortælle mere om i løbet af guset.   \nVi afvikler saunagus hver anden time i vores åbningstid. Det koster ikke noget at deltage.  \nRetningslinjer for saunagus:   \n\nDu skal være klar ved saunaen fem minutter før start.\n\n\nDu skal sørge for at drikke rigeligt vand før og efter saunagus.\n\n\nHvis du skal i bassinerne efterfølgende\, så skal du skylle kroppen inden.\n\n\nDu skal have eget håndklæde med til at sidde på i vores saunaer.\n\n*Du bør ikke deltage i saunagus\, hvis du er gravid\, har epilepsi\, hjerteproblemer eller duft- og parfumeallergi.  \n 
URL:https://gigantium.dk/event/saunagus-2/2027-03-03/
LOCATION:Denmark
CATEGORIES:Svømmehal
END:VEVENT
BEGIN:VEVENT
DTSTART;TZID=Europe/Copenhagen:20270304T070000
DTEND;TZID=Europe/Copenhagen:20270304T071200
DTSTAMP:20260419T190523
CREATED:20251001T073341Z
LAST-MODIFIED:20260330T120446Z
UID:10004855-1804143600-1804144320@gigantium.dk
SUMMARY:Saunagus
DESCRIPTION:Til saunagus hælder vores gusmester vand blandet med forskellige æteriske olier på stene i saunaovnen. På denne måde opstår en velduftende damp\, som bærer aromaerne af olierne. For at disse dampe kommer ud til alle deltagerne i rummet\, så svinger vores gusmester et håndklæde eller en vifte rundt. De forskellige olier og temperaturer\, som du bliver præsenteret for i løbet af sessionen\, har forskellige gavnlige effekter for kroppen. Alt dette vil vores gusmester fortælle mere om i løbet af guset.   \nVi afvikler saunagus hver anden time i vores åbningstid. Det koster ikke noget at deltage.  \nRetningslinjer for saunagus:   \n\nDu skal være klar ved saunaen fem minutter før start.\n\n\nDu skal sørge for at drikke rigeligt vand før og efter saunagus.\n\n\nHvis du skal i bassinerne efterfølgende\, så skal du skylle kroppen inden.\n\n\nDu skal have eget håndklæde med til at sidde på i vores saunaer.\n\n*Du bør ikke deltage i saunagus\, hvis du er gravid\, har epilepsi\, hjerteproblemer eller duft- og parfumeallergi.  \n 
URL:https://gigantium.dk/event/saunagus-2/2027-03-04/
LOCATION:Denmark
CATEGORIES:Svømmehal
END:VEVENT
BEGIN:VEVENT
DTSTART;TZID=Europe/Copenhagen:20270308T070000
DTEND;TZID=Europe/Copenhagen:20270308T071200
DTSTAMP:20260419T190523
CREATED:20251001T073341Z
LAST-MODIFIED:20260330T120446Z
UID:10004856-1804489200-1804489920@gigantium.dk
SUMMARY:Saunagus
DESCRIPTION:Til saunagus hælder vores gusmester vand blandet med forskellige æteriske olier på stene i saunaovnen. På denne måde opstår en velduftende damp\, som bærer aromaerne af olierne. For at disse dampe kommer ud til alle deltagerne i rummet\, så svinger vores gusmester et håndklæde eller en vifte rundt. De forskellige olier og temperaturer\, som du bliver præsenteret for i løbet af sessionen\, har forskellige gavnlige effekter for kroppen. Alt dette vil vores gusmester fortælle mere om i løbet af guset.   \nVi afvikler saunagus hver anden time i vores åbningstid. Det koster ikke noget at deltage.  \nRetningslinjer for saunagus:   \n\nDu skal være klar ved saunaen fem minutter før start.\n\n\nDu skal sørge for at drikke rigeligt vand før og efter saunagus.\n\n\nHvis du skal i bassinerne efterfølgende\, så skal du skylle kroppen inden.\n\n\nDu skal have eget håndklæde med til at sidde på i vores saunaer.\n\n*Du bør ikke deltage i saunagus\, hvis du er gravid\, har epilepsi\, hjerteproblemer eller duft- og parfumeallergi.  \n 
URL:https://gigantium.dk/event/saunagus-2/2027-03-08/
LOCATION:Denmark
CATEGORIES:Svømmehal
END:VEVENT
BEGIN:VEVENT
DTSTART;TZID=Europe/Copenhagen:20270309T070000
DTEND;TZID=Europe/Copenhagen:20270309T071200
DTSTAMP:20260419T190523
CREATED:20251001T073341Z
LAST-MODIFIED:20260330T120446Z
UID:10004857-1804575600-1804576320@gigantium.dk
SUMMARY:Saunagus
DESCRIPTION:Til saunagus hælder vores gusmester vand blandet med forskellige æteriske olier på stene i saunaovnen. På denne måde opstår en velduftende damp\, som bærer aromaerne af olierne. For at disse dampe kommer ud til alle deltagerne i rummet\, så svinger vores gusmester et håndklæde eller en vifte rundt. De forskellige olier og temperaturer\, som du bliver præsenteret for i løbet af sessionen\, har forskellige gavnlige effekter for kroppen. Alt dette vil vores gusmester fortælle mere om i løbet af guset.   \nVi afvikler saunagus hver anden time i vores åbningstid. Det koster ikke noget at deltage.  \nRetningslinjer for saunagus:   \n\nDu skal være klar ved saunaen fem minutter før start.\n\n\nDu skal sørge for at drikke rigeligt vand før og efter saunagus.\n\n\nHvis du skal i bassinerne efterfølgende\, så skal du skylle kroppen inden.\n\n\nDu skal have eget håndklæde med til at sidde på i vores saunaer.\n\n*Du bør ikke deltage i saunagus\, hvis du er gravid\, har epilepsi\, hjerteproblemer eller duft- og parfumeallergi.  \n 
URL:https://gigantium.dk/event/saunagus-2/2027-03-09/
LOCATION:Denmark
CATEGORIES:Svømmehal
END:VEVENT
BEGIN:VEVENT
DTSTART;TZID=Europe/Copenhagen:20270310T070000
DTEND;TZID=Europe/Copenhagen:20270310T071200
DTSTAMP:20260419T190523
CREATED:20251001T073341Z
LAST-MODIFIED:20260330T120446Z
UID:10004858-1804662000-1804662720@gigantium.dk
SUMMARY:Saunagus
DESCRIPTION:Til saunagus hælder vores gusmester vand blandet med forskellige æteriske olier på stene i saunaovnen. På denne måde opstår en velduftende damp\, som bærer aromaerne af olierne. For at disse dampe kommer ud til alle deltagerne i rummet\, så svinger vores gusmester et håndklæde eller en vifte rundt. De forskellige olier og temperaturer\, som du bliver præsenteret for i løbet af sessionen\, har forskellige gavnlige effekter for kroppen. Alt dette vil vores gusmester fortælle mere om i løbet af guset.   \nVi afvikler saunagus hver anden time i vores åbningstid. Det koster ikke noget at deltage.  \nRetningslinjer for saunagus:   \n\nDu skal være klar ved saunaen fem minutter før start.\n\n\nDu skal sørge for at drikke rigeligt vand før og efter saunagus.\n\n\nHvis du skal i bassinerne efterfølgende\, så skal du skylle kroppen inden.\n\n\nDu skal have eget håndklæde med til at sidde på i vores saunaer.\n\n*Du bør ikke deltage i saunagus\, hvis du er gravid\, har epilepsi\, hjerteproblemer eller duft- og parfumeallergi.  \n 
URL:https://gigantium.dk/event/saunagus-2/2027-03-10/
LOCATION:Denmark
CATEGORIES:Svømmehal
END:VEVENT
BEGIN:VEVENT
DTSTART;TZID=Europe/Copenhagen:20270311T070000
DTEND;TZID=Europe/Copenhagen:20270311T071200
DTSTAMP:20260419T190523
CREATED:20251001T073341Z
LAST-MODIFIED:20260330T120446Z
UID:10004859-1804748400-1804749120@gigantium.dk
SUMMARY:Saunagus
DESCRIPTION:Til saunagus hælder vores gusmester vand blandet med forskellige æteriske olier på stene i saunaovnen. På denne måde opstår en velduftende damp\, som bærer aromaerne af olierne. For at disse dampe kommer ud til alle deltagerne i rummet\, så svinger vores gusmester et håndklæde eller en vifte rundt. De forskellige olier og temperaturer\, som du bliver præsenteret for i løbet af sessionen\, har forskellige gavnlige effekter for kroppen. Alt dette vil vores gusmester fortælle mere om i løbet af guset.   \nVi afvikler saunagus hver anden time i vores åbningstid. Det koster ikke noget at deltage.  \nRetningslinjer for saunagus:   \n\nDu skal være klar ved saunaen fem minutter før start.\n\n\nDu skal sørge for at drikke rigeligt vand før og efter saunagus.\n\n\nHvis du skal i bassinerne efterfølgende\, så skal du skylle kroppen inden.\n\n\nDu skal have eget håndklæde med til at sidde på i vores saunaer.\n\n*Du bør ikke deltage i saunagus\, hvis du er gravid\, har epilepsi\, hjerteproblemer eller duft- og parfumeallergi.  \n 
URL:https://gigantium.dk/event/saunagus-2/2027-03-11/
LOCATION:Denmark
CATEGORIES:Svømmehal
END:VEVENT
BEGIN:VEVENT
DTSTART;TZID=Europe/Copenhagen:20270315T070000
DTEND;TZID=Europe/Copenhagen:20270315T071200
DTSTAMP:20260419T190523
CREATED:20251001T073341Z
LAST-MODIFIED:20260330T120446Z
UID:10004860-1805094000-1805094720@gigantium.dk
SUMMARY:Saunagus
DESCRIPTION:Til saunagus hælder vores gusmester vand blandet med forskellige æteriske olier på stene i saunaovnen. På denne måde opstår en velduftende damp\, som bærer aromaerne af olierne. For at disse dampe kommer ud til alle deltagerne i rummet\, så svinger vores gusmester et håndklæde eller en vifte rundt. De forskellige olier og temperaturer\, som du bliver præsenteret for i løbet af sessionen\, har forskellige gavnlige effekter for kroppen. Alt dette vil vores gusmester fortælle mere om i løbet af guset.   \nVi afvikler saunagus hver anden time i vores åbningstid. Det koster ikke noget at deltage.  \nRetningslinjer for saunagus:   \n\nDu skal være klar ved saunaen fem minutter før start.\n\n\nDu skal sørge for at drikke rigeligt vand før og efter saunagus.\n\n\nHvis du skal i bassinerne efterfølgende\, så skal du skylle kroppen inden.\n\n\nDu skal have eget håndklæde med til at sidde på i vores saunaer.\n\n*Du bør ikke deltage i saunagus\, hvis du er gravid\, har epilepsi\, hjerteproblemer eller duft- og parfumeallergi.  \n 
URL:https://gigantium.dk/event/saunagus-2/2027-03-15/
LOCATION:Denmark
CATEGORIES:Svømmehal
END:VEVENT
BEGIN:VEVENT
DTSTART;TZID=Europe/Copenhagen:20270316T070000
DTEND;TZID=Europe/Copenhagen:20270316T071200
DTSTAMP:20260419T190523
CREATED:20251001T073341Z
LAST-MODIFIED:20260330T120446Z
UID:10004861-1805180400-1805181120@gigantium.dk
SUMMARY:Saunagus
DESCRIPTION:Til saunagus hælder vores gusmester vand blandet med forskellige æteriske olier på stene i saunaovnen. På denne måde opstår en velduftende damp\, som bærer aromaerne af olierne. For at disse dampe kommer ud til alle deltagerne i rummet\, så svinger vores gusmester et håndklæde eller en vifte rundt. De forskellige olier og temperaturer\, som du bliver præsenteret for i løbet af sessionen\, har forskellige gavnlige effekter for kroppen. Alt dette vil vores gusmester fortælle mere om i løbet af guset.   \nVi afvikler saunagus hver anden time i vores åbningstid. Det koster ikke noget at deltage.  \nRetningslinjer for saunagus:   \n\nDu skal være klar ved saunaen fem minutter før start.\n\n\nDu skal sørge for at drikke rigeligt vand før og efter saunagus.\n\n\nHvis du skal i bassinerne efterfølgende\, så skal du skylle kroppen inden.\n\n\nDu skal have eget håndklæde med til at sidde på i vores saunaer.\n\n*Du bør ikke deltage i saunagus\, hvis du er gravid\, har epilepsi\, hjerteproblemer eller duft- og parfumeallergi.  \n 
URL:https://gigantium.dk/event/saunagus-2/2027-03-16/
LOCATION:Denmark
CATEGORIES:Svømmehal
END:VEVENT
BEGIN:VEVENT
DTSTART;TZID=Europe/Copenhagen:20270317T070000
DTEND;TZID=Europe/Copenhagen:20270317T071200
DTSTAMP:20260419T190523
CREATED:20251001T073341Z
LAST-MODIFIED:20260330T120446Z
UID:10004862-1805266800-1805267520@gigantium.dk
SUMMARY:Saunagus
DESCRIPTION:Til saunagus hælder vores gusmester vand blandet med forskellige æteriske olier på stene i saunaovnen. På denne måde opstår en velduftende damp\, som bærer aromaerne af olierne. For at disse dampe kommer ud til alle deltagerne i rummet\, så svinger vores gusmester et håndklæde eller en vifte rundt. De forskellige olier og temperaturer\, som du bliver præsenteret for i løbet af sessionen\, har forskellige gavnlige effekter for kroppen. Alt dette vil vores gusmester fortælle mere om i løbet af guset.   \nVi afvikler saunagus hver anden time i vores åbningstid. Det koster ikke noget at deltage.  \nRetningslinjer for saunagus:   \n\nDu skal være klar ved saunaen fem minutter før start.\n\n\nDu skal sørge for at drikke rigeligt vand før og efter saunagus.\n\n\nHvis du skal i bassinerne efterfølgende\, så skal du skylle kroppen inden.\n\n\nDu skal have eget håndklæde med til at sidde på i vores saunaer.\n\n*Du bør ikke deltage i saunagus\, hvis du er gravid\, har epilepsi\, hjerteproblemer eller duft- og parfumeallergi.  \n 
URL:https://gigantium.dk/event/saunagus-2/2027-03-17/
LOCATION:Denmark
CATEGORIES:Svømmehal
END:VEVENT
BEGIN:VEVENT
DTSTART;TZID=Europe/Copenhagen:20270318T070000
DTEND;TZID=Europe/Copenhagen:20270318T071200
DTSTAMP:20260419T190523
CREATED:20251001T073341Z
LAST-MODIFIED:20260330T120446Z
UID:10004863-1805353200-1805353920@gigantium.dk
SUMMARY:Saunagus
DESCRIPTION:Til saunagus hælder vores gusmester vand blandet med forskellige æteriske olier på stene i saunaovnen. På denne måde opstår en velduftende damp\, som bærer aromaerne af olierne. For at disse dampe kommer ud til alle deltagerne i rummet\, så svinger vores gusmester et håndklæde eller en vifte rundt. De forskellige olier og temperaturer\, som du bliver præsenteret for i løbet af sessionen\, har forskellige gavnlige effekter for kroppen. Alt dette vil vores gusmester fortælle mere om i løbet af guset.   \nVi afvikler saunagus hver anden time i vores åbningstid. Det koster ikke noget at deltage.  \nRetningslinjer for saunagus:   \n\nDu skal være klar ved saunaen fem minutter før start.\n\n\nDu skal sørge for at drikke rigeligt vand før og efter saunagus.\n\n\nHvis du skal i bassinerne efterfølgende\, så skal du skylle kroppen inden.\n\n\nDu skal have eget håndklæde med til at sidde på i vores saunaer.\n\n*Du bør ikke deltage i saunagus\, hvis du er gravid\, har epilepsi\, hjerteproblemer eller duft- og parfumeallergi.  \n 
URL:https://gigantium.dk/event/saunagus-2/2027-03-18/
LOCATION:Denmark
CATEGORIES:Svømmehal
END:VEVENT
BEGIN:VEVENT
DTSTART;TZID=Europe/Copenhagen:20270322T070000
DTEND;TZID=Europe/Copenhagen:20270322T071200
DTSTAMP:20260419T190523
CREATED:20251001T073341Z
LAST-MODIFIED:20260330T120446Z
UID:10004864-1805698800-1805699520@gigantium.dk
SUMMARY:Saunagus
DESCRIPTION:Til saunagus hælder vores gusmester vand blandet med forskellige æteriske olier på stene i saunaovnen. På denne måde opstår en velduftende damp\, som bærer aromaerne af olierne. For at disse dampe kommer ud til alle deltagerne i rummet\, så svinger vores gusmester et håndklæde eller en vifte rundt. De forskellige olier og temperaturer\, som du bliver præsenteret for i løbet af sessionen\, har forskellige gavnlige effekter for kroppen. Alt dette vil vores gusmester fortælle mere om i løbet af guset.   \nVi afvikler saunagus hver anden time i vores åbningstid. Det koster ikke noget at deltage.  \nRetningslinjer for saunagus:   \n\nDu skal være klar ved saunaen fem minutter før start.\n\n\nDu skal sørge for at drikke rigeligt vand før og efter saunagus.\n\n\nHvis du skal i bassinerne efterfølgende\, så skal du skylle kroppen inden.\n\n\nDu skal have eget håndklæde med til at sidde på i vores saunaer.\n\n*Du bør ikke deltage i saunagus\, hvis du er gravid\, har epilepsi\, hjerteproblemer eller duft- og parfumeallergi.  \n 
URL:https://gigantium.dk/event/saunagus-2/2027-03-22/
LOCATION:Denmark
CATEGORIES:Svømmehal
END:VEVENT
BEGIN:VEVENT
DTSTART;TZID=Europe/Copenhagen:20270323T070000
DTEND;TZID=Europe/Copenhagen:20270323T071200
DTSTAMP:20260419T190523
CREATED:20251001T073341Z
LAST-MODIFIED:20260330T120446Z
UID:10004865-1805785200-1805785920@gigantium.dk
SUMMARY:Saunagus
DESCRIPTION:Til saunagus hælder vores gusmester vand blandet med forskellige æteriske olier på stene i saunaovnen. På denne måde opstår en velduftende damp\, som bærer aromaerne af olierne. For at disse dampe kommer ud til alle deltagerne i rummet\, så svinger vores gusmester et håndklæde eller en vifte rundt. De forskellige olier og temperaturer\, som du bliver præsenteret for i løbet af sessionen\, har forskellige gavnlige effekter for kroppen. Alt dette vil vores gusmester fortælle mere om i løbet af guset.   \nVi afvikler saunagus hver anden time i vores åbningstid. Det koster ikke noget at deltage.  \nRetningslinjer for saunagus:   \n\nDu skal være klar ved saunaen fem minutter før start.\n\n\nDu skal sørge for at drikke rigeligt vand før og efter saunagus.\n\n\nHvis du skal i bassinerne efterfølgende\, så skal du skylle kroppen inden.\n\n\nDu skal have eget håndklæde med til at sidde på i vores saunaer.\n\n*Du bør ikke deltage i saunagus\, hvis du er gravid\, har epilepsi\, hjerteproblemer eller duft- og parfumeallergi.  \n 
URL:https://gigantium.dk/event/saunagus-2/2027-03-23/
LOCATION:Denmark
CATEGORIES:Svømmehal
END:VEVENT
BEGIN:VEVENT
DTSTART;TZID=Europe/Copenhagen:20270324T070000
DTEND;TZID=Europe/Copenhagen:20270324T071200
DTSTAMP:20260419T190523
CREATED:20251001T073341Z
LAST-MODIFIED:20260330T120446Z
UID:10004866-1805871600-1805872320@gigantium.dk
SUMMARY:Saunagus
DESCRIPTION:Til saunagus hælder vores gusmester vand blandet med forskellige æteriske olier på stene i saunaovnen. På denne måde opstår en velduftende damp\, som bærer aromaerne af olierne. For at disse dampe kommer ud til alle deltagerne i rummet\, så svinger vores gusmester et håndklæde eller en vifte rundt. De forskellige olier og temperaturer\, som du bliver præsenteret for i løbet af sessionen\, har forskellige gavnlige effekter for kroppen. Alt dette vil vores gusmester fortælle mere om i løbet af guset.   \nVi afvikler saunagus hver anden time i vores åbningstid. Det koster ikke noget at deltage.  \nRetningslinjer for saunagus:   \n\nDu skal være klar ved saunaen fem minutter før start.\n\n\nDu skal sørge for at drikke rigeligt vand før og efter saunagus.\n\n\nHvis du skal i bassinerne efterfølgende\, så skal du skylle kroppen inden.\n\n\nDu skal have eget håndklæde med til at sidde på i vores saunaer.\n\n*Du bør ikke deltage i saunagus\, hvis du er gravid\, har epilepsi\, hjerteproblemer eller duft- og parfumeallergi.  \n 
URL:https://gigantium.dk/event/saunagus-2/2027-03-24/
LOCATION:Denmark
CATEGORIES:Svømmehal
END:VEVENT
BEGIN:VEVENT
DTSTART;TZID=Europe/Copenhagen:20270325T070000
DTEND;TZID=Europe/Copenhagen:20270325T071200
DTSTAMP:20260419T190523
CREATED:20251001T073341Z
LAST-MODIFIED:20260330T120446Z
UID:10004867-1805958000-1805958720@gigantium.dk
SUMMARY:Saunagus
DESCRIPTION:Til saunagus hælder vores gusmester vand blandet med forskellige æteriske olier på stene i saunaovnen. På denne måde opstår en velduftende damp\, som bærer aromaerne af olierne. For at disse dampe kommer ud til alle deltagerne i rummet\, så svinger vores gusmester et håndklæde eller en vifte rundt. De forskellige olier og temperaturer\, som du bliver præsenteret for i løbet af sessionen\, har forskellige gavnlige effekter for kroppen. Alt dette vil vores gusmester fortælle mere om i løbet af guset.   \nVi afvikler saunagus hver anden time i vores åbningstid. Det koster ikke noget at deltage.  \nRetningslinjer for saunagus:   \n\nDu skal være klar ved saunaen fem minutter før start.\n\n\nDu skal sørge for at drikke rigeligt vand før og efter saunagus.\n\n\nHvis du skal i bassinerne efterfølgende\, så skal du skylle kroppen inden.\n\n\nDu skal have eget håndklæde med til at sidde på i vores saunaer.\n\n*Du bør ikke deltage i saunagus\, hvis du er gravid\, har epilepsi\, hjerteproblemer eller duft- og parfumeallergi.  \n 
URL:https://gigantium.dk/event/saunagus-2/2027-03-25/
LOCATION:Denmark
CATEGORIES:Svømmehal
END:VEVENT
BEGIN:VEVENT
DTSTART;TZID=Europe/Copenhagen:20270329T070000
DTEND;TZID=Europe/Copenhagen:20270329T071200
DTSTAMP:20260419T190523
CREATED:20251001T073341Z
LAST-MODIFIED:20260330T120446Z
UID:10004868-1806303600-1806304320@gigantium.dk
SUMMARY:Saunagus
DESCRIPTION:Til saunagus hælder vores gusmester vand blandet med forskellige æteriske olier på stene i saunaovnen. På denne måde opstår en velduftende damp\, som bærer aromaerne af olierne. For at disse dampe kommer ud til alle deltagerne i rummet\, så svinger vores gusmester et håndklæde eller en vifte rundt. De forskellige olier og temperaturer\, som du bliver præsenteret for i løbet af sessionen\, har forskellige gavnlige effekter for kroppen. Alt dette vil vores gusmester fortælle mere om i løbet af guset.   \nVi afvikler saunagus hver anden time i vores åbningstid. Det koster ikke noget at deltage.  \nRetningslinjer for saunagus:   \n\nDu skal være klar ved saunaen fem minutter før start.\n\n\nDu skal sørge for at drikke rigeligt vand før og efter saunagus.\n\n\nHvis du skal i bassinerne efterfølgende\, så skal du skylle kroppen inden.\n\n\nDu skal have eget håndklæde med til at sidde på i vores saunaer.\n\n*Du bør ikke deltage i saunagus\, hvis du er gravid\, har epilepsi\, hjerteproblemer eller duft- og parfumeallergi.  \n 
URL:https://gigantium.dk/event/saunagus-2/2027-03-29/
LOCATION:Denmark
CATEGORIES:Svømmehal
END:VEVENT
BEGIN:VEVENT
DTSTART;TZID=Europe/Copenhagen:20270330T070000
DTEND;TZID=Europe/Copenhagen:20270330T071200
DTSTAMP:20260419T190523
CREATED:20251001T073341Z
LAST-MODIFIED:20260330T120446Z
UID:10004869-1806390000-1806390720@gigantium.dk
SUMMARY:Saunagus
DESCRIPTION:Til saunagus hælder vores gusmester vand blandet med forskellige æteriske olier på stene i saunaovnen. På denne måde opstår en velduftende damp\, som bærer aromaerne af olierne. For at disse dampe kommer ud til alle deltagerne i rummet\, så svinger vores gusmester et håndklæde eller en vifte rundt. De forskellige olier og temperaturer\, som du bliver præsenteret for i løbet af sessionen\, har forskellige gavnlige effekter for kroppen. Alt dette vil vores gusmester fortælle mere om i løbet af guset.   \nVi afvikler saunagus hver anden time i vores åbningstid. Det koster ikke noget at deltage.  \nRetningslinjer for saunagus:   \n\nDu skal være klar ved saunaen fem minutter før start.\n\n\nDu skal sørge for at drikke rigeligt vand før og efter saunagus.\n\n\nHvis du skal i bassinerne efterfølgende\, så skal du skylle kroppen inden.\n\n\nDu skal have eget håndklæde med til at sidde på i vores saunaer.\n\n*Du bør ikke deltage i saunagus\, hvis du er gravid\, har epilepsi\, hjerteproblemer eller duft- og parfumeallergi.  \n 
URL:https://gigantium.dk/event/saunagus-2/2027-03-30/
LOCATION:Denmark
CATEGORIES:Svømmehal
END:VEVENT
BEGIN:VEVENT
DTSTART;TZID=Europe/Copenhagen:20270331T070000
DTEND;TZID=Europe/Copenhagen:20270331T071200
DTSTAMP:20260419T190523
CREATED:20251001T073341Z
LAST-MODIFIED:20260330T120446Z
UID:10004870-1806476400-1806477120@gigantium.dk
SUMMARY:Saunagus
DESCRIPTION:Til saunagus hælder vores gusmester vand blandet med forskellige æteriske olier på stene i saunaovnen. På denne måde opstår en velduftende damp\, som bærer aromaerne af olierne. For at disse dampe kommer ud til alle deltagerne i rummet\, så svinger vores gusmester et håndklæde eller en vifte rundt. De forskellige olier og temperaturer\, som du bliver præsenteret for i løbet af sessionen\, har forskellige gavnlige effekter for kroppen. Alt dette vil vores gusmester fortælle mere om i løbet af guset.   \nVi afvikler saunagus hver anden time i vores åbningstid. Det koster ikke noget at deltage.  \nRetningslinjer for saunagus:   \n\nDu skal være klar ved saunaen fem minutter før start.\n\n\nDu skal sørge for at drikke rigeligt vand før og efter saunagus.\n\n\nHvis du skal i bassinerne efterfølgende\, så skal du skylle kroppen inden.\n\n\nDu skal have eget håndklæde med til at sidde på i vores saunaer.\n\n*Du bør ikke deltage i saunagus\, hvis du er gravid\, har epilepsi\, hjerteproblemer eller duft- og parfumeallergi.  \n 
URL:https://gigantium.dk/event/saunagus-2/2027-03-31/
LOCATION:Denmark
CATEGORIES:Svømmehal
END:VEVENT
END:VCALENDAR