BEGIN:VCALENDAR
VERSION:2.0
PRODID:-//Gigantium - ECPv6.15.16.1//NONSGML v1.0//EN
CALSCALE:GREGORIAN
METHOD:PUBLISH
X-WR-CALNAME:Gigantium
X-ORIGINAL-URL:https://gigantium.dk
X-WR-CALDESC:Begivenheder for Gigantium
REFRESH-INTERVAL;VALUE=DURATION:PT1H
X-Robots-Tag:noindex
X-PUBLISHED-TTL:PT1H
BEGIN:VTIMEZONE
TZID:Europe/Copenhagen
BEGIN:DAYLIGHT
TZOFFSETFROM:+0100
TZOFFSETTO:+0200
TZNAME:CEST
DTSTART:20270328T010000
END:DAYLIGHT
BEGIN:STANDARD
TZOFFSETFROM:+0200
TZOFFSETTO:+0100
TZNAME:CET
DTSTART:20271031T010000
END:STANDARD
BEGIN:DAYLIGHT
TZOFFSETFROM:+0100
TZOFFSETTO:+0200
TZNAME:CEST
DTSTART:20280326T010000
END:DAYLIGHT
BEGIN:STANDARD
TZOFFSETFROM:+0200
TZOFFSETTO:+0100
TZNAME:CET
DTSTART:20281029T010000
END:STANDARD
BEGIN:DAYLIGHT
TZOFFSETFROM:+0100
TZOFFSETTO:+0200
TZNAME:CEST
DTSTART:20290325T010000
END:DAYLIGHT
BEGIN:STANDARD
TZOFFSETFROM:+0200
TZOFFSETTO:+0100
TZNAME:CET
DTSTART:20291028T010000
END:STANDARD
END:VTIMEZONE
BEGIN:VEVENT
DTSTART;TZID=Europe/Copenhagen:20280801T070000
DTEND;TZID=Europe/Copenhagen:20280801T071200
DTSTAMP:20260422T183545
CREATED:20251001T073341Z
LAST-MODIFIED:20260330T120446Z
UID:10005149-1848726000-1848726720@gigantium.dk
SUMMARY:Saunagus
DESCRIPTION:Til saunagus hælder vores gusmester vand blandet med forskellige æteriske olier på stene i saunaovnen. På denne måde opstår en velduftende damp\, som bærer aromaerne af olierne. For at disse dampe kommer ud til alle deltagerne i rummet\, så svinger vores gusmester et håndklæde eller en vifte rundt. De forskellige olier og temperaturer\, som du bliver præsenteret for i løbet af sessionen\, har forskellige gavnlige effekter for kroppen. Alt dette vil vores gusmester fortælle mere om i løbet af guset.   \nVi afvikler saunagus hver anden time i vores åbningstid. Det koster ikke noget at deltage.  \nRetningslinjer for saunagus:   \n\nDu skal være klar ved saunaen fem minutter før start.\n\n\nDu skal sørge for at drikke rigeligt vand før og efter saunagus.\n\n\nHvis du skal i bassinerne efterfølgende\, så skal du skylle kroppen inden.\n\n\nDu skal have eget håndklæde med til at sidde på i vores saunaer.\n\n*Du bør ikke deltage i saunagus\, hvis du er gravid\, har epilepsi\, hjerteproblemer eller duft- og parfumeallergi.  \n 
URL:https://gigantium.dk/event/saunagus-2/2028-08-01/
LOCATION:Denmark
CATEGORIES:Svømmehal
END:VEVENT
BEGIN:VEVENT
DTSTART;TZID=Europe/Copenhagen:20280802T070000
DTEND;TZID=Europe/Copenhagen:20280802T071200
DTSTAMP:20260422T183545
CREATED:20251001T073341Z
LAST-MODIFIED:20260330T120446Z
UID:10005150-1848812400-1848813120@gigantium.dk
SUMMARY:Saunagus
DESCRIPTION:Til saunagus hælder vores gusmester vand blandet med forskellige æteriske olier på stene i saunaovnen. På denne måde opstår en velduftende damp\, som bærer aromaerne af olierne. For at disse dampe kommer ud til alle deltagerne i rummet\, så svinger vores gusmester et håndklæde eller en vifte rundt. De forskellige olier og temperaturer\, som du bliver præsenteret for i løbet af sessionen\, har forskellige gavnlige effekter for kroppen. Alt dette vil vores gusmester fortælle mere om i løbet af guset.   \nVi afvikler saunagus hver anden time i vores åbningstid. Det koster ikke noget at deltage.  \nRetningslinjer for saunagus:   \n\nDu skal være klar ved saunaen fem minutter før start.\n\n\nDu skal sørge for at drikke rigeligt vand før og efter saunagus.\n\n\nHvis du skal i bassinerne efterfølgende\, så skal du skylle kroppen inden.\n\n\nDu skal have eget håndklæde med til at sidde på i vores saunaer.\n\n*Du bør ikke deltage i saunagus\, hvis du er gravid\, har epilepsi\, hjerteproblemer eller duft- og parfumeallergi.  \n 
URL:https://gigantium.dk/event/saunagus-2/2028-08-02/
LOCATION:Denmark
CATEGORIES:Svømmehal
END:VEVENT
BEGIN:VEVENT
DTSTART;TZID=Europe/Copenhagen:20280803T070000
DTEND;TZID=Europe/Copenhagen:20280803T071200
DTSTAMP:20260422T183545
CREATED:20251001T073341Z
LAST-MODIFIED:20260330T120446Z
UID:10005151-1848898800-1848899520@gigantium.dk
SUMMARY:Saunagus
DESCRIPTION:Til saunagus hælder vores gusmester vand blandet med forskellige æteriske olier på stene i saunaovnen. På denne måde opstår en velduftende damp\, som bærer aromaerne af olierne. For at disse dampe kommer ud til alle deltagerne i rummet\, så svinger vores gusmester et håndklæde eller en vifte rundt. De forskellige olier og temperaturer\, som du bliver præsenteret for i løbet af sessionen\, har forskellige gavnlige effekter for kroppen. Alt dette vil vores gusmester fortælle mere om i løbet af guset.   \nVi afvikler saunagus hver anden time i vores åbningstid. Det koster ikke noget at deltage.  \nRetningslinjer for saunagus:   \n\nDu skal være klar ved saunaen fem minutter før start.\n\n\nDu skal sørge for at drikke rigeligt vand før og efter saunagus.\n\n\nHvis du skal i bassinerne efterfølgende\, så skal du skylle kroppen inden.\n\n\nDu skal have eget håndklæde med til at sidde på i vores saunaer.\n\n*Du bør ikke deltage i saunagus\, hvis du er gravid\, har epilepsi\, hjerteproblemer eller duft- og parfumeallergi.  \n 
URL:https://gigantium.dk/event/saunagus-2/2028-08-03/
LOCATION:Denmark
CATEGORIES:Svømmehal
END:VEVENT
BEGIN:VEVENT
DTSTART;TZID=Europe/Copenhagen:20280807T070000
DTEND;TZID=Europe/Copenhagen:20280807T071200
DTSTAMP:20260422T183545
CREATED:20251001T073341Z
LAST-MODIFIED:20260330T120446Z
UID:10005152-1849244400-1849245120@gigantium.dk
SUMMARY:Saunagus
DESCRIPTION:Til saunagus hælder vores gusmester vand blandet med forskellige æteriske olier på stene i saunaovnen. På denne måde opstår en velduftende damp\, som bærer aromaerne af olierne. For at disse dampe kommer ud til alle deltagerne i rummet\, så svinger vores gusmester et håndklæde eller en vifte rundt. De forskellige olier og temperaturer\, som du bliver præsenteret for i løbet af sessionen\, har forskellige gavnlige effekter for kroppen. Alt dette vil vores gusmester fortælle mere om i løbet af guset.   \nVi afvikler saunagus hver anden time i vores åbningstid. Det koster ikke noget at deltage.  \nRetningslinjer for saunagus:   \n\nDu skal være klar ved saunaen fem minutter før start.\n\n\nDu skal sørge for at drikke rigeligt vand før og efter saunagus.\n\n\nHvis du skal i bassinerne efterfølgende\, så skal du skylle kroppen inden.\n\n\nDu skal have eget håndklæde med til at sidde på i vores saunaer.\n\n*Du bør ikke deltage i saunagus\, hvis du er gravid\, har epilepsi\, hjerteproblemer eller duft- og parfumeallergi.  \n 
URL:https://gigantium.dk/event/saunagus-2/2028-08-07/
LOCATION:Denmark
CATEGORIES:Svømmehal
END:VEVENT
BEGIN:VEVENT
DTSTART;TZID=Europe/Copenhagen:20280808T070000
DTEND;TZID=Europe/Copenhagen:20280808T071200
DTSTAMP:20260422T183545
CREATED:20251001T073341Z
LAST-MODIFIED:20260330T120446Z
UID:10005153-1849330800-1849331520@gigantium.dk
SUMMARY:Saunagus
DESCRIPTION:Til saunagus hælder vores gusmester vand blandet med forskellige æteriske olier på stene i saunaovnen. På denne måde opstår en velduftende damp\, som bærer aromaerne af olierne. For at disse dampe kommer ud til alle deltagerne i rummet\, så svinger vores gusmester et håndklæde eller en vifte rundt. De forskellige olier og temperaturer\, som du bliver præsenteret for i løbet af sessionen\, har forskellige gavnlige effekter for kroppen. Alt dette vil vores gusmester fortælle mere om i løbet af guset.   \nVi afvikler saunagus hver anden time i vores åbningstid. Det koster ikke noget at deltage.  \nRetningslinjer for saunagus:   \n\nDu skal være klar ved saunaen fem minutter før start.\n\n\nDu skal sørge for at drikke rigeligt vand før og efter saunagus.\n\n\nHvis du skal i bassinerne efterfølgende\, så skal du skylle kroppen inden.\n\n\nDu skal have eget håndklæde med til at sidde på i vores saunaer.\n\n*Du bør ikke deltage i saunagus\, hvis du er gravid\, har epilepsi\, hjerteproblemer eller duft- og parfumeallergi.  \n 
URL:https://gigantium.dk/event/saunagus-2/2028-08-08/
LOCATION:Denmark
CATEGORIES:Svømmehal
END:VEVENT
BEGIN:VEVENT
DTSTART;TZID=Europe/Copenhagen:20280809T070000
DTEND;TZID=Europe/Copenhagen:20280809T071200
DTSTAMP:20260422T183545
CREATED:20251001T073341Z
LAST-MODIFIED:20260330T120446Z
UID:10005154-1849417200-1849417920@gigantium.dk
SUMMARY:Saunagus
DESCRIPTION:Til saunagus hælder vores gusmester vand blandet med forskellige æteriske olier på stene i saunaovnen. På denne måde opstår en velduftende damp\, som bærer aromaerne af olierne. For at disse dampe kommer ud til alle deltagerne i rummet\, så svinger vores gusmester et håndklæde eller en vifte rundt. De forskellige olier og temperaturer\, som du bliver præsenteret for i løbet af sessionen\, har forskellige gavnlige effekter for kroppen. Alt dette vil vores gusmester fortælle mere om i løbet af guset.   \nVi afvikler saunagus hver anden time i vores åbningstid. Det koster ikke noget at deltage.  \nRetningslinjer for saunagus:   \n\nDu skal være klar ved saunaen fem minutter før start.\n\n\nDu skal sørge for at drikke rigeligt vand før og efter saunagus.\n\n\nHvis du skal i bassinerne efterfølgende\, så skal du skylle kroppen inden.\n\n\nDu skal have eget håndklæde med til at sidde på i vores saunaer.\n\n*Du bør ikke deltage i saunagus\, hvis du er gravid\, har epilepsi\, hjerteproblemer eller duft- og parfumeallergi.  \n 
URL:https://gigantium.dk/event/saunagus-2/2028-08-09/
LOCATION:Denmark
CATEGORIES:Svømmehal
END:VEVENT
BEGIN:VEVENT
DTSTART;TZID=Europe/Copenhagen:20280810T070000
DTEND;TZID=Europe/Copenhagen:20280810T071200
DTSTAMP:20260422T183545
CREATED:20251001T073341Z
LAST-MODIFIED:20260330T120446Z
UID:10005155-1849503600-1849504320@gigantium.dk
SUMMARY:Saunagus
DESCRIPTION:Til saunagus hælder vores gusmester vand blandet med forskellige æteriske olier på stene i saunaovnen. På denne måde opstår en velduftende damp\, som bærer aromaerne af olierne. For at disse dampe kommer ud til alle deltagerne i rummet\, så svinger vores gusmester et håndklæde eller en vifte rundt. De forskellige olier og temperaturer\, som du bliver præsenteret for i løbet af sessionen\, har forskellige gavnlige effekter for kroppen. Alt dette vil vores gusmester fortælle mere om i løbet af guset.   \nVi afvikler saunagus hver anden time i vores åbningstid. Det koster ikke noget at deltage.  \nRetningslinjer for saunagus:   \n\nDu skal være klar ved saunaen fem minutter før start.\n\n\nDu skal sørge for at drikke rigeligt vand før og efter saunagus.\n\n\nHvis du skal i bassinerne efterfølgende\, så skal du skylle kroppen inden.\n\n\nDu skal have eget håndklæde med til at sidde på i vores saunaer.\n\n*Du bør ikke deltage i saunagus\, hvis du er gravid\, har epilepsi\, hjerteproblemer eller duft- og parfumeallergi.  \n 
URL:https://gigantium.dk/event/saunagus-2/2028-08-10/
LOCATION:Denmark
CATEGORIES:Svømmehal
END:VEVENT
BEGIN:VEVENT
DTSTART;TZID=Europe/Copenhagen:20280814T070000
DTEND;TZID=Europe/Copenhagen:20280814T071200
DTSTAMP:20260422T183545
CREATED:20251001T073341Z
LAST-MODIFIED:20260330T120446Z
UID:10005156-1849849200-1849849920@gigantium.dk
SUMMARY:Saunagus
DESCRIPTION:Til saunagus hælder vores gusmester vand blandet med forskellige æteriske olier på stene i saunaovnen. På denne måde opstår en velduftende damp\, som bærer aromaerne af olierne. For at disse dampe kommer ud til alle deltagerne i rummet\, så svinger vores gusmester et håndklæde eller en vifte rundt. De forskellige olier og temperaturer\, som du bliver præsenteret for i løbet af sessionen\, har forskellige gavnlige effekter for kroppen. Alt dette vil vores gusmester fortælle mere om i løbet af guset.   \nVi afvikler saunagus hver anden time i vores åbningstid. Det koster ikke noget at deltage.  \nRetningslinjer for saunagus:   \n\nDu skal være klar ved saunaen fem minutter før start.\n\n\nDu skal sørge for at drikke rigeligt vand før og efter saunagus.\n\n\nHvis du skal i bassinerne efterfølgende\, så skal du skylle kroppen inden.\n\n\nDu skal have eget håndklæde med til at sidde på i vores saunaer.\n\n*Du bør ikke deltage i saunagus\, hvis du er gravid\, har epilepsi\, hjerteproblemer eller duft- og parfumeallergi.  \n 
URL:https://gigantium.dk/event/saunagus-2/2028-08-14/
LOCATION:Denmark
CATEGORIES:Svømmehal
END:VEVENT
BEGIN:VEVENT
DTSTART;TZID=Europe/Copenhagen:20280815T070000
DTEND;TZID=Europe/Copenhagen:20280815T071200
DTSTAMP:20260422T183545
CREATED:20251001T073341Z
LAST-MODIFIED:20260330T120446Z
UID:10005157-1849935600-1849936320@gigantium.dk
SUMMARY:Saunagus
DESCRIPTION:Til saunagus hælder vores gusmester vand blandet med forskellige æteriske olier på stene i saunaovnen. På denne måde opstår en velduftende damp\, som bærer aromaerne af olierne. For at disse dampe kommer ud til alle deltagerne i rummet\, så svinger vores gusmester et håndklæde eller en vifte rundt. De forskellige olier og temperaturer\, som du bliver præsenteret for i løbet af sessionen\, har forskellige gavnlige effekter for kroppen. Alt dette vil vores gusmester fortælle mere om i løbet af guset.   \nVi afvikler saunagus hver anden time i vores åbningstid. Det koster ikke noget at deltage.  \nRetningslinjer for saunagus:   \n\nDu skal være klar ved saunaen fem minutter før start.\n\n\nDu skal sørge for at drikke rigeligt vand før og efter saunagus.\n\n\nHvis du skal i bassinerne efterfølgende\, så skal du skylle kroppen inden.\n\n\nDu skal have eget håndklæde med til at sidde på i vores saunaer.\n\n*Du bør ikke deltage i saunagus\, hvis du er gravid\, har epilepsi\, hjerteproblemer eller duft- og parfumeallergi.  \n 
URL:https://gigantium.dk/event/saunagus-2/2028-08-15/
LOCATION:Denmark
CATEGORIES:Svømmehal
END:VEVENT
BEGIN:VEVENT
DTSTART;TZID=Europe/Copenhagen:20280816T070000
DTEND;TZID=Europe/Copenhagen:20280816T071200
DTSTAMP:20260422T183545
CREATED:20251001T073341Z
LAST-MODIFIED:20260330T120446Z
UID:10005158-1850022000-1850022720@gigantium.dk
SUMMARY:Saunagus
DESCRIPTION:Til saunagus hælder vores gusmester vand blandet med forskellige æteriske olier på stene i saunaovnen. På denne måde opstår en velduftende damp\, som bærer aromaerne af olierne. For at disse dampe kommer ud til alle deltagerne i rummet\, så svinger vores gusmester et håndklæde eller en vifte rundt. De forskellige olier og temperaturer\, som du bliver præsenteret for i løbet af sessionen\, har forskellige gavnlige effekter for kroppen. Alt dette vil vores gusmester fortælle mere om i løbet af guset.   \nVi afvikler saunagus hver anden time i vores åbningstid. Det koster ikke noget at deltage.  \nRetningslinjer for saunagus:   \n\nDu skal være klar ved saunaen fem minutter før start.\n\n\nDu skal sørge for at drikke rigeligt vand før og efter saunagus.\n\n\nHvis du skal i bassinerne efterfølgende\, så skal du skylle kroppen inden.\n\n\nDu skal have eget håndklæde med til at sidde på i vores saunaer.\n\n*Du bør ikke deltage i saunagus\, hvis du er gravid\, har epilepsi\, hjerteproblemer eller duft- og parfumeallergi.  \n 
URL:https://gigantium.dk/event/saunagus-2/2028-08-16/
LOCATION:Denmark
CATEGORIES:Svømmehal
END:VEVENT
BEGIN:VEVENT
DTSTART;TZID=Europe/Copenhagen:20280817T070000
DTEND;TZID=Europe/Copenhagen:20280817T071200
DTSTAMP:20260422T183545
CREATED:20251001T073341Z
LAST-MODIFIED:20260330T120446Z
UID:10005159-1850108400-1850109120@gigantium.dk
SUMMARY:Saunagus
DESCRIPTION:Til saunagus hælder vores gusmester vand blandet med forskellige æteriske olier på stene i saunaovnen. På denne måde opstår en velduftende damp\, som bærer aromaerne af olierne. For at disse dampe kommer ud til alle deltagerne i rummet\, så svinger vores gusmester et håndklæde eller en vifte rundt. De forskellige olier og temperaturer\, som du bliver præsenteret for i løbet af sessionen\, har forskellige gavnlige effekter for kroppen. Alt dette vil vores gusmester fortælle mere om i løbet af guset.   \nVi afvikler saunagus hver anden time i vores åbningstid. Det koster ikke noget at deltage.  \nRetningslinjer for saunagus:   \n\nDu skal være klar ved saunaen fem minutter før start.\n\n\nDu skal sørge for at drikke rigeligt vand før og efter saunagus.\n\n\nHvis du skal i bassinerne efterfølgende\, så skal du skylle kroppen inden.\n\n\nDu skal have eget håndklæde med til at sidde på i vores saunaer.\n\n*Du bør ikke deltage i saunagus\, hvis du er gravid\, har epilepsi\, hjerteproblemer eller duft- og parfumeallergi.  \n 
URL:https://gigantium.dk/event/saunagus-2/2028-08-17/
LOCATION:Denmark
CATEGORIES:Svømmehal
END:VEVENT
BEGIN:VEVENT
DTSTART;TZID=Europe/Copenhagen:20280821T070000
DTEND;TZID=Europe/Copenhagen:20280821T071200
DTSTAMP:20260422T183545
CREATED:20251001T073341Z
LAST-MODIFIED:20260330T120446Z
UID:10005160-1850454000-1850454720@gigantium.dk
SUMMARY:Saunagus
DESCRIPTION:Til saunagus hælder vores gusmester vand blandet med forskellige æteriske olier på stene i saunaovnen. På denne måde opstår en velduftende damp\, som bærer aromaerne af olierne. For at disse dampe kommer ud til alle deltagerne i rummet\, så svinger vores gusmester et håndklæde eller en vifte rundt. De forskellige olier og temperaturer\, som du bliver præsenteret for i løbet af sessionen\, har forskellige gavnlige effekter for kroppen. Alt dette vil vores gusmester fortælle mere om i løbet af guset.   \nVi afvikler saunagus hver anden time i vores åbningstid. Det koster ikke noget at deltage.  \nRetningslinjer for saunagus:   \n\nDu skal være klar ved saunaen fem minutter før start.\n\n\nDu skal sørge for at drikke rigeligt vand før og efter saunagus.\n\n\nHvis du skal i bassinerne efterfølgende\, så skal du skylle kroppen inden.\n\n\nDu skal have eget håndklæde med til at sidde på i vores saunaer.\n\n*Du bør ikke deltage i saunagus\, hvis du er gravid\, har epilepsi\, hjerteproblemer eller duft- og parfumeallergi.  \n 
URL:https://gigantium.dk/event/saunagus-2/2028-08-21/
LOCATION:Denmark
CATEGORIES:Svømmehal
END:VEVENT
BEGIN:VEVENT
DTSTART;TZID=Europe/Copenhagen:20280822T070000
DTEND;TZID=Europe/Copenhagen:20280822T071200
DTSTAMP:20260422T183545
CREATED:20251001T073341Z
LAST-MODIFIED:20260330T120446Z
UID:10005161-1850540400-1850541120@gigantium.dk
SUMMARY:Saunagus
DESCRIPTION:Til saunagus hælder vores gusmester vand blandet med forskellige æteriske olier på stene i saunaovnen. På denne måde opstår en velduftende damp\, som bærer aromaerne af olierne. For at disse dampe kommer ud til alle deltagerne i rummet\, så svinger vores gusmester et håndklæde eller en vifte rundt. De forskellige olier og temperaturer\, som du bliver præsenteret for i løbet af sessionen\, har forskellige gavnlige effekter for kroppen. Alt dette vil vores gusmester fortælle mere om i løbet af guset.   \nVi afvikler saunagus hver anden time i vores åbningstid. Det koster ikke noget at deltage.  \nRetningslinjer for saunagus:   \n\nDu skal være klar ved saunaen fem minutter før start.\n\n\nDu skal sørge for at drikke rigeligt vand før og efter saunagus.\n\n\nHvis du skal i bassinerne efterfølgende\, så skal du skylle kroppen inden.\n\n\nDu skal have eget håndklæde med til at sidde på i vores saunaer.\n\n*Du bør ikke deltage i saunagus\, hvis du er gravid\, har epilepsi\, hjerteproblemer eller duft- og parfumeallergi.  \n 
URL:https://gigantium.dk/event/saunagus-2/2028-08-22/
LOCATION:Denmark
CATEGORIES:Svømmehal
END:VEVENT
BEGIN:VEVENT
DTSTART;TZID=Europe/Copenhagen:20280823T070000
DTEND;TZID=Europe/Copenhagen:20280823T071200
DTSTAMP:20260422T183545
CREATED:20251001T073341Z
LAST-MODIFIED:20260330T120446Z
UID:10005162-1850626800-1850627520@gigantium.dk
SUMMARY:Saunagus
DESCRIPTION:Til saunagus hælder vores gusmester vand blandet med forskellige æteriske olier på stene i saunaovnen. På denne måde opstår en velduftende damp\, som bærer aromaerne af olierne. For at disse dampe kommer ud til alle deltagerne i rummet\, så svinger vores gusmester et håndklæde eller en vifte rundt. De forskellige olier og temperaturer\, som du bliver præsenteret for i løbet af sessionen\, har forskellige gavnlige effekter for kroppen. Alt dette vil vores gusmester fortælle mere om i løbet af guset.   \nVi afvikler saunagus hver anden time i vores åbningstid. Det koster ikke noget at deltage.  \nRetningslinjer for saunagus:   \n\nDu skal være klar ved saunaen fem minutter før start.\n\n\nDu skal sørge for at drikke rigeligt vand før og efter saunagus.\n\n\nHvis du skal i bassinerne efterfølgende\, så skal du skylle kroppen inden.\n\n\nDu skal have eget håndklæde med til at sidde på i vores saunaer.\n\n*Du bør ikke deltage i saunagus\, hvis du er gravid\, har epilepsi\, hjerteproblemer eller duft- og parfumeallergi.  \n 
URL:https://gigantium.dk/event/saunagus-2/2028-08-23/
LOCATION:Denmark
CATEGORIES:Svømmehal
END:VEVENT
BEGIN:VEVENT
DTSTART;TZID=Europe/Copenhagen:20280824T070000
DTEND;TZID=Europe/Copenhagen:20280824T071200
DTSTAMP:20260422T183545
CREATED:20251001T073341Z
LAST-MODIFIED:20260330T120446Z
UID:10005163-1850713200-1850713920@gigantium.dk
SUMMARY:Saunagus
DESCRIPTION:Til saunagus hælder vores gusmester vand blandet med forskellige æteriske olier på stene i saunaovnen. På denne måde opstår en velduftende damp\, som bærer aromaerne af olierne. For at disse dampe kommer ud til alle deltagerne i rummet\, så svinger vores gusmester et håndklæde eller en vifte rundt. De forskellige olier og temperaturer\, som du bliver præsenteret for i løbet af sessionen\, har forskellige gavnlige effekter for kroppen. Alt dette vil vores gusmester fortælle mere om i løbet af guset.   \nVi afvikler saunagus hver anden time i vores åbningstid. Det koster ikke noget at deltage.  \nRetningslinjer for saunagus:   \n\nDu skal være klar ved saunaen fem minutter før start.\n\n\nDu skal sørge for at drikke rigeligt vand før og efter saunagus.\n\n\nHvis du skal i bassinerne efterfølgende\, så skal du skylle kroppen inden.\n\n\nDu skal have eget håndklæde med til at sidde på i vores saunaer.\n\n*Du bør ikke deltage i saunagus\, hvis du er gravid\, har epilepsi\, hjerteproblemer eller duft- og parfumeallergi.  \n 
URL:https://gigantium.dk/event/saunagus-2/2028-08-24/
LOCATION:Denmark
CATEGORIES:Svømmehal
END:VEVENT
BEGIN:VEVENT
DTSTART;TZID=Europe/Copenhagen:20280828T070000
DTEND;TZID=Europe/Copenhagen:20280828T071200
DTSTAMP:20260422T183545
CREATED:20251001T073341Z
LAST-MODIFIED:20260330T120446Z
UID:10005164-1851058800-1851059520@gigantium.dk
SUMMARY:Saunagus
DESCRIPTION:Til saunagus hælder vores gusmester vand blandet med forskellige æteriske olier på stene i saunaovnen. På denne måde opstår en velduftende damp\, som bærer aromaerne af olierne. For at disse dampe kommer ud til alle deltagerne i rummet\, så svinger vores gusmester et håndklæde eller en vifte rundt. De forskellige olier og temperaturer\, som du bliver præsenteret for i løbet af sessionen\, har forskellige gavnlige effekter for kroppen. Alt dette vil vores gusmester fortælle mere om i løbet af guset.   \nVi afvikler saunagus hver anden time i vores åbningstid. Det koster ikke noget at deltage.  \nRetningslinjer for saunagus:   \n\nDu skal være klar ved saunaen fem minutter før start.\n\n\nDu skal sørge for at drikke rigeligt vand før og efter saunagus.\n\n\nHvis du skal i bassinerne efterfølgende\, så skal du skylle kroppen inden.\n\n\nDu skal have eget håndklæde med til at sidde på i vores saunaer.\n\n*Du bør ikke deltage i saunagus\, hvis du er gravid\, har epilepsi\, hjerteproblemer eller duft- og parfumeallergi.  \n 
URL:https://gigantium.dk/event/saunagus-2/2028-08-28/
LOCATION:Denmark
CATEGORIES:Svømmehal
END:VEVENT
BEGIN:VEVENT
DTSTART;TZID=Europe/Copenhagen:20280829T070000
DTEND;TZID=Europe/Copenhagen:20280829T071200
DTSTAMP:20260422T183545
CREATED:20251001T073341Z
LAST-MODIFIED:20260330T120446Z
UID:10005165-1851145200-1851145920@gigantium.dk
SUMMARY:Saunagus
DESCRIPTION:Til saunagus hælder vores gusmester vand blandet med forskellige æteriske olier på stene i saunaovnen. På denne måde opstår en velduftende damp\, som bærer aromaerne af olierne. For at disse dampe kommer ud til alle deltagerne i rummet\, så svinger vores gusmester et håndklæde eller en vifte rundt. De forskellige olier og temperaturer\, som du bliver præsenteret for i løbet af sessionen\, har forskellige gavnlige effekter for kroppen. Alt dette vil vores gusmester fortælle mere om i løbet af guset.   \nVi afvikler saunagus hver anden time i vores åbningstid. Det koster ikke noget at deltage.  \nRetningslinjer for saunagus:   \n\nDu skal være klar ved saunaen fem minutter før start.\n\n\nDu skal sørge for at drikke rigeligt vand før og efter saunagus.\n\n\nHvis du skal i bassinerne efterfølgende\, så skal du skylle kroppen inden.\n\n\nDu skal have eget håndklæde med til at sidde på i vores saunaer.\n\n*Du bør ikke deltage i saunagus\, hvis du er gravid\, har epilepsi\, hjerteproblemer eller duft- og parfumeallergi.  \n 
URL:https://gigantium.dk/event/saunagus-2/2028-08-29/
LOCATION:Denmark
CATEGORIES:Svømmehal
END:VEVENT
BEGIN:VEVENT
DTSTART;TZID=Europe/Copenhagen:20280830T070000
DTEND;TZID=Europe/Copenhagen:20280830T071200
DTSTAMP:20260422T183545
CREATED:20251001T073341Z
LAST-MODIFIED:20260330T120446Z
UID:10005166-1851231600-1851232320@gigantium.dk
SUMMARY:Saunagus
DESCRIPTION:Til saunagus hælder vores gusmester vand blandet med forskellige æteriske olier på stene i saunaovnen. På denne måde opstår en velduftende damp\, som bærer aromaerne af olierne. For at disse dampe kommer ud til alle deltagerne i rummet\, så svinger vores gusmester et håndklæde eller en vifte rundt. De forskellige olier og temperaturer\, som du bliver præsenteret for i løbet af sessionen\, har forskellige gavnlige effekter for kroppen. Alt dette vil vores gusmester fortælle mere om i løbet af guset.   \nVi afvikler saunagus hver anden time i vores åbningstid. Det koster ikke noget at deltage.  \nRetningslinjer for saunagus:   \n\nDu skal være klar ved saunaen fem minutter før start.\n\n\nDu skal sørge for at drikke rigeligt vand før og efter saunagus.\n\n\nHvis du skal i bassinerne efterfølgende\, så skal du skylle kroppen inden.\n\n\nDu skal have eget håndklæde med til at sidde på i vores saunaer.\n\n*Du bør ikke deltage i saunagus\, hvis du er gravid\, har epilepsi\, hjerteproblemer eller duft- og parfumeallergi.  \n 
URL:https://gigantium.dk/event/saunagus-2/2028-08-30/
LOCATION:Denmark
CATEGORIES:Svømmehal
END:VEVENT
BEGIN:VEVENT
DTSTART;TZID=Europe/Copenhagen:20280831T070000
DTEND;TZID=Europe/Copenhagen:20280831T071200
DTSTAMP:20260422T183545
CREATED:20251001T073341Z
LAST-MODIFIED:20260330T120446Z
UID:10005167-1851318000-1851318720@gigantium.dk
SUMMARY:Saunagus
DESCRIPTION:Til saunagus hælder vores gusmester vand blandet med forskellige æteriske olier på stene i saunaovnen. På denne måde opstår en velduftende damp\, som bærer aromaerne af olierne. For at disse dampe kommer ud til alle deltagerne i rummet\, så svinger vores gusmester et håndklæde eller en vifte rundt. De forskellige olier og temperaturer\, som du bliver præsenteret for i løbet af sessionen\, har forskellige gavnlige effekter for kroppen. Alt dette vil vores gusmester fortælle mere om i løbet af guset.   \nVi afvikler saunagus hver anden time i vores åbningstid. Det koster ikke noget at deltage.  \nRetningslinjer for saunagus:   \n\nDu skal være klar ved saunaen fem minutter før start.\n\n\nDu skal sørge for at drikke rigeligt vand før og efter saunagus.\n\n\nHvis du skal i bassinerne efterfølgende\, så skal du skylle kroppen inden.\n\n\nDu skal have eget håndklæde med til at sidde på i vores saunaer.\n\n*Du bør ikke deltage i saunagus\, hvis du er gravid\, har epilepsi\, hjerteproblemer eller duft- og parfumeallergi.  \n 
URL:https://gigantium.dk/event/saunagus-2/2028-08-31/
LOCATION:Denmark
CATEGORIES:Svømmehal
END:VEVENT
END:VCALENDAR