BEGIN:VCALENDAR
VERSION:2.0
PRODID:-//Gigantium - ECPv6.15.16.1//NONSGML v1.0//EN
CALSCALE:GREGORIAN
METHOD:PUBLISH
X-ORIGINAL-URL:https://gigantium.dk
X-WR-CALDESC:Begivenheder for Gigantium
REFRESH-INTERVAL;VALUE=DURATION:PT1H
X-Robots-Tag:noindex
X-PUBLISHED-TTL:PT1H
BEGIN:VTIMEZONE
TZID:Europe/Copenhagen
BEGIN:DAYLIGHT
TZOFFSETFROM:+0100
TZOFFSETTO:+0200
TZNAME:CEST
DTSTART:20240331T010000
END:DAYLIGHT
BEGIN:STANDARD
TZOFFSETFROM:+0200
TZOFFSETTO:+0100
TZNAME:CET
DTSTART:20241027T010000
END:STANDARD
BEGIN:DAYLIGHT
TZOFFSETFROM:+0100
TZOFFSETTO:+0200
TZNAME:CEST
DTSTART:20250330T010000
END:DAYLIGHT
BEGIN:STANDARD
TZOFFSETFROM:+0200
TZOFFSETTO:+0100
TZNAME:CET
DTSTART:20251026T010000
END:STANDARD
BEGIN:DAYLIGHT
TZOFFSETFROM:+0100
TZOFFSETTO:+0200
TZNAME:CEST
DTSTART:20260329T010000
END:DAYLIGHT
BEGIN:STANDARD
TZOFFSETFROM:+0200
TZOFFSETTO:+0100
TZNAME:CET
DTSTART:20261025T010000
END:STANDARD
END:VTIMEZONE
BEGIN:VEVENT
DTSTART;TZID=Europe/Copenhagen:20251210T080000
DTEND;TZID=Europe/Copenhagen:20251210T084500
DTSTAMP:20260423T193531
CREATED:20260423T081436Z
LAST-MODIFIED:20260423T081436Z
UID:10025208-1765353600-1765356300@gigantium.dk
SUMMARY:Aquafit
DESCRIPTION:
URL:https://gigantium.dk/event/aquafit-5/2025-12-10/
LOCATION:Denmark
CATEGORIES:Svømmehal
END:VEVENT
BEGIN:VEVENT
DTSTART;TZID=Europe/Copenhagen:20251210T081000
DTEND;TZID=Europe/Copenhagen:20251210T085500
DTSTAMP:20260423T193531
CREATED:20251208T095211Z
LAST-MODIFIED:20260423T081442Z
UID:10024648-1765354200-1765356900@gigantium.dk
SUMMARY:Aquafit
DESCRIPTION:
URL:https://gigantium.dk/event/aquafit-2/2025-12-10/
LOCATION:Denmark
CATEGORIES:Svømmehal
END:VEVENT
BEGIN:VEVENT
DTSTART;TZID=Europe/Copenhagen:20251215T081000
DTEND;TZID=Europe/Copenhagen:20251215T085500
DTSTAMP:20260423T193531
CREATED:20251208T095211Z
LAST-MODIFIED:20260423T081442Z
UID:10024649-1765786200-1765788900@gigantium.dk
SUMMARY:Aquafit
DESCRIPTION:
URL:https://gigantium.dk/event/aquafit-2/2025-12-15/
LOCATION:Denmark
CATEGORIES:Svømmehal
END:VEVENT
BEGIN:VEVENT
DTSTART;TZID=Europe/Copenhagen:20251217T080000
DTEND;TZID=Europe/Copenhagen:20251217T084500
DTSTAMP:20260423T193531
CREATED:20260423T081436Z
LAST-MODIFIED:20260423T081436Z
UID:10025209-1765958400-1765961100@gigantium.dk
SUMMARY:Aquafit
DESCRIPTION:
URL:https://gigantium.dk/event/aquafit-5/2025-12-17/
LOCATION:Denmark
CATEGORIES:Svømmehal
END:VEVENT
BEGIN:VEVENT
DTSTART;TZID=Europe/Copenhagen:20251222T081000
DTEND;TZID=Europe/Copenhagen:20251222T085500
DTSTAMP:20260423T193531
CREATED:20251208T095211Z
LAST-MODIFIED:20260423T081442Z
UID:10024650-1766391000-1766393700@gigantium.dk
SUMMARY:Aquafit
DESCRIPTION:
URL:https://gigantium.dk/event/aquafit-2/2025-12-22/
LOCATION:Denmark
CATEGORIES:Svømmehal
END:VEVENT
BEGIN:VEVENT
DTSTART;TZID=Europe/Copenhagen:20251224T080000
DTEND;TZID=Europe/Copenhagen:20251224T084500
DTSTAMP:20260423T193531
CREATED:20260423T081436Z
LAST-MODIFIED:20260423T081436Z
UID:10025210-1766563200-1766565900@gigantium.dk
SUMMARY:Aquafit
DESCRIPTION:
URL:https://gigantium.dk/event/aquafit-5/2025-12-24/
LOCATION:Denmark
CATEGORIES:Svømmehal
END:VEVENT
BEGIN:VEVENT
DTSTART;TZID=Europe/Copenhagen:20251229T081000
DTEND;TZID=Europe/Copenhagen:20251229T085500
DTSTAMP:20260423T193531
CREATED:20251208T095211Z
LAST-MODIFIED:20260423T081442Z
UID:10024651-1766995800-1766998500@gigantium.dk
SUMMARY:Aquafit
DESCRIPTION:
URL:https://gigantium.dk/event/aquafit-2/2025-12-29/
LOCATION:Denmark
CATEGORIES:Svømmehal
END:VEVENT
BEGIN:VEVENT
DTSTART;TZID=Europe/Copenhagen:20251231T080000
DTEND;TZID=Europe/Copenhagen:20251231T084500
DTSTAMP:20260423T193531
CREATED:20260423T081436Z
LAST-MODIFIED:20260423T081436Z
UID:10025211-1767168000-1767170700@gigantium.dk
SUMMARY:Aquafit
DESCRIPTION:
URL:https://gigantium.dk/event/aquafit-5/2025-12-31/
LOCATION:Denmark
CATEGORIES:Svømmehal
END:VEVENT
END:VCALENDAR