BEGIN:VCALENDAR
VERSION:2.0
PRODID:-//Gigantium - ECPv6.15.16.1//NONSGML v1.0//EN
CALSCALE:GREGORIAN
METHOD:PUBLISH
X-ORIGINAL-URL:https://gigantium.dk
X-WR-CALDESC:Begivenheder for Gigantium
REFRESH-INTERVAL;VALUE=DURATION:PT1H
X-Robots-Tag:noindex
X-PUBLISHED-TTL:PT1H
BEGIN:VTIMEZONE
TZID:Europe/Copenhagen
BEGIN:DAYLIGHT
TZOFFSETFROM:+0100
TZOFFSETTO:+0200
TZNAME:CEST
DTSTART:20250330T010000
END:DAYLIGHT
BEGIN:STANDARD
TZOFFSETFROM:+0200
TZOFFSETTO:+0100
TZNAME:CET
DTSTART:20251026T010000
END:STANDARD
BEGIN:DAYLIGHT
TZOFFSETFROM:+0100
TZOFFSETTO:+0200
TZNAME:CEST
DTSTART:20260329T010000
END:DAYLIGHT
BEGIN:STANDARD
TZOFFSETFROM:+0200
TZOFFSETTO:+0100
TZNAME:CET
DTSTART:20261025T010000
END:STANDARD
BEGIN:DAYLIGHT
TZOFFSETFROM:+0100
TZOFFSETTO:+0200
TZNAME:CEST
DTSTART:20270328T010000
END:DAYLIGHT
BEGIN:STANDARD
TZOFFSETFROM:+0200
TZOFFSETTO:+0100
TZNAME:CET
DTSTART:20271031T010000
END:STANDARD
END:VTIMEZONE
BEGIN:VEVENT
DTSTART;TZID=Europe/Copenhagen:20260803T081000
DTEND;TZID=Europe/Copenhagen:20260803T085500
DTSTAMP:20260423T193503
CREATED:20260423T081750Z
LAST-MODIFIED:20260423T081952Z
UID:10024681-1785744600-1785747300@gigantium.dk
SUMMARY:Aquafit
DESCRIPTION:
URL:https://gigantium.dk/event/aquafit-2-2/2026-08-03/
LOCATION:Denmark
CATEGORIES:Svømmehal
END:VEVENT
BEGIN:VEVENT
DTSTART;TZID=Europe/Copenhagen:20260805T080000
DTEND;TZID=Europe/Copenhagen:20260805T084500
DTSTAMP:20260423T193503
CREATED:20260423T081436Z
LAST-MODIFIED:20260423T081436Z
UID:10025242-1785916800-1785919500@gigantium.dk
SUMMARY:Aquafit
DESCRIPTION:
URL:https://gigantium.dk/event/aquafit-5/2026-08-05/
LOCATION:Denmark
CATEGORIES:Svømmehal
END:VEVENT
BEGIN:VEVENT
DTSTART;TZID=Europe/Copenhagen:20260810T081000
DTEND;TZID=Europe/Copenhagen:20260810T085500
DTSTAMP:20260423T193503
CREATED:20260423T081750Z
LAST-MODIFIED:20260423T081952Z
UID:10024682-1786349400-1786352100@gigantium.dk
SUMMARY:Aquafit
DESCRIPTION:
URL:https://gigantium.dk/event/aquafit-2-2/2026-08-10/
LOCATION:Denmark
CATEGORIES:Svømmehal
END:VEVENT
BEGIN:VEVENT
DTSTART;TZID=Europe/Copenhagen:20260812T080000
DTEND;TZID=Europe/Copenhagen:20260812T084500
DTSTAMP:20260423T193503
CREATED:20260423T081436Z
LAST-MODIFIED:20260423T081436Z
UID:10025243-1786521600-1786524300@gigantium.dk
SUMMARY:Aquafit
DESCRIPTION:
URL:https://gigantium.dk/event/aquafit-5/2026-08-12/
LOCATION:Denmark
CATEGORIES:Svømmehal
END:VEVENT
BEGIN:VEVENT
DTSTART;TZID=Europe/Copenhagen:20260817T081000
DTEND;TZID=Europe/Copenhagen:20260817T085500
DTSTAMP:20260423T193503
CREATED:20260423T081750Z
LAST-MODIFIED:20260423T081952Z
UID:10024683-1786954200-1786956900@gigantium.dk
SUMMARY:Aquafit
DESCRIPTION:
URL:https://gigantium.dk/event/aquafit-2-2/2026-08-17/
LOCATION:Denmark
CATEGORIES:Svømmehal
END:VEVENT
BEGIN:VEVENT
DTSTART;TZID=Europe/Copenhagen:20260819T080000
DTEND;TZID=Europe/Copenhagen:20260819T084500
DTSTAMP:20260423T193503
CREATED:20260423T081436Z
LAST-MODIFIED:20260423T081436Z
UID:10025244-1787126400-1787129100@gigantium.dk
SUMMARY:Aquafit
DESCRIPTION:
URL:https://gigantium.dk/event/aquafit-5/2026-08-19/
LOCATION:Denmark
CATEGORIES:Svømmehal
END:VEVENT
BEGIN:VEVENT
DTSTART;TZID=Europe/Copenhagen:20260824T081000
DTEND;TZID=Europe/Copenhagen:20260824T085500
DTSTAMP:20260423T193503
CREATED:20260423T081750Z
LAST-MODIFIED:20260423T081952Z
UID:10024684-1787559000-1787561700@gigantium.dk
SUMMARY:Aquafit
DESCRIPTION:
URL:https://gigantium.dk/event/aquafit-2-2/2026-08-24/
LOCATION:Denmark
CATEGORIES:Svømmehal
END:VEVENT
BEGIN:VEVENT
DTSTART;TZID=Europe/Copenhagen:20260826T080000
DTEND;TZID=Europe/Copenhagen:20260826T084500
DTSTAMP:20260423T193503
CREATED:20260423T081436Z
LAST-MODIFIED:20260423T081436Z
UID:10025245-1787731200-1787733900@gigantium.dk
SUMMARY:Aquafit
DESCRIPTION:
URL:https://gigantium.dk/event/aquafit-5/2026-08-26/
LOCATION:Denmark
CATEGORIES:Svømmehal
END:VEVENT
BEGIN:VEVENT
DTSTART;TZID=Europe/Copenhagen:20260831T081000
DTEND;TZID=Europe/Copenhagen:20260831T085500
DTSTAMP:20260423T193503
CREATED:20260423T081750Z
LAST-MODIFIED:20260423T081952Z
UID:10024685-1788163800-1788166500@gigantium.dk
SUMMARY:Aquafit
DESCRIPTION:
URL:https://gigantium.dk/event/aquafit-2-2/2026-08-31/
LOCATION:Denmark
CATEGORIES:Svømmehal
END:VEVENT
END:VCALENDAR