BEGIN:VCALENDAR
VERSION:2.0
PRODID:-//Gigantium - ECPv6.15.16.1//NONSGML v1.0//EN
CALSCALE:GREGORIAN
METHOD:PUBLISH
X-ORIGINAL-URL:https://gigantium.dk
X-WR-CALDESC:Begivenheder for Gigantium
REFRESH-INTERVAL;VALUE=DURATION:PT1H
X-Robots-Tag:noindex
X-PUBLISHED-TTL:PT1H
BEGIN:VTIMEZONE
TZID:Europe/Copenhagen
BEGIN:DAYLIGHT
TZOFFSETFROM:+0100
TZOFFSETTO:+0200
TZNAME:CEST
DTSTART:20250330T010000
END:DAYLIGHT
BEGIN:STANDARD
TZOFFSETFROM:+0200
TZOFFSETTO:+0100
TZNAME:CET
DTSTART:20251026T010000
END:STANDARD
BEGIN:DAYLIGHT
TZOFFSETFROM:+0100
TZOFFSETTO:+0200
TZNAME:CEST
DTSTART:20260329T010000
END:DAYLIGHT
BEGIN:STANDARD
TZOFFSETFROM:+0200
TZOFFSETTO:+0100
TZNAME:CET
DTSTART:20261025T010000
END:STANDARD
BEGIN:DAYLIGHT
TZOFFSETFROM:+0100
TZOFFSETTO:+0200
TZNAME:CEST
DTSTART:20270328T010000
END:DAYLIGHT
BEGIN:STANDARD
TZOFFSETFROM:+0200
TZOFFSETTO:+0100
TZNAME:CET
DTSTART:20271031T010000
END:STANDARD
END:VTIMEZONE
BEGIN:VEVENT
DTSTART;TZID=Europe/Copenhagen:20261102T081000
DTEND;TZID=Europe/Copenhagen:20261102T085500
DTSTAMP:20260423T235000
CREATED:20260423T081750Z
LAST-MODIFIED:20260423T081952Z
UID:10024694-1793607000-1793609700@gigantium.dk
SUMMARY:Aquafit
DESCRIPTION:
URL:https://gigantium.dk/event/aquafit-2-2/2026-11-02/
LOCATION:Denmark
CATEGORIES:Svømmehal
END:VEVENT
BEGIN:VEVENT
DTSTART;TZID=Europe/Copenhagen:20261104T080000
DTEND;TZID=Europe/Copenhagen:20261104T084500
DTSTAMP:20260423T235000
CREATED:20260423T081436Z
LAST-MODIFIED:20260423T081436Z
UID:10025255-1793779200-1793781900@gigantium.dk
SUMMARY:Aquafit
DESCRIPTION:
URL:https://gigantium.dk/event/aquafit-5/2026-11-04/
LOCATION:Denmark
CATEGORIES:Svømmehal
END:VEVENT
BEGIN:VEVENT
DTSTART;TZID=Europe/Copenhagen:20261109T081000
DTEND;TZID=Europe/Copenhagen:20261109T085500
DTSTAMP:20260423T235000
CREATED:20260423T081750Z
LAST-MODIFIED:20260423T081952Z
UID:10024695-1794211800-1794214500@gigantium.dk
SUMMARY:Aquafit
DESCRIPTION:
URL:https://gigantium.dk/event/aquafit-2-2/2026-11-09/
LOCATION:Denmark
CATEGORIES:Svømmehal
END:VEVENT
BEGIN:VEVENT
DTSTART;TZID=Europe/Copenhagen:20261111T080000
DTEND;TZID=Europe/Copenhagen:20261111T084500
DTSTAMP:20260423T235000
CREATED:20260423T081436Z
LAST-MODIFIED:20260423T081436Z
UID:10025256-1794384000-1794386700@gigantium.dk
SUMMARY:Aquafit
DESCRIPTION:
URL:https://gigantium.dk/event/aquafit-5/2026-11-11/
LOCATION:Denmark
CATEGORIES:Svømmehal
END:VEVENT
BEGIN:VEVENT
DTSTART;TZID=Europe/Copenhagen:20261116T081000
DTEND;TZID=Europe/Copenhagen:20261116T085500
DTSTAMP:20260423T235000
CREATED:20260423T081750Z
LAST-MODIFIED:20260423T081952Z
UID:10024696-1794816600-1794819300@gigantium.dk
SUMMARY:Aquafit
DESCRIPTION:
URL:https://gigantium.dk/event/aquafit-2-2/2026-11-16/
LOCATION:Denmark
CATEGORIES:Svømmehal
END:VEVENT
BEGIN:VEVENT
DTSTART;TZID=Europe/Copenhagen:20261118T080000
DTEND;TZID=Europe/Copenhagen:20261118T084500
DTSTAMP:20260423T235000
CREATED:20260423T081436Z
LAST-MODIFIED:20260423T081436Z
UID:10025257-1794988800-1794991500@gigantium.dk
SUMMARY:Aquafit
DESCRIPTION:
URL:https://gigantium.dk/event/aquafit-5/2026-11-18/
LOCATION:Denmark
CATEGORIES:Svømmehal
END:VEVENT
BEGIN:VEVENT
DTSTART;TZID=Europe/Copenhagen:20261123T081000
DTEND;TZID=Europe/Copenhagen:20261123T085500
DTSTAMP:20260423T235000
CREATED:20260423T081750Z
LAST-MODIFIED:20260423T081952Z
UID:10024697-1795421400-1795424100@gigantium.dk
SUMMARY:Aquafit
DESCRIPTION:
URL:https://gigantium.dk/event/aquafit-2-2/2026-11-23/
LOCATION:Denmark
CATEGORIES:Svømmehal
END:VEVENT
BEGIN:VEVENT
DTSTART;TZID=Europe/Copenhagen:20261125T080000
DTEND;TZID=Europe/Copenhagen:20261125T084500
DTSTAMP:20260423T235000
CREATED:20260423T081436Z
LAST-MODIFIED:20260423T081436Z
UID:10025258-1795593600-1795596300@gigantium.dk
SUMMARY:Aquafit
DESCRIPTION:
URL:https://gigantium.dk/event/aquafit-5/2026-11-25/
LOCATION:Denmark
CATEGORIES:Svømmehal
END:VEVENT
BEGIN:VEVENT
DTSTART;TZID=Europe/Copenhagen:20261130T081000
DTEND;TZID=Europe/Copenhagen:20261130T085500
DTSTAMP:20260423T235000
CREATED:20260423T081750Z
LAST-MODIFIED:20260423T081952Z
UID:10024698-1796026200-1796028900@gigantium.dk
SUMMARY:Aquafit
DESCRIPTION:
URL:https://gigantium.dk/event/aquafit-2-2/2026-11-30/
LOCATION:Denmark
CATEGORIES:Svømmehal
END:VEVENT
END:VCALENDAR