BEGIN:VCALENDAR
VERSION:2.0
PRODID:-//Gigantium - ECPv6.15.16.1//NONSGML v1.0//EN
CALSCALE:GREGORIAN
METHOD:PUBLISH
X-WR-CALNAME:Gigantium
X-ORIGINAL-URL:https://gigantium.dk
X-WR-CALDESC:Begivenheder for Gigantium
REFRESH-INTERVAL;VALUE=DURATION:PT1H
X-Robots-Tag:noindex
X-PUBLISHED-TTL:PT1H
BEGIN:VTIMEZONE
TZID:Europe/Copenhagen
BEGIN:DAYLIGHT
TZOFFSETFROM:+0100
TZOFFSETTO:+0200
TZNAME:CEST
DTSTART:20260329T010000
END:DAYLIGHT
BEGIN:STANDARD
TZOFFSETFROM:+0200
TZOFFSETTO:+0100
TZNAME:CET
DTSTART:20261025T010000
END:STANDARD
BEGIN:DAYLIGHT
TZOFFSETFROM:+0100
TZOFFSETTO:+0200
TZNAME:CEST
DTSTART:20270328T010000
END:DAYLIGHT
BEGIN:STANDARD
TZOFFSETFROM:+0200
TZOFFSETTO:+0100
TZNAME:CET
DTSTART:20271031T010000
END:STANDARD
BEGIN:DAYLIGHT
TZOFFSETFROM:+0100
TZOFFSETTO:+0200
TZNAME:CEST
DTSTART:20280326T010000
END:DAYLIGHT
BEGIN:STANDARD
TZOFFSETFROM:+0200
TZOFFSETTO:+0100
TZNAME:CET
DTSTART:20281029T010000
END:STANDARD
END:VTIMEZONE
BEGIN:VEVENT
DTSTART;TZID=Europe/Copenhagen:20270104T081000
DTEND;TZID=Europe/Copenhagen:20270104T085500
DTSTAMP:20260424T021550
CREATED:20260423T081750Z
LAST-MODIFIED:20260423T081952Z
UID:10024703-1799050200-1799052900@gigantium.dk
SUMMARY:Aquafit
DESCRIPTION:
URL:https://gigantium.dk/event/aquafit-2-2/2027-01-04/
LOCATION:Denmark
CATEGORIES:Svømmehal
END:VEVENT
BEGIN:VEVENT
DTSTART;TZID=Europe/Copenhagen:20270106T080000
DTEND;TZID=Europe/Copenhagen:20270106T084500
DTSTAMP:20260424T021550
CREATED:20260423T081436Z
LAST-MODIFIED:20260423T081436Z
UID:10025264-1799222400-1799225100@gigantium.dk
SUMMARY:Aquafit
DESCRIPTION:
URL:https://gigantium.dk/event/aquafit-5/2027-01-06/
LOCATION:Denmark
CATEGORIES:Svømmehal
END:VEVENT
BEGIN:VEVENT
DTSTART;TZID=Europe/Copenhagen:20270111T081000
DTEND;TZID=Europe/Copenhagen:20270111T085500
DTSTAMP:20260424T021550
CREATED:20260423T081750Z
LAST-MODIFIED:20260423T081952Z
UID:10024704-1799655000-1799657700@gigantium.dk
SUMMARY:Aquafit
DESCRIPTION:
URL:https://gigantium.dk/event/aquafit-2-2/2027-01-11/
LOCATION:Denmark
CATEGORIES:Svømmehal
END:VEVENT
BEGIN:VEVENT
DTSTART;TZID=Europe/Copenhagen:20270113T080000
DTEND;TZID=Europe/Copenhagen:20270113T084500
DTSTAMP:20260424T021550
CREATED:20260423T081436Z
LAST-MODIFIED:20260423T081436Z
UID:10025265-1799827200-1799829900@gigantium.dk
SUMMARY:Aquafit
DESCRIPTION:
URL:https://gigantium.dk/event/aquafit-5/2027-01-13/
LOCATION:Denmark
CATEGORIES:Svømmehal
END:VEVENT
BEGIN:VEVENT
DTSTART;TZID=Europe/Copenhagen:20270118T081000
DTEND;TZID=Europe/Copenhagen:20270118T085500
DTSTAMP:20260424T021550
CREATED:20260423T081750Z
LAST-MODIFIED:20260423T081952Z
UID:10024705-1800259800-1800262500@gigantium.dk
SUMMARY:Aquafit
DESCRIPTION:
URL:https://gigantium.dk/event/aquafit-2-2/2027-01-18/
LOCATION:Denmark
CATEGORIES:Svømmehal
END:VEVENT
BEGIN:VEVENT
DTSTART;TZID=Europe/Copenhagen:20270120T080000
DTEND;TZID=Europe/Copenhagen:20270120T084500
DTSTAMP:20260424T021550
CREATED:20260423T081436Z
LAST-MODIFIED:20260423T081436Z
UID:10025266-1800432000-1800434700@gigantium.dk
SUMMARY:Aquafit
DESCRIPTION:
URL:https://gigantium.dk/event/aquafit-5/2027-01-20/
LOCATION:Denmark
CATEGORIES:Svømmehal
END:VEVENT
BEGIN:VEVENT
DTSTART;TZID=Europe/Copenhagen:20270125T081000
DTEND;TZID=Europe/Copenhagen:20270125T085500
DTSTAMP:20260424T021550
CREATED:20260423T081750Z
LAST-MODIFIED:20260423T081952Z
UID:10024706-1800864600-1800867300@gigantium.dk
SUMMARY:Aquafit
DESCRIPTION:
URL:https://gigantium.dk/event/aquafit-2-2/2027-01-25/
LOCATION:Denmark
CATEGORIES:Svømmehal
END:VEVENT
BEGIN:VEVENT
DTSTART;TZID=Europe/Copenhagen:20270127T080000
DTEND;TZID=Europe/Copenhagen:20270127T084500
DTSTAMP:20260424T021550
CREATED:20260423T081436Z
LAST-MODIFIED:20260423T081436Z
UID:10025267-1801036800-1801039500@gigantium.dk
SUMMARY:Aquafit
DESCRIPTION:
URL:https://gigantium.dk/event/aquafit-5/2027-01-27/
LOCATION:Denmark
CATEGORIES:Svømmehal
END:VEVENT
END:VCALENDAR