BEGIN:VCALENDAR
VERSION:2.0
PRODID:-//Gigantium - ECPv6.15.16.1//NONSGML v1.0//EN
CALSCALE:GREGORIAN
METHOD:PUBLISH
X-ORIGINAL-URL:https://gigantium.dk
X-WR-CALDESC:Begivenheder for Gigantium
REFRESH-INTERVAL;VALUE=DURATION:PT1H
X-Robots-Tag:noindex
X-PUBLISHED-TTL:PT1H
BEGIN:VTIMEZONE
TZID:Europe/Copenhagen
BEGIN:DAYLIGHT
TZOFFSETFROM:+0100
TZOFFSETTO:+0200
TZNAME:CEST
DTSTART:20260329T010000
END:DAYLIGHT
BEGIN:STANDARD
TZOFFSETFROM:+0200
TZOFFSETTO:+0100
TZNAME:CET
DTSTART:20261025T010000
END:STANDARD
BEGIN:DAYLIGHT
TZOFFSETFROM:+0100
TZOFFSETTO:+0200
TZNAME:CEST
DTSTART:20270328T010000
END:DAYLIGHT
BEGIN:STANDARD
TZOFFSETFROM:+0200
TZOFFSETTO:+0100
TZNAME:CET
DTSTART:20271031T010000
END:STANDARD
BEGIN:DAYLIGHT
TZOFFSETFROM:+0100
TZOFFSETTO:+0200
TZNAME:CEST
DTSTART:20280326T010000
END:DAYLIGHT
BEGIN:STANDARD
TZOFFSETFROM:+0200
TZOFFSETTO:+0100
TZNAME:CET
DTSTART:20281029T010000
END:STANDARD
END:VTIMEZONE
BEGIN:VEVENT
DTSTART;TZID=Europe/Copenhagen:20270201T081000
DTEND;TZID=Europe/Copenhagen:20270201T085500
DTSTAMP:20260424T034055
CREATED:20260423T081750Z
LAST-MODIFIED:20260423T081952Z
UID:10024707-1801469400-1801472100@gigantium.dk
SUMMARY:Aquafit
DESCRIPTION:
URL:https://gigantium.dk/event/aquafit-2-2/2027-02-01/
LOCATION:Denmark
CATEGORIES:Svømmehal
END:VEVENT
BEGIN:VEVENT
DTSTART;TZID=Europe/Copenhagen:20270203T080000
DTEND;TZID=Europe/Copenhagen:20270203T084500
DTSTAMP:20260424T034055
CREATED:20260423T081436Z
LAST-MODIFIED:20260423T081436Z
UID:10025268-1801641600-1801644300@gigantium.dk
SUMMARY:Aquafit
DESCRIPTION:
URL:https://gigantium.dk/event/aquafit-5/2027-02-03/
LOCATION:Denmark
CATEGORIES:Svømmehal
END:VEVENT
BEGIN:VEVENT
DTSTART;TZID=Europe/Copenhagen:20270208T081000
DTEND;TZID=Europe/Copenhagen:20270208T085500
DTSTAMP:20260424T034055
CREATED:20260423T081750Z
LAST-MODIFIED:20260423T081952Z
UID:10024708-1802074200-1802076900@gigantium.dk
SUMMARY:Aquafit
DESCRIPTION:
URL:https://gigantium.dk/event/aquafit-2-2/2027-02-08/
LOCATION:Denmark
CATEGORIES:Svømmehal
END:VEVENT
BEGIN:VEVENT
DTSTART;TZID=Europe/Copenhagen:20270210T080000
DTEND;TZID=Europe/Copenhagen:20270210T084500
DTSTAMP:20260424T034055
CREATED:20260423T081436Z
LAST-MODIFIED:20260423T081436Z
UID:10025269-1802246400-1802249100@gigantium.dk
SUMMARY:Aquafit
DESCRIPTION:
URL:https://gigantium.dk/event/aquafit-5/2027-02-10/
LOCATION:Denmark
CATEGORIES:Svømmehal
END:VEVENT
BEGIN:VEVENT
DTSTART;TZID=Europe/Copenhagen:20270215T081000
DTEND;TZID=Europe/Copenhagen:20270215T085500
DTSTAMP:20260424T034055
CREATED:20260423T081750Z
LAST-MODIFIED:20260423T081952Z
UID:10024709-1802679000-1802681700@gigantium.dk
SUMMARY:Aquafit
DESCRIPTION:
URL:https://gigantium.dk/event/aquafit-2-2/2027-02-15/
LOCATION:Denmark
CATEGORIES:Svømmehal
END:VEVENT
BEGIN:VEVENT
DTSTART;TZID=Europe/Copenhagen:20270217T080000
DTEND;TZID=Europe/Copenhagen:20270217T084500
DTSTAMP:20260424T034055
CREATED:20260423T081436Z
LAST-MODIFIED:20260423T081436Z
UID:10025270-1802851200-1802853900@gigantium.dk
SUMMARY:Aquafit
DESCRIPTION:
URL:https://gigantium.dk/event/aquafit-5/2027-02-17/
LOCATION:Denmark
CATEGORIES:Svømmehal
END:VEVENT
BEGIN:VEVENT
DTSTART;TZID=Europe/Copenhagen:20270222T081000
DTEND;TZID=Europe/Copenhagen:20270222T085500
DTSTAMP:20260424T034055
CREATED:20260423T081750Z
LAST-MODIFIED:20260423T081952Z
UID:10024710-1803283800-1803286500@gigantium.dk
SUMMARY:Aquafit
DESCRIPTION:
URL:https://gigantium.dk/event/aquafit-2-2/2027-02-22/
LOCATION:Denmark
CATEGORIES:Svømmehal
END:VEVENT
BEGIN:VEVENT
DTSTART;TZID=Europe/Copenhagen:20270224T080000
DTEND;TZID=Europe/Copenhagen:20270224T084500
DTSTAMP:20260424T034055
CREATED:20260423T081436Z
LAST-MODIFIED:20260423T081436Z
UID:10025271-1803456000-1803458700@gigantium.dk
SUMMARY:Aquafit
DESCRIPTION:
URL:https://gigantium.dk/event/aquafit-5/2027-02-24/
LOCATION:Denmark
CATEGORIES:Svømmehal
END:VEVENT
END:VCALENDAR