BEGIN:VCALENDAR
VERSION:2.0
PRODID:-//Gigantium - ECPv6.15.16.1//NONSGML v1.0//EN
CALSCALE:GREGORIAN
METHOD:PUBLISH
X-ORIGINAL-URL:https://gigantium.dk
X-WR-CALDESC:Begivenheder for Gigantium
REFRESH-INTERVAL;VALUE=DURATION:PT1H
X-Robots-Tag:noindex
X-PUBLISHED-TTL:PT1H
BEGIN:VTIMEZONE
TZID:Europe/Copenhagen
BEGIN:DAYLIGHT
TZOFFSETFROM:+0100
TZOFFSETTO:+0200
TZNAME:CEST
DTSTART:20260329T010000
END:DAYLIGHT
BEGIN:STANDARD
TZOFFSETFROM:+0200
TZOFFSETTO:+0100
TZNAME:CET
DTSTART:20261025T010000
END:STANDARD
BEGIN:DAYLIGHT
TZOFFSETFROM:+0100
TZOFFSETTO:+0200
TZNAME:CEST
DTSTART:20270328T010000
END:DAYLIGHT
BEGIN:STANDARD
TZOFFSETFROM:+0200
TZOFFSETTO:+0100
TZNAME:CET
DTSTART:20271031T010000
END:STANDARD
BEGIN:DAYLIGHT
TZOFFSETFROM:+0100
TZOFFSETTO:+0200
TZNAME:CEST
DTSTART:20280326T010000
END:DAYLIGHT
BEGIN:STANDARD
TZOFFSETFROM:+0200
TZOFFSETTO:+0100
TZNAME:CET
DTSTART:20281029T010000
END:STANDARD
END:VTIMEZONE
BEGIN:VEVENT
DTSTART;TZID=Europe/Copenhagen:20270901T080000
DTEND;TZID=Europe/Copenhagen:20270901T084500
DTSTAMP:20260424T135951
CREATED:20260423T081436Z
LAST-MODIFIED:20260423T081436Z
UID:10025298-1819785600-1819788300@gigantium.dk
SUMMARY:Aquafit
DESCRIPTION:
URL:https://gigantium.dk/event/aquafit-5/2027-09-01/
LOCATION:Denmark
CATEGORIES:Svømmehal
END:VEVENT
BEGIN:VEVENT
DTSTART;TZID=Europe/Copenhagen:20270906T081000
DTEND;TZID=Europe/Copenhagen:20270906T085500
DTSTAMP:20260424T135951
CREATED:20260423T081750Z
LAST-MODIFIED:20260423T081952Z
UID:10024738-1820218200-1820220900@gigantium.dk
SUMMARY:Aquafit
DESCRIPTION:
URL:https://gigantium.dk/event/aquafit-2-2/2027-09-06/
LOCATION:Denmark
CATEGORIES:Svømmehal
END:VEVENT
BEGIN:VEVENT
DTSTART;TZID=Europe/Copenhagen:20270908T080000
DTEND;TZID=Europe/Copenhagen:20270908T084500
DTSTAMP:20260424T135951
CREATED:20260423T081436Z
LAST-MODIFIED:20260423T081436Z
UID:10025299-1820390400-1820393100@gigantium.dk
SUMMARY:Aquafit
DESCRIPTION:
URL:https://gigantium.dk/event/aquafit-5/2027-09-08/
LOCATION:Denmark
CATEGORIES:Svømmehal
END:VEVENT
BEGIN:VEVENT
DTSTART;TZID=Europe/Copenhagen:20270913T081000
DTEND;TZID=Europe/Copenhagen:20270913T085500
DTSTAMP:20260424T135951
CREATED:20260423T081750Z
LAST-MODIFIED:20260423T081952Z
UID:10024739-1820823000-1820825700@gigantium.dk
SUMMARY:Aquafit
DESCRIPTION:
URL:https://gigantium.dk/event/aquafit-2-2/2027-09-13/
LOCATION:Denmark
CATEGORIES:Svømmehal
END:VEVENT
BEGIN:VEVENT
DTSTART;TZID=Europe/Copenhagen:20270915T080000
DTEND;TZID=Europe/Copenhagen:20270915T084500
DTSTAMP:20260424T135951
CREATED:20260423T081436Z
LAST-MODIFIED:20260423T081436Z
UID:10025300-1820995200-1820997900@gigantium.dk
SUMMARY:Aquafit
DESCRIPTION:
URL:https://gigantium.dk/event/aquafit-5/2027-09-15/
LOCATION:Denmark
CATEGORIES:Svømmehal
END:VEVENT
BEGIN:VEVENT
DTSTART;TZID=Europe/Copenhagen:20270920T081000
DTEND;TZID=Europe/Copenhagen:20270920T085500
DTSTAMP:20260424T135951
CREATED:20260423T081750Z
LAST-MODIFIED:20260423T081952Z
UID:10024740-1821427800-1821430500@gigantium.dk
SUMMARY:Aquafit
DESCRIPTION:
URL:https://gigantium.dk/event/aquafit-2-2/2027-09-20/
LOCATION:Denmark
CATEGORIES:Svømmehal
END:VEVENT
BEGIN:VEVENT
DTSTART;TZID=Europe/Copenhagen:20270922T080000
DTEND;TZID=Europe/Copenhagen:20270922T084500
DTSTAMP:20260424T135951
CREATED:20260423T081436Z
LAST-MODIFIED:20260423T081436Z
UID:10025301-1821600000-1821602700@gigantium.dk
SUMMARY:Aquafit
DESCRIPTION:
URL:https://gigantium.dk/event/aquafit-5/2027-09-22/
LOCATION:Denmark
CATEGORIES:Svømmehal
END:VEVENT
BEGIN:VEVENT
DTSTART;TZID=Europe/Copenhagen:20270927T081000
DTEND;TZID=Europe/Copenhagen:20270927T085500
DTSTAMP:20260424T135951
CREATED:20260423T081750Z
LAST-MODIFIED:20260423T081952Z
UID:10024741-1822032600-1822035300@gigantium.dk
SUMMARY:Aquafit
DESCRIPTION:
URL:https://gigantium.dk/event/aquafit-2-2/2027-09-27/
LOCATION:Denmark
CATEGORIES:Svømmehal
END:VEVENT
BEGIN:VEVENT
DTSTART;TZID=Europe/Copenhagen:20270929T080000
DTEND;TZID=Europe/Copenhagen:20270929T084500
DTSTAMP:20260424T135951
CREATED:20260423T081436Z
LAST-MODIFIED:20260423T081436Z
UID:10025302-1822204800-1822207500@gigantium.dk
SUMMARY:Aquafit
DESCRIPTION:
URL:https://gigantium.dk/event/aquafit-5/2027-09-29/
LOCATION:Denmark
CATEGORIES:Svømmehal
END:VEVENT
END:VCALENDAR