BEGIN:VCALENDAR
VERSION:2.0
PRODID:-//Gigantium - ECPv6.15.16.1//NONSGML v1.0//EN
CALSCALE:GREGORIAN
METHOD:PUBLISH
X-WR-CALNAME:Gigantium
X-ORIGINAL-URL:https://gigantium.dk
X-WR-CALDESC:Begivenheder for Gigantium
REFRESH-INTERVAL;VALUE=DURATION:PT1H
X-Robots-Tag:noindex
X-PUBLISHED-TTL:PT1H
BEGIN:VTIMEZONE
TZID:Europe/Copenhagen
BEGIN:DAYLIGHT
TZOFFSETFROM:+0100
TZOFFSETTO:+0200
TZNAME:CEST
DTSTART:20270328T010000
END:DAYLIGHT
BEGIN:STANDARD
TZOFFSETFROM:+0200
TZOFFSETTO:+0100
TZNAME:CET
DTSTART:20271031T010000
END:STANDARD
BEGIN:DAYLIGHT
TZOFFSETFROM:+0100
TZOFFSETTO:+0200
TZNAME:CEST
DTSTART:20280326T010000
END:DAYLIGHT
BEGIN:STANDARD
TZOFFSETFROM:+0200
TZOFFSETTO:+0100
TZNAME:CET
DTSTART:20281029T010000
END:STANDARD
BEGIN:DAYLIGHT
TZOFFSETFROM:+0100
TZOFFSETTO:+0200
TZNAME:CEST
DTSTART:20290325T010000
END:DAYLIGHT
BEGIN:STANDARD
TZOFFSETFROM:+0200
TZOFFSETTO:+0100
TZNAME:CET
DTSTART:20291028T010000
END:STANDARD
END:VTIMEZONE
BEGIN:VEVENT
DTSTART;TZID=Europe/Copenhagen:20280703T081000
DTEND;TZID=Europe/Copenhagen:20280703T085500
DTSTAMP:20260425T032158
CREATED:20260423T081750Z
LAST-MODIFIED:20260423T081952Z
UID:10024781-1846224600-1846227300@gigantium.dk
SUMMARY:Aquafit
DESCRIPTION:
URL:https://gigantium.dk/event/aquafit-2-2/2028-07-03/
LOCATION:Denmark
CATEGORIES:Svømmehal
END:VEVENT
BEGIN:VEVENT
DTSTART;TZID=Europe/Copenhagen:20280705T080000
DTEND;TZID=Europe/Copenhagen:20280705T084500
DTSTAMP:20260425T032158
CREATED:20260423T081436Z
LAST-MODIFIED:20260423T081436Z
UID:10025342-1846396800-1846399500@gigantium.dk
SUMMARY:Aquafit
DESCRIPTION:
URL:https://gigantium.dk/event/aquafit-5/2028-07-05/
LOCATION:Denmark
CATEGORIES:Svømmehal
END:VEVENT
BEGIN:VEVENT
DTSTART;TZID=Europe/Copenhagen:20280710T081000
DTEND;TZID=Europe/Copenhagen:20280710T085500
DTSTAMP:20260425T032158
CREATED:20260423T081750Z
LAST-MODIFIED:20260423T081952Z
UID:10024782-1846829400-1846832100@gigantium.dk
SUMMARY:Aquafit
DESCRIPTION:
URL:https://gigantium.dk/event/aquafit-2-2/2028-07-10/
LOCATION:Denmark
CATEGORIES:Svømmehal
END:VEVENT
BEGIN:VEVENT
DTSTART;TZID=Europe/Copenhagen:20280712T080000
DTEND;TZID=Europe/Copenhagen:20280712T084500
DTSTAMP:20260425T032158
CREATED:20260423T081436Z
LAST-MODIFIED:20260423T081436Z
UID:10025343-1847001600-1847004300@gigantium.dk
SUMMARY:Aquafit
DESCRIPTION:
URL:https://gigantium.dk/event/aquafit-5/2028-07-12/
LOCATION:Denmark
CATEGORIES:Svømmehal
END:VEVENT
BEGIN:VEVENT
DTSTART;TZID=Europe/Copenhagen:20280717T081000
DTEND;TZID=Europe/Copenhagen:20280717T085500
DTSTAMP:20260425T032158
CREATED:20260423T081750Z
LAST-MODIFIED:20260423T081952Z
UID:10024783-1847434200-1847436900@gigantium.dk
SUMMARY:Aquafit
DESCRIPTION:
URL:https://gigantium.dk/event/aquafit-2-2/2028-07-17/
LOCATION:Denmark
CATEGORIES:Svømmehal
END:VEVENT
BEGIN:VEVENT
DTSTART;TZID=Europe/Copenhagen:20280719T080000
DTEND;TZID=Europe/Copenhagen:20280719T084500
DTSTAMP:20260425T032158
CREATED:20260423T081436Z
LAST-MODIFIED:20260423T081436Z
UID:10025344-1847606400-1847609100@gigantium.dk
SUMMARY:Aquafit
DESCRIPTION:
URL:https://gigantium.dk/event/aquafit-5/2028-07-19/
LOCATION:Denmark
CATEGORIES:Svømmehal
END:VEVENT
BEGIN:VEVENT
DTSTART;TZID=Europe/Copenhagen:20280724T081000
DTEND;TZID=Europe/Copenhagen:20280724T085500
DTSTAMP:20260425T032158
CREATED:20260423T081750Z
LAST-MODIFIED:20260423T081952Z
UID:10024784-1848039000-1848041700@gigantium.dk
SUMMARY:Aquafit
DESCRIPTION:
URL:https://gigantium.dk/event/aquafit-2-2/2028-07-24/
LOCATION:Denmark
CATEGORIES:Svømmehal
END:VEVENT
BEGIN:VEVENT
DTSTART;TZID=Europe/Copenhagen:20280726T080000
DTEND;TZID=Europe/Copenhagen:20280726T084500
DTSTAMP:20260425T032158
CREATED:20260423T081436Z
LAST-MODIFIED:20260423T081436Z
UID:10025345-1848211200-1848213900@gigantium.dk
SUMMARY:Aquafit
DESCRIPTION:
URL:https://gigantium.dk/event/aquafit-5/2028-07-26/
LOCATION:Denmark
CATEGORIES:Svømmehal
END:VEVENT
BEGIN:VEVENT
DTSTART;TZID=Europe/Copenhagen:20280731T081000
DTEND;TZID=Europe/Copenhagen:20280731T085500
DTSTAMP:20260425T032158
CREATED:20260423T081750Z
LAST-MODIFIED:20260423T081952Z
UID:10024785-1848643800-1848646500@gigantium.dk
SUMMARY:Aquafit
DESCRIPTION:
URL:https://gigantium.dk/event/aquafit-2-2/2028-07-31/
LOCATION:Denmark
CATEGORIES:Svømmehal
END:VEVENT
END:VCALENDAR