BEGIN:VCALENDAR
VERSION:2.0
PRODID:-//Gigantium - ECPv6.15.16.1//NONSGML v1.0//EN
CALSCALE:GREGORIAN
METHOD:PUBLISH
X-ORIGINAL-URL:https://gigantium.dk
X-WR-CALDESC:Begivenheder for Gigantium
REFRESH-INTERVAL;VALUE=DURATION:PT1H
X-Robots-Tag:noindex
X-PUBLISHED-TTL:PT1H
BEGIN:VTIMEZONE
TZID:Europe/Copenhagen
BEGIN:DAYLIGHT
TZOFFSETFROM:+0100
TZOFFSETTO:+0200
TZNAME:CEST
DTSTART:20280326T010000
END:DAYLIGHT
BEGIN:STANDARD
TZOFFSETFROM:+0200
TZOFFSETTO:+0100
TZNAME:CET
DTSTART:20281029T010000
END:STANDARD
BEGIN:DAYLIGHT
TZOFFSETFROM:+0100
TZOFFSETTO:+0200
TZNAME:CEST
DTSTART:20290325T010000
END:DAYLIGHT
BEGIN:STANDARD
TZOFFSETFROM:+0200
TZOFFSETTO:+0100
TZNAME:CET
DTSTART:20291028T010000
END:STANDARD
BEGIN:DAYLIGHT
TZOFFSETFROM:+0100
TZOFFSETTO:+0200
TZNAME:CEST
DTSTART:20300331T010000
END:DAYLIGHT
BEGIN:STANDARD
TZOFFSETFROM:+0200
TZOFFSETTO:+0100
TZNAME:CET
DTSTART:20301027T010000
END:STANDARD
END:VTIMEZONE
BEGIN:VEVENT
DTSTART;TZID=Europe/Copenhagen:20290502T080000
DTEND;TZID=Europe/Copenhagen:20290502T084500
DTSTAMP:20260425T180049
CREATED:20260423T081436Z
LAST-MODIFIED:20260423T081436Z
UID:10025385-1872403200-1872405900@gigantium.dk
SUMMARY:Aquafit
DESCRIPTION:
URL:https://gigantium.dk/event/aquafit-5/2029-05-02/
LOCATION:Denmark
CATEGORIES:Svømmehal
END:VEVENT
BEGIN:VEVENT
DTSTART;TZID=Europe/Copenhagen:20290507T081000
DTEND;TZID=Europe/Copenhagen:20290507T085500
DTSTAMP:20260425T180049
CREATED:20260423T081750Z
LAST-MODIFIED:20260423T081952Z
UID:10024825-1872835800-1872838500@gigantium.dk
SUMMARY:Aquafit
DESCRIPTION:
URL:https://gigantium.dk/event/aquafit-2-2/2029-05-07/
LOCATION:Denmark
CATEGORIES:Svømmehal
END:VEVENT
BEGIN:VEVENT
DTSTART;TZID=Europe/Copenhagen:20290509T080000
DTEND;TZID=Europe/Copenhagen:20290509T084500
DTSTAMP:20260425T180049
CREATED:20260423T081436Z
LAST-MODIFIED:20260423T081436Z
UID:10025386-1873008000-1873010700@gigantium.dk
SUMMARY:Aquafit
DESCRIPTION:
URL:https://gigantium.dk/event/aquafit-5/2029-05-09/
LOCATION:Denmark
CATEGORIES:Svømmehal
END:VEVENT
BEGIN:VEVENT
DTSTART;TZID=Europe/Copenhagen:20290514T081000
DTEND;TZID=Europe/Copenhagen:20290514T085500
DTSTAMP:20260425T180049
CREATED:20260423T081750Z
LAST-MODIFIED:20260423T081952Z
UID:10024826-1873440600-1873443300@gigantium.dk
SUMMARY:Aquafit
DESCRIPTION:
URL:https://gigantium.dk/event/aquafit-2-2/2029-05-14/
LOCATION:Denmark
CATEGORIES:Svømmehal
END:VEVENT
BEGIN:VEVENT
DTSTART;TZID=Europe/Copenhagen:20290516T080000
DTEND;TZID=Europe/Copenhagen:20290516T084500
DTSTAMP:20260425T180049
CREATED:20260423T081436Z
LAST-MODIFIED:20260423T081436Z
UID:10025387-1873612800-1873615500@gigantium.dk
SUMMARY:Aquafit
DESCRIPTION:
URL:https://gigantium.dk/event/aquafit-5/2029-05-16/
LOCATION:Denmark
CATEGORIES:Svømmehal
END:VEVENT
BEGIN:VEVENT
DTSTART;TZID=Europe/Copenhagen:20290521T081000
DTEND;TZID=Europe/Copenhagen:20290521T085500
DTSTAMP:20260425T180049
CREATED:20260423T081750Z
LAST-MODIFIED:20260423T081952Z
UID:10024827-1874045400-1874048100@gigantium.dk
SUMMARY:Aquafit
DESCRIPTION:
URL:https://gigantium.dk/event/aquafit-2-2/2029-05-21/
LOCATION:Denmark
CATEGORIES:Svømmehal
END:VEVENT
BEGIN:VEVENT
DTSTART;TZID=Europe/Copenhagen:20290523T080000
DTEND;TZID=Europe/Copenhagen:20290523T084500
DTSTAMP:20260425T180049
CREATED:20260423T081436Z
LAST-MODIFIED:20260423T081436Z
UID:10025388-1874217600-1874220300@gigantium.dk
SUMMARY:Aquafit
DESCRIPTION:
URL:https://gigantium.dk/event/aquafit-5/2029-05-23/
LOCATION:Denmark
CATEGORIES:Svømmehal
END:VEVENT
BEGIN:VEVENT
DTSTART;TZID=Europe/Copenhagen:20290528T081000
DTEND;TZID=Europe/Copenhagen:20290528T085500
DTSTAMP:20260425T180049
CREATED:20260423T081750Z
LAST-MODIFIED:20260423T081952Z
UID:10024828-1874650200-1874652900@gigantium.dk
SUMMARY:Aquafit
DESCRIPTION:
URL:https://gigantium.dk/event/aquafit-2-2/2029-05-28/
LOCATION:Denmark
CATEGORIES:Svømmehal
END:VEVENT
BEGIN:VEVENT
DTSTART;TZID=Europe/Copenhagen:20290530T080000
DTEND;TZID=Europe/Copenhagen:20290530T084500
DTSTAMP:20260425T180049
CREATED:20260423T081436Z
LAST-MODIFIED:20260423T081436Z
UID:10025389-1874822400-1874825100@gigantium.dk
SUMMARY:Aquafit
DESCRIPTION:
URL:https://gigantium.dk/event/aquafit-5/2029-05-30/
LOCATION:Denmark
CATEGORIES:Svømmehal
END:VEVENT
END:VCALENDAR