BEGIN:VCALENDAR
VERSION:2.0
PRODID:-//Gigantium - ECPv6.15.16.1//NONSGML v1.0//EN
CALSCALE:GREGORIAN
METHOD:PUBLISH
X-ORIGINAL-URL:https://gigantium.dk
X-WR-CALDESC:Begivenheder for Gigantium
REFRESH-INTERVAL;VALUE=DURATION:PT1H
X-Robots-Tag:noindex
X-PUBLISHED-TTL:PT1H
BEGIN:VTIMEZONE
TZID:Europe/Copenhagen
BEGIN:DAYLIGHT
TZOFFSETFROM:+0100
TZOFFSETTO:+0200
TZNAME:CEST
DTSTART:20280326T010000
END:DAYLIGHT
BEGIN:STANDARD
TZOFFSETFROM:+0200
TZOFFSETTO:+0100
TZNAME:CET
DTSTART:20281029T010000
END:STANDARD
BEGIN:DAYLIGHT
TZOFFSETFROM:+0100
TZOFFSETTO:+0200
TZNAME:CEST
DTSTART:20290325T010000
END:DAYLIGHT
BEGIN:STANDARD
TZOFFSETFROM:+0200
TZOFFSETTO:+0100
TZNAME:CET
DTSTART:20291028T010000
END:STANDARD
BEGIN:DAYLIGHT
TZOFFSETFROM:+0100
TZOFFSETTO:+0200
TZNAME:CEST
DTSTART:20300331T010000
END:DAYLIGHT
BEGIN:STANDARD
TZOFFSETFROM:+0200
TZOFFSETTO:+0100
TZNAME:CET
DTSTART:20301027T010000
END:STANDARD
END:VTIMEZONE
BEGIN:VEVENT
DTSTART;TZID=Europe/Copenhagen:20290903T081000
DTEND;TZID=Europe/Copenhagen:20290903T085500
DTSTAMP:20260426T001352
CREATED:20260423T081750Z
LAST-MODIFIED:20260423T081952Z
UID:10024842-1883117400-1883120100@gigantium.dk
SUMMARY:Aquafit
DESCRIPTION:
URL:https://gigantium.dk/event/aquafit-2-2/2029-09-03/
LOCATION:Denmark
CATEGORIES:Svømmehal
END:VEVENT
BEGIN:VEVENT
DTSTART;TZID=Europe/Copenhagen:20290905T080000
DTEND;TZID=Europe/Copenhagen:20290905T084500
DTSTAMP:20260426T001352
CREATED:20260423T081436Z
LAST-MODIFIED:20260423T081436Z
UID:10025403-1883289600-1883292300@gigantium.dk
SUMMARY:Aquafit
DESCRIPTION:
URL:https://gigantium.dk/event/aquafit-5/2029-09-05/
LOCATION:Denmark
CATEGORIES:Svømmehal
END:VEVENT
BEGIN:VEVENT
DTSTART;TZID=Europe/Copenhagen:20290910T081000
DTEND;TZID=Europe/Copenhagen:20290910T085500
DTSTAMP:20260426T001352
CREATED:20260423T081750Z
LAST-MODIFIED:20260423T081952Z
UID:10024843-1883722200-1883724900@gigantium.dk
SUMMARY:Aquafit
DESCRIPTION:
URL:https://gigantium.dk/event/aquafit-2-2/2029-09-10/
LOCATION:Denmark
CATEGORIES:Svømmehal
END:VEVENT
BEGIN:VEVENT
DTSTART;TZID=Europe/Copenhagen:20290912T080000
DTEND;TZID=Europe/Copenhagen:20290912T084500
DTSTAMP:20260426T001352
CREATED:20260423T081436Z
LAST-MODIFIED:20260423T081436Z
UID:10025404-1883894400-1883897100@gigantium.dk
SUMMARY:Aquafit
DESCRIPTION:
URL:https://gigantium.dk/event/aquafit-5/2029-09-12/
LOCATION:Denmark
CATEGORIES:Svømmehal
END:VEVENT
BEGIN:VEVENT
DTSTART;TZID=Europe/Copenhagen:20290917T081000
DTEND;TZID=Europe/Copenhagen:20290917T085500
DTSTAMP:20260426T001352
CREATED:20260423T081750Z
LAST-MODIFIED:20260423T081952Z
UID:10024844-1884327000-1884329700@gigantium.dk
SUMMARY:Aquafit
DESCRIPTION:
URL:https://gigantium.dk/event/aquafit-2-2/2029-09-17/
LOCATION:Denmark
CATEGORIES:Svømmehal
END:VEVENT
BEGIN:VEVENT
DTSTART;TZID=Europe/Copenhagen:20290919T080000
DTEND;TZID=Europe/Copenhagen:20290919T084500
DTSTAMP:20260426T001352
CREATED:20260423T081436Z
LAST-MODIFIED:20260423T081436Z
UID:10025405-1884499200-1884501900@gigantium.dk
SUMMARY:Aquafit
DESCRIPTION:
URL:https://gigantium.dk/event/aquafit-5/2029-09-19/
LOCATION:Denmark
CATEGORIES:Svømmehal
END:VEVENT
BEGIN:VEVENT
DTSTART;TZID=Europe/Copenhagen:20290924T081000
DTEND;TZID=Europe/Copenhagen:20290924T085500
DTSTAMP:20260426T001352
CREATED:20260423T081750Z
LAST-MODIFIED:20260423T081952Z
UID:10024845-1884931800-1884934500@gigantium.dk
SUMMARY:Aquafit
DESCRIPTION:
URL:https://gigantium.dk/event/aquafit-2-2/2029-09-24/
LOCATION:Denmark
CATEGORIES:Svømmehal
END:VEVENT
BEGIN:VEVENT
DTSTART;TZID=Europe/Copenhagen:20290926T080000
DTEND;TZID=Europe/Copenhagen:20290926T084500
DTSTAMP:20260426T001352
CREATED:20260423T081436Z
LAST-MODIFIED:20260423T081436Z
UID:10025406-1885104000-1885106700@gigantium.dk
SUMMARY:Aquafit
DESCRIPTION:
URL:https://gigantium.dk/event/aquafit-5/2029-09-26/
LOCATION:Denmark
CATEGORIES:Svømmehal
END:VEVENT
END:VCALENDAR