BEGIN:VCALENDAR
VERSION:2.0
PRODID:-//Gigantium - ECPv6.15.16.1//NONSGML v1.0//EN
CALSCALE:GREGORIAN
METHOD:PUBLISH
X-WR-CALNAME:Gigantium
X-ORIGINAL-URL:https://gigantium.dk
X-WR-CALDESC:Begivenheder for Gigantium
REFRESH-INTERVAL;VALUE=DURATION:PT1H
X-Robots-Tag:noindex
X-PUBLISHED-TTL:PT1H
BEGIN:VTIMEZONE
TZID:Europe/Copenhagen
BEGIN:DAYLIGHT
TZOFFSETFROM:+0100
TZOFFSETTO:+0200
TZNAME:CEST
DTSTART:20280326T010000
END:DAYLIGHT
BEGIN:STANDARD
TZOFFSETFROM:+0200
TZOFFSETTO:+0100
TZNAME:CET
DTSTART:20281029T010000
END:STANDARD
BEGIN:DAYLIGHT
TZOFFSETFROM:+0100
TZOFFSETTO:+0200
TZNAME:CEST
DTSTART:20290325T010000
END:DAYLIGHT
BEGIN:STANDARD
TZOFFSETFROM:+0200
TZOFFSETTO:+0100
TZNAME:CET
DTSTART:20291028T010000
END:STANDARD
BEGIN:DAYLIGHT
TZOFFSETFROM:+0100
TZOFFSETTO:+0200
TZNAME:CEST
DTSTART:20300331T010000
END:DAYLIGHT
BEGIN:STANDARD
TZOFFSETFROM:+0200
TZOFFSETTO:+0100
TZNAME:CET
DTSTART:20301027T010000
END:STANDARD
END:VTIMEZONE
BEGIN:VEVENT
DTSTART;TZID=Europe/Copenhagen:20291001T081000
DTEND;TZID=Europe/Copenhagen:20291001T085500
DTSTAMP:20260426T013653
CREATED:20260423T081750Z
LAST-MODIFIED:20260423T081952Z
UID:10024846-1885536600-1885539300@gigantium.dk
SUMMARY:Aquafit
DESCRIPTION:
URL:https://gigantium.dk/event/aquafit-2-2/2029-10-01/
LOCATION:Denmark
CATEGORIES:Svømmehal
END:VEVENT
BEGIN:VEVENT
DTSTART;TZID=Europe/Copenhagen:20291003T080000
DTEND;TZID=Europe/Copenhagen:20291003T084500
DTSTAMP:20260426T013653
CREATED:20260423T081436Z
LAST-MODIFIED:20260423T081436Z
UID:10025407-1885708800-1885711500@gigantium.dk
SUMMARY:Aquafit
DESCRIPTION:
URL:https://gigantium.dk/event/aquafit-5/2029-10-03/
LOCATION:Denmark
CATEGORIES:Svømmehal
END:VEVENT
BEGIN:VEVENT
DTSTART;TZID=Europe/Copenhagen:20291008T081000
DTEND;TZID=Europe/Copenhagen:20291008T085500
DTSTAMP:20260426T013653
CREATED:20260423T081750Z
LAST-MODIFIED:20260423T081952Z
UID:10024847-1886141400-1886144100@gigantium.dk
SUMMARY:Aquafit
DESCRIPTION:
URL:https://gigantium.dk/event/aquafit-2-2/2029-10-08/
LOCATION:Denmark
CATEGORIES:Svømmehal
END:VEVENT
BEGIN:VEVENT
DTSTART;TZID=Europe/Copenhagen:20291010T080000
DTEND;TZID=Europe/Copenhagen:20291010T084500
DTSTAMP:20260426T013653
CREATED:20260423T081436Z
LAST-MODIFIED:20260423T081436Z
UID:10025408-1886313600-1886316300@gigantium.dk
SUMMARY:Aquafit
DESCRIPTION:
URL:https://gigantium.dk/event/aquafit-5/2029-10-10/
LOCATION:Denmark
CATEGORIES:Svømmehal
END:VEVENT
BEGIN:VEVENT
DTSTART;TZID=Europe/Copenhagen:20291015T081000
DTEND;TZID=Europe/Copenhagen:20291015T085500
DTSTAMP:20260426T013653
CREATED:20260423T081750Z
LAST-MODIFIED:20260423T081952Z
UID:10024848-1886746200-1886748900@gigantium.dk
SUMMARY:Aquafit
DESCRIPTION:
URL:https://gigantium.dk/event/aquafit-2-2/2029-10-15/
LOCATION:Denmark
CATEGORIES:Svømmehal
END:VEVENT
BEGIN:VEVENT
DTSTART;TZID=Europe/Copenhagen:20291017T080000
DTEND;TZID=Europe/Copenhagen:20291017T084500
DTSTAMP:20260426T013653
CREATED:20260423T081436Z
LAST-MODIFIED:20260423T081436Z
UID:10025409-1886918400-1886921100@gigantium.dk
SUMMARY:Aquafit
DESCRIPTION:
URL:https://gigantium.dk/event/aquafit-5/2029-10-17/
LOCATION:Denmark
CATEGORIES:Svømmehal
END:VEVENT
BEGIN:VEVENT
DTSTART;TZID=Europe/Copenhagen:20291022T081000
DTEND;TZID=Europe/Copenhagen:20291022T085500
DTSTAMP:20260426T013653
CREATED:20260423T081750Z
LAST-MODIFIED:20260423T081952Z
UID:10024849-1887351000-1887353700@gigantium.dk
SUMMARY:Aquafit
DESCRIPTION:
URL:https://gigantium.dk/event/aquafit-2-2/2029-10-22/
LOCATION:Denmark
CATEGORIES:Svømmehal
END:VEVENT
BEGIN:VEVENT
DTSTART;TZID=Europe/Copenhagen:20291024T080000
DTEND;TZID=Europe/Copenhagen:20291024T084500
DTSTAMP:20260426T013653
CREATED:20260423T081436Z
LAST-MODIFIED:20260423T081436Z
UID:10025410-1887523200-1887525900@gigantium.dk
SUMMARY:Aquafit
DESCRIPTION:
URL:https://gigantium.dk/event/aquafit-5/2029-10-24/
LOCATION:Denmark
CATEGORIES:Svømmehal
END:VEVENT
BEGIN:VEVENT
DTSTART;TZID=Europe/Copenhagen:20291029T081000
DTEND;TZID=Europe/Copenhagen:20291029T085500
DTSTAMP:20260426T013653
CREATED:20260423T081750Z
LAST-MODIFIED:20260423T081952Z
UID:10024850-1887955800-1887958500@gigantium.dk
SUMMARY:Aquafit
DESCRIPTION:
URL:https://gigantium.dk/event/aquafit-2-2/2029-10-29/
LOCATION:Denmark
CATEGORIES:Svømmehal
END:VEVENT
BEGIN:VEVENT
DTSTART;TZID=Europe/Copenhagen:20291031T080000
DTEND;TZID=Europe/Copenhagen:20291031T084500
DTSTAMP:20260426T013653
CREATED:20260423T081436Z
LAST-MODIFIED:20260423T081436Z
UID:10025411-1888128000-1888130700@gigantium.dk
SUMMARY:Aquafit
DESCRIPTION:
URL:https://gigantium.dk/event/aquafit-5/2029-10-31/
LOCATION:Denmark
CATEGORIES:Svømmehal
END:VEVENT
END:VCALENDAR