BEGIN:VCALENDAR
VERSION:2.0
PRODID:-//Gigantium - ECPv6.15.16.1//NONSGML v1.0//EN
CALSCALE:GREGORIAN
METHOD:PUBLISH
X-ORIGINAL-URL:https://gigantium.dk
X-WR-CALDESC:Begivenheder for Gigantium
REFRESH-INTERVAL;VALUE=DURATION:PT1H
X-Robots-Tag:noindex
X-PUBLISHED-TTL:PT1H
BEGIN:VTIMEZONE
TZID:Europe/Copenhagen
BEGIN:DAYLIGHT
TZOFFSETFROM:+0100
TZOFFSETTO:+0200
TZNAME:CEST
DTSTART:20280326T010000
END:DAYLIGHT
BEGIN:STANDARD
TZOFFSETFROM:+0200
TZOFFSETTO:+0100
TZNAME:CET
DTSTART:20281029T010000
END:STANDARD
BEGIN:DAYLIGHT
TZOFFSETFROM:+0100
TZOFFSETTO:+0200
TZNAME:CEST
DTSTART:20290325T010000
END:DAYLIGHT
BEGIN:STANDARD
TZOFFSETFROM:+0200
TZOFFSETTO:+0100
TZNAME:CET
DTSTART:20291028T010000
END:STANDARD
BEGIN:DAYLIGHT
TZOFFSETFROM:+0100
TZOFFSETTO:+0200
TZNAME:CEST
DTSTART:20300331T010000
END:DAYLIGHT
BEGIN:STANDARD
TZOFFSETFROM:+0200
TZOFFSETTO:+0100
TZNAME:CET
DTSTART:20301027T010000
END:STANDARD
END:VTIMEZONE
BEGIN:VEVENT
DTSTART;TZID=Europe/Copenhagen:20291203T081000
DTEND;TZID=Europe/Copenhagen:20291203T085500
DTSTAMP:20260426T042815
CREATED:20260423T081750Z
LAST-MODIFIED:20260423T081952Z
UID:10024855-1890979800-1890982500@gigantium.dk
SUMMARY:Aquafit
DESCRIPTION:
URL:https://gigantium.dk/event/aquafit-2-2/2029-12-03/
LOCATION:Denmark
CATEGORIES:Svømmehal
END:VEVENT
BEGIN:VEVENT
DTSTART;TZID=Europe/Copenhagen:20291205T080000
DTEND;TZID=Europe/Copenhagen:20291205T084500
DTSTAMP:20260426T042815
CREATED:20260423T081436Z
LAST-MODIFIED:20260423T081436Z
UID:10025416-1891152000-1891154700@gigantium.dk
SUMMARY:Aquafit
DESCRIPTION:
URL:https://gigantium.dk/event/aquafit-5/2029-12-05/
LOCATION:Denmark
CATEGORIES:Svømmehal
END:VEVENT
BEGIN:VEVENT
DTSTART;TZID=Europe/Copenhagen:20291210T081000
DTEND;TZID=Europe/Copenhagen:20291210T085500
DTSTAMP:20260426T042815
CREATED:20260423T081750Z
LAST-MODIFIED:20260423T081952Z
UID:10024856-1891584600-1891587300@gigantium.dk
SUMMARY:Aquafit
DESCRIPTION:
URL:https://gigantium.dk/event/aquafit-2-2/2029-12-10/
LOCATION:Denmark
CATEGORIES:Svømmehal
END:VEVENT
BEGIN:VEVENT
DTSTART;TZID=Europe/Copenhagen:20291212T080000
DTEND;TZID=Europe/Copenhagen:20291212T084500
DTSTAMP:20260426T042815
CREATED:20260423T081436Z
LAST-MODIFIED:20260423T081436Z
UID:10025417-1891756800-1891759500@gigantium.dk
SUMMARY:Aquafit
DESCRIPTION:
URL:https://gigantium.dk/event/aquafit-5/2029-12-12/
LOCATION:Denmark
CATEGORIES:Svømmehal
END:VEVENT
BEGIN:VEVENT
DTSTART;TZID=Europe/Copenhagen:20291217T081000
DTEND;TZID=Europe/Copenhagen:20291217T085500
DTSTAMP:20260426T042815
CREATED:20260423T081750Z
LAST-MODIFIED:20260423T081952Z
UID:10024857-1892189400-1892192100@gigantium.dk
SUMMARY:Aquafit
DESCRIPTION:
URL:https://gigantium.dk/event/aquafit-2-2/2029-12-17/
LOCATION:Denmark
CATEGORIES:Svømmehal
END:VEVENT
BEGIN:VEVENT
DTSTART;TZID=Europe/Copenhagen:20291219T080000
DTEND;TZID=Europe/Copenhagen:20291219T084500
DTSTAMP:20260426T042815
CREATED:20260423T081436Z
LAST-MODIFIED:20260423T081436Z
UID:10025418-1892361600-1892364300@gigantium.dk
SUMMARY:Aquafit
DESCRIPTION:
URL:https://gigantium.dk/event/aquafit-5/2029-12-19/
LOCATION:Denmark
CATEGORIES:Svømmehal
END:VEVENT
BEGIN:VEVENT
DTSTART;TZID=Europe/Copenhagen:20291224T081000
DTEND;TZID=Europe/Copenhagen:20291224T085500
DTSTAMP:20260426T042815
CREATED:20260423T081750Z
LAST-MODIFIED:20260423T081952Z
UID:10024858-1892794200-1892796900@gigantium.dk
SUMMARY:Aquafit
DESCRIPTION:
URL:https://gigantium.dk/event/aquafit-2-2/2029-12-24/
LOCATION:Denmark
CATEGORIES:Svømmehal
END:VEVENT
BEGIN:VEVENT
DTSTART;TZID=Europe/Copenhagen:20291226T080000
DTEND;TZID=Europe/Copenhagen:20291226T084500
DTSTAMP:20260426T042815
CREATED:20260423T081436Z
LAST-MODIFIED:20260423T081436Z
UID:10025419-1892966400-1892969100@gigantium.dk
SUMMARY:Aquafit
DESCRIPTION:
URL:https://gigantium.dk/event/aquafit-5/2029-12-26/
LOCATION:Denmark
CATEGORIES:Svømmehal
END:VEVENT
BEGIN:VEVENT
DTSTART;TZID=Europe/Copenhagen:20291231T081000
DTEND;TZID=Europe/Copenhagen:20291231T085500
DTSTAMP:20260426T042815
CREATED:20260423T081750Z
LAST-MODIFIED:20260423T081952Z
UID:10024859-1893399000-1893401700@gigantium.dk
SUMMARY:Aquafit
DESCRIPTION:
URL:https://gigantium.dk/event/aquafit-2-2/2029-12-31/
LOCATION:Denmark
CATEGORIES:Svømmehal
END:VEVENT
END:VCALENDAR